BEGIN:VCALENDAR
VERSION:2.0
PRODID:-//NTNU Energy//ETW 2026//EN
CALSCALE:GREGORIAN
METHOD:PUBLISH
BEGIN:VEVENT
UID:proof-persuasion-manipulation-20260316@ntnu.no
DTSTAMP:20260126T130000Z
DTSTART:20260316T130000
DTEND:20260316T160000
SUMMARY:Proof, Persuasion, and Manipulation in the Climate Challenge
DESCRIPTION:https://www.ntnu.edu/energytransition/evidens-informasjon-og-kommunikasjon-i-klimasaker
LOCATION:Studentersamfundet, Trondheim
END:VEVENT
END:VCALENDAR
