{"text_format":"1","workbook":"xlsx","n_sheets":16,"sheets":["Info","MainPage","Log","Emission factors","KPIResults","Initial","Transport Input Data","PeakDayData","Test","EnergyPerformanceData","LocalEnergySupplyData","Testsheet","Kontroll","Lists","KPIs summary list","KPI 1"],"not_rendered":{"charts":1,"images":0,"macros":1,"external_links":1,"defined_names":123,"comments":3,"pivot_tables":0},"unopened":[],"bounds":{"document_bytes":16777216,"sheet_cells":100000,"rows_first":2000,"rows_last":500,"rows_between":2000,"halvings":0,"cell_chars":16384,"cell_head_chars":4096},"cells_cut":0,"cells_raw":0,"read":"whole","date_system":"1900"}

{"sheet":"Info","index":0,"n_rows":0,"n_cols":0,"rows_kept":0,"cut":false,"hidden":false,"merged":[]}

{"sheet":"MainPage","index":1,"n_rows":28,"n_cols":9,"rows_kept":28,"cut":false,"hidden":false,"merged":[]}
["PI-SEC Scenario Calculator","Front Page"]
["Neighbourhood:"]
["V30.10.19"]
["Climate Zone","1. Sør-Norge, innland"]
[]
["KEY DATA","Now","End of project"]
["Project timeframe"]
["Area"]
["Population",0]
["Number of jobs",0]
["Area of buildings (m2 BRA)",0]
["Number of buildings",0]
[]
["GOALS","KPI","Category","Sub category","Sector","Unit","Comparison","Relative to","Goal at EoP"]
[]
[]
[]
[]
["Menu"]
[]
[]
[]
[]
[]
[]
[]
["Scenarioes"]
["Initial"]

{"sheet":"Log","index":2,"n_rows":1,"n_cols":5,"rows_kept":1,"cut":false,"hidden":false,"merged":[]}
["Date","Change","From","To","Comment"]

{"sheet":"Emission factors","index":3,"n_rows":13,"n_cols":2,"rows_kept":13,"cut":false,"hidden":false,"merged":[[0,0,0,1]]}
["Emission Factors"]
["Energy Sources","Emissions [gCO2/kWh]"]
["Electricity",123]
["Solar Thermal",0]
["Firewood",14]
["Wood Chips",14]
["Pellets",25]
["Bio-oil",25]
["Bio-gas",10]
["Waste",138]
["Fossile oil",315]
["LPG",304]
["Natural Gas",255]

{"sheet":"KPIResults","index":4,"n_rows":332,"n_cols":7,"rows_kept":332,"cut":false,"hidden":true,"merged":[]}
["Scenario",null,null,null,null,null,"Initial"]
[]
["Key Data",null,"Category","Sub-Category","Sectors","Unit"]
["Year",null,null,null,null,null,2018]
["Population",null,null,null,null,"#",0]
["Number of jobs",null,null,null,null,"#",0]
["Other Users",null,null,null,null,"#",0]
["Building area",null,null,null,"Total","m2",0]
[null,null,null,null,"Residential buildings","m2",0]
[null,null,null,null,"Public buildings","m2",0]
[null,null,null,null,"Private buildings","m2",0]
["Number of buildings",null,null,null,"Total","#",0]
[null,null,null,null,"Residential buildings","#",0]
[null,null,null,null,"Public buildings","#",0]
[null,null,null,null,"Private buildings","#",0]
[]
["KPI",null,"Category","Sub-Category","Sectors","Unit"]
["Energy Use",null,"Total","Total stationary","Total","kWh",0]
[null,null,null,null,"Residential buildings","kWh",0]
[null,null,null,null,"Public buildings","kWh",0]
[null,null,null,null,"Private buildings","kWh",0]
[null,null,null,null,"Street Utilities","kWh",0]
[null,null,null,"Total stationary and mobility","Total",null,0]
[null,null,null,null,"Residential buildings",null,0]
[null,null,null,null,"Public buildings",null,0]
[null,null,null,null,"Private buildings",null,0]
[null,null,null,null,"Street Utilities",null,0]
[null,null,null,null,"Transport",null,0]
[null,null,"Electric","Total stationary","Total","kWh",0]
[null,null,null,null,"Residential buildings","kWh",0]
[null,null,null,null,"Public buildings","kWh",0]
[null,null,null,null,"Private buildings","kWh",0]
[null,null,null,null,"Street Utilities","kWh",0]
[null,null,null,"Total stationary and mobility","Total","kWh",0]
[null,null,null,null,"Residential buildings","kWh",0]
[null,null,null,null,"Public buildings","kWh",0]
[null,null,null,null,"Private buildings","kWh",0]
[null,null,null,null,"Street Utilities","kWh",0]
[null,null,null,null,"Transport","kWh",0]
[null,null,null,"Buildings","Total","kWh",0]
[null,null,null,null,"Residential buildings","kWh",0]
[null,null,null,null,"Public buildings","kWh",0]
[null,null,null,null,"Private buildings","kWh",0]
[null,null,null,"Street Utilities","Total","kWh",0]
[null,null,null,null,"Outdoor lighting","kWh",0]
[null,null,null,null,"Other","kWh",0]
[null,null,null,"Transport","Total","kWh",0]
[null,null,null,null,"Private car","kWh",0]
[null,null,null,null,"Public transport","kWh",0]
[null,null,null,null,"Goods","kWh",0]
[null,null,"Thermal","Total stationary","Total","kWh",0]
[null,null,null,null,"Solar","kWh",0]
[null,null,null,null,"Biofuel","kWh",0]
[null,null,null,null,"Oil","kWh",0]
[null,null,null,null,"Gas","kWh",0]
[null,null,null,null,"District heating","kWh",0]
[null,null,null,"Total stationary and mobility","Total",null,0]
[null,null,null,null,"Solar",null,0]
[null,null,null,null,"Biofuel",null,0]
[null,null,null,null,"Oil",null,0]
[null,null,null,null,"Gas",null,0]
[null,null,null,null,"District heating",null,0]
[null,null,null,null,"Fossil fuels",null,0]
[null,null,null,"Residential Buildings","Total","kWh",0]
[null,null,null,null,"Solar","kWh",0]
[null,null,null,null,"Biofuel","kWh",0]
[null,null,null,null,"Oil","kWh",0]
[null,null,null,null,"Gas","kWh",0]
[null,null,null,null,"District heating","kWh",0]
[null,null,null,"Public Buildings","Total","kWh",0]
[null,null,null,null,"Solar","kWh",0]
[null,null,null,null,"Biofuel","kWh",0]
[null,null,null,null,"Oil","kWh",0]
[null,null,null,null,"Gas","kWh",0]
[null,null,null,null,"District heating","kWh",0]
[null,null,null,"Private Buildings","Total","kWh",0]
[null,null,null,null,"Solar","kWh",0]
[null,null,null,null,"Biofuel","kWh",0]
[null,null,null,null,"Oil","kWh",0]
[null,null,null,null,"Gas","kWh",0]
[null,null,null,null,"District heating","kWh",0]
[null,null,null,"Street Utilities","Total","kWh",0]
[null,null,null,null,"Solar","kWh",0]
[null,null,null,null,"Biofuel","kWh",0]
[null,null,null,null,"Oil","kWh",0]
[null,null,null,null,"Gas","kWh",0]
[null,null,null,null,"District heating","kWh",0]
[null,null,null,"Transport","Fossil fuels","kWh",0]
[null,null,null,"Private car","Fossil fuels","kWh",0]
[null,null,null,"Public transport","Fossil fuels","kWh",0]
[null,null,null,"Goods","Fossil fuels","kWh",0]
["Net energy demand in buildings",null,"Total net demand","Total","Total","kWh",0]
[null,null,null,null,"Heating","kWh",0]
[null,null,null,null,"Hot water","kWh",0]
[null,null,null,null,"Cooling","kWh",0]
[null,null,null,null,"Electric","kWh",0]
[null,null,null,"Residential Buildings","Total","kWh",0]
[null,null,null,null,"Heating","kWh",0]
[null,null,null,null,"Hot water","kWh",0]
[null,null,null,null,"Cooling","kWh",0]
[null,null,null,null,"Electric","kWh",0]
[null,null,null,"Public Buildings","Total","kWh",0]
[null,null,null,null,"Heating","kWh",0]
[null,null,null,null,"Hot water","kWh",0]
[null,null,null,null,"Cooling","kWh",0]
[null,null,null,null,"Electric","kWh",0]
[null,null,null,"Private Buildings","Total","kWh",0]
[null,null,null,null,"Heating","kWh",0]
[null,null,null,null,"Hot water","kWh",0]
[null,null,null,null,"Cooling","kWh",0]
[null,null,null,null,"Electric","kWh",0]
["% of energy sources delivering to district heating system",null,"Total",null,null,"%",30]
[null,null,"Electricity",null,null,"%",28.999999999999996]
[null,null,"Surplus and Ambient Heat",null,null,"%",0]
[null,null,"Solar",null,null,"%",0]
[null,null,"Biofuel",null,null,"%",30]
[null,null,"Waste",null,null,"%",40]
[null,null,"Oil",null,null,"%",1]
[null,null,"Gas",null,null,"%",0]
["% of buildings with Energy Certificate at each of the grades",null,"Total registered",null,null,"%",0]
[null,null,"Certificate A",null,null,"%",0]
[null,null,"Certificate B",null,null,"%",0]
[null,null,"Certificate C",null,null,"%",0]
[null,null,"Certificate D",null,null,"%",0]
[null,null,"Certificate E",null,null,"%",0]
[null,null,"Certificate F",null,null,"%",0]
[null,null,"Certificate G",null,null,"%",0]
[null,null,"Not registered",null,null,"%",0]
["% of buildings with measurement values for energy performance",null,null,null,"Total","%",0]
[null,null,null,null,"Residential buildings","%",0]
[null,null,null,null,"Public buildings","%",0]
[null,null,null,null,"Private buildings","%",0]
["Installed capacity of RES",null,"Total","Total",null,"kW",0]
[null,null,null,"Solar",null,"kW",0]
[null,null,null,"CHP Waste",null,"kW",0]
[null,null,null,"CHP Biomass",null,"kW",0]
[null,null,"Electric","Total",null,"kW",0]
[null,null,null,"Solar",null,"kW",0]
[null,null,null,"CHP Waste",null,"kW",0]
[null,null,null,"CHP Biomass",null,"kW",0]
[null,null,"Thermal","Total",null,"kW",0]
[null,null,null,"Solar",null,"kW",0]
[null,null,null,"CHP Waste",null,"kW",0]
[null,null,null,"CHP Biomass",null,"kW",0]
["Generated energy by RES",null,"Total","Total",null,"kWh",0]
[null,null,null,"Solar",null,"kWh",0]
[null,null,null,"CHP Waste",null,"kWh",0]
[null,null,null,"CHP Biomass",null,"kWh",0]
[null,null,"Electric","Total",null,"kWh",0]
[null,null,null,"Solar",null,"kWh",0]
[null,null,null,"CHP Waste",null,"kWh",0]
[null,null,null,"CHP Biomass",null,"kWh",0]
[null,null,"Thermal","Total",null,"kWh",0]
[null,null,null,"Solar",null,"kWh",0]
[null,null,null,"CHP Waste",null,"kWh",0]
[null,null,null,"CHP Biomass",null,"kWh",0]
["# of buildings with installed solar energy system",null,"Total",null,"Total","#",0]
[null,null,null,null,"Residential buildings","#",0]
[null,null,null,null,"Public buildings","#",0]
[null,null,null,null,"Private buildings","#",0]
[null,null,"Electric",null,"Total","#",0]
[null,null,null,null,"Residential buildings","#",0]
[null,null,null,null,"Public buildings","#",0]
[null,null,null,null,"Private buildings","#",0]
[null,null,"Thermal",null,"Total","#",0]
[null,null,null,null,"Residential buildings","#",0]
[null,null,null,null,"Public buildings","#",0]
[null,null,null,null,"Private buildings","#",0]
["# of buildings connected to a district thermal energy system",null,null,null,"Total","#",0]
[null,null,null,null,"Residential buildings","#",0]
[null,null,null,null,"Public buildings","#",0]
[null,null,null,null,"Private buildings","#",0]
["Modal split",null,"Total",null,null,"%",0]
[null,null,"Bike/Walk",null,null,"%",0]
[null,null,"Fossil free Car",null,null,"%",0]
[null,null,"Fossil fuel Car",null,null,"%",0]
[null,null,"Fossil free Public transport",null,null,"%",0]
[null,null,"Fossil fuel Public transport",null,null,"%",0]
["CO2 emissions",null,"Total",null,null,"tonnes",0]
[null,null,"Stationary Energy","Total","Total","tonnes",0]
[null,null,null,null,"Residential buildings","tonnes",0]
[null,null,null,null,"Public buildings","tonnes",0]
[null,null,null,null,"Private buildings","tonnes",0]
[null,null,null,null,"Street Utilities","tonnes",0]
[null,null,null,null,"Local Energy Plant","tonnes",0]
[null,null,null,"Electricity","Total","tonnes",0]
[null,null,null,null,"Residential buildings","tonnes",0]
[null,null,null,null,"Public buildings","tonnes",0]
[null,null,null,null,"Private buildings","tonnes",0]
[null,null,null,null,"Street Utilities","tonnes",0]
[null,null,null,null,"Local Energy Plant","tonnes",0]
[null,null,null,"Biofuel","Total","tonnes",0]
[null,null,null,null,"Residential buildings","tonnes",0]
[null,null,null,null,"Public buildings","tonnes",0]
[null,null,null,null,"Private buildings","tonnes",0]
[null,null,null,null,"Street Utilities","tonnes",0]
[null,null,null,"Fossile fuel","Total","tonnes",0]
[null,null,null,null,"Residential buildings","tonnes",0]
[null,null,null,null,"Public buildings","tonnes",0]
[null,null,null,null,"Private buildings","tonnes",0]
[null,null,null,null,"Street Utilities","tonnes",0]
[null,null,null,"District heating","Total","tonnes",0]
[null,null,null,null,"Residential buildings","tonnes",0]
[null,null,null,null,"Public buildings","tonnes",0]
[null,null,null,null,"Private buildings","tonnes",0]
[null,null,null,null,"Street Utilities","tonnes",0]
[null,null,null,null,"Local Energy Plant","tonnes",0]
[null,null,"Mobility",null,"Total","tonnes",0]
[null,null,null,null,"Private cars","tonnes",0]
[null,null,null,null,"Public transport","tonnes",0]
[null,null,null,null,"Goods transport","tonnes",0]
[null,null,"Materials",null,"Total","tonnes",0]
[null,null,null,null,"Residential buildings","tonnes",0]
[null,null,null,null,"Public buildings","tonnes",0]
[null,null,null,null,"Private buildings","tonnes",0]
["# fossil free construction sites",null,"Both Construction Machines, Transportation and thermal energy",null,"Total","#",0]
[null,null,null,null,"Residential buildings","#",0]
[null,null,null,null,"Public buildings","#",0]
[null,null,null,null,"Private buildings","#",0]
[null,null,"Construction Machines and Transportation",null,"Total","#",0]
[null,null,null,null,"Residential buildings","#",0]
[null,null,null,null,"Public buildings","#",0]
[null,null,null,null,"Private buildings","#",0]
[null,null,"Thermal energy",null,"Total","#",0]
[null,null,null,null,"Residential buildings","#",0]
[null,null,null,null,"Public buildings","#",0]
[null,null,null,null,"Private buildings","#",0]
["# of registered oil tanks",null,null,null,"Total","#",0]
[null,null,null,null,"Residential buildings","#",0]
[null,null,null,null,"Public buildings","#",0]
[null,null,null,null,"Private buildings","#",0]
["Peak energy use",null,"Electricity",null,null,"kW",0]
[null,null,"District heating",null,null,"kW",0]
["Peak energy demand",null,"Thermal",null,null,"kW",0]
[null,null,"Electric",null,null,"kW",0]
["Hourly profiles coldest day",null,"Category",null,"Hour","Unit"]
["Peak energy use",null,"Electricity",null,0,"kW",0]
[null,null,null,null,1,"kW",0]
[null,null,null,null,2,"kW",0]
[null,null,null,null,3,"kW",0]
[null,null,null,null,4,"kW",0]
[null,null,null,null,5,"kW",0]
[null,null,null,null,6,"kW",0]
[null,null,null,null,7,"kW",0]
[null,null,null,null,8,"kW",0]
[null,null,null,null,9,"kW",0]
[null,null,null,null,10,"kW",0]
[null,null,null,null,11,"kW",0]
[null,null,null,null,12,"kW",0]
[null,null,null,null,13,"kW",0]
[null,null,null,null,14,"kW",0]
[null,null,null,null,15,"kW",0]
[null,null,null,null,16,"kW",0]
[null,null,null,null,17,"kW",0]
[null,null,null,null,18,"kW",0]
[null,null,null,null,19,"kW",0]
[null,null,null,null,20,"kW",0]
[null,null,null,null,21,"kW",0]
[null,null,null,null,22,"kW",0]
[null,null,null,null,23,"kW",0]
["Peak energy use",null,"District heating",null,0,"kW",0]
[null,null,null,null,1,"kW",0]
[null,null,null,null,2,"kW",0]
[null,null,null,null,3,"kW",0]
[null,null,null,null,4,"kW",0]
[null,null,null,null,5,"kW",0]
[null,null,null,null,6,"kW",0]
[null,null,null,null,7,"kW",0]
[null,null,null,null,8,"kW",0]
[null,null,null,null,9,"kW",0]
[null,null,null,null,10,"kW",0]
[null,null,null,null,11,"kW",0]
[null,null,null,null,12,"kW",0]
[null,null,null,null,13,"kW",0]
[null,null,null,null,14,"kW",0]
[null,null,null,null,15,"kW",0]
[null,null,null,null,16,"kW",0]
[null,null,null,null,17,"kW",0]
[null,null,null,null,18,"kW",0]
[null,null,null,null,19,"kW",0]
[null,null,null,null,20,"kW",0]
[null,null,null,null,21,"kW",0]
[null,null,null,null,22,"kW",0]
[null,null,null,null,23,"kW",0]
["Peak energy demand",null,"Thermal",null,0,"kW",0]
[null,null,null,null,1,"kW",0]
[null,null,null,null,2,"kW",0]
[null,null,null,null,3,"kW",0]
[null,null,null,null,4,"kW",0]
[null,null,null,null,5,"kW",0]
[null,null,null,null,6,"kW",0]
[null,null,null,null,7,"kW",0]
[null,null,null,null,8,"kW",0]
[null,null,null,null,9,"kW",0]
[null,null,null,null,10,"kW",0]
[null,null,null,null,11,"kW",0]
[null,null,null,null,12,"kW",0]
[null,null,null,null,13,"kW",0]
[null,null,null,null,14,"kW",0]
[null,null,null,null,15,"kW",0]
[null,null,null,null,16,"kW",0]
[null,null,null,null,17,"kW",0]
[null,null,null,null,18,"kW",0]
[null,null,null,null,19,"kW",0]
[null,null,null,null,20,"kW",0]
[null,null,null,null,21,"kW",0]
[null,null,null,null,22,"kW",0]
[null,null,null,null,23,"kW",0]
["Peak energy demand",null,"Electric",null,0,"kW",0]
[null,null,null,null,1,"kW",0]
[null,null,null,null,2,"kW",0]
[null,null,null,null,3,"kW",0]
[null,null,null,null,4,"kW",0]
[null,null,null,null,5,"kW",0]
[null,null,null,null,6,"kW",0]
[null,null,null,null,7,"kW",0]
[null,null,null,null,8,"kW",0]
[null,null,null,null,9,"kW",0]
[null,null,null,null,10,"kW",0]
[null,null,null,null,11,"kW",0]
[null,null,null,null,12,"kW",0]
[null,null,null,null,13,"kW",0]
[null,null,null,null,14,"kW",0]
[null,null,null,null,15,"kW",0]
[null,null,null,null,16,"kW",0]
[null,null,null,null,17,"kW",0]
[null,null,null,null,18,"kW",0]
[null,null,null,null,19,"kW",0]
[null,null,null,null,20,"kW",0]
[null,null,null,null,21,"kW",0]
[null,null,null,null,22,"kW",0]
[null,null,null,null,23,"kW",0]

{"sheet":"Initial","index":5,"n_rows":67,"n_cols":56,"rows_kept":67,"cut":false,"hidden":false,"merged":[[3,7,3,12],[3,14,3,45],[4,38,4,45],[42,4,42,8],[41,4,41,9],[10,10,10,41],[10,42,10,49],[4,49,4,52],[4,13,4,24],[4,25,4,36]]}
[{"$f":"MainPage!A1","v":"PI-SEC Scenario Calculator"},"Initial Situation",2018]
["Neighbourhood",{"$f":"MainPage!B2","v":0}]
["Buildings"]
[null,null,null,null,null,null,null,"Energy performance",null,null,null,null,null,null,"Thermal Energy supply system",null,null,null,null,null,null,null,null,null,null,null,null,null,null,null,null,null,null,null,null,null,null,null,null,null,null,null,null,null,null,null,"Renewable energy production",null,null,null,null,null,null,"Emission Data","Construction site data"]
[null,null,null,null,null,null,null,null,null,null,null,null,null,"Heating",null,null,null,null,null,null,null,null,null,null,null,"Hot Water",null,null,null,null,null,null,null,null,null,null,null,null,"Cooling",null,null,null,null,null,null,null,"Solar Thermal (surplus)",null,null,"Solar PV (total)",null,null,null,"Materials","Construction Machines","Thermal energy"]
["Building","Category","Year of construction","Area [m2]","Ownership","residents/ employees\n[#]","Res above 13y/ Other Users \n[#]","Energy certificate","Performance\ninput","Heating \n[kWh/m2]","Hot Water\n[kWh/m2]","Cooling\n[kWh/m2]","Electricity\n[kWh/m2]","Source 1","Coverage \n[%] ","Efficiency/COP\n[-]","Share of peak power [%]","Source 2","Coverage \n[%]","Efficiency/COP\n[-]","Share of peak power [%]","Source 3","Coverage \n[%]","Efficiency/COP\n[-]","Share of peak power [%]","Source 1","Coverage \n[%]","Efficiency/ COP [%]","Share of peak power [%]","Source 2","Coverage \n[%]","Efficiency/ COP [%]","Share of peak power [%]","Source 3","Coverage \n[%]","Efficiency/COP\n[%]","Share of peak power [%]","Source 1","Coverage \n[%]","Efficiency/COP\n[-]","Source 2","Coverage \n[%]","Efficiency/COP\n[%]","Source 3","Coverage \n[%]","Efficiency/COP\n[%]","Size\n[m2]","Peak production\n[kWp]","Yearly production \n[kWh]","Size\n[m2]","Input \ntype","Peak production\n[kWp]","Yearly production \n[kWh]","Life cycle emission\n[tCO2 eqv./y]","Fuel","Fuel"]
[]
[null,null,null,null,null,null,null,null,null,0,0,0,0,null,0,0,0,0,null,0]
[]
["Street Utilities"]
["General description",null,null,"Energy performance"]
["Outdoor lighting","Year of installation","# units","Energy performance\nCategory","Energy consumption\n[kWh/unit]"]
[]
[]
["Snow Melt Systems","Year of installation","Size [m2]","Energy performance\nCategory","Energy consumption\n[kWh/m2]","Energy source","Efficiency/COP\n[-]"]
[]
[]
[]
["Local energy plant"]
["Energy Source",null,null,null,"Heating to District Heating system",null,"Cooling to District Cooling system",null,"Electricity to grid"]
["Type","Energy Source","CO2 Emission\n[g/kWh]","Efficiceny\n[%]","Capacity\n[kW]","Production\n[kWh]","Capacity\n[kW]","Production\n[kWh]","Capacity\n[kW]","Production\n[kWh]"]
[]
[]
[]
["District Heating"]
["Energy Source",null,null,null,"Distribution"]
["Heat Source","Coverage [%]","CO2 Emission\n[g/kWh]","Production \nefficiency\n[%]","Distribution\n losses"]
["Electricity",0.28999999999999998,123,0.95,0.1]
["Heat Pump",null,123,3.125,null,null,null,null,"                                                                    "]
["Solar Collector",null,0,1]
["Waste Heat",null,0,0.9]
["Waste Incineration",0.4,11,0.9]
["Wood Chips",0.3,18,0.9]
["Pellets",null,19,0.9]
["Bio-oil",null,10,0.9]
["Bio-gas",null,10,0.9]
["Fossile Oil",0.01,268,0.9]
["LPG",null,235,0.9]
[]
[]
["Transport"]
["Population",null,null,null,"Trip Generation",null,null,null,null,null,"Travel method distribution",null,null,null,null,null,"Location:",null,"Oslo",null,null,null," ",null,null,null,null,null,"Parking Capacity"]
[null,null,null,null,"Users",null,null,null,null,"Other Users","Work",null,null,"Service",null,null,"Private errand",null,null,"Other",null,null,"Average distance",null,"# passengers",null,null,"Public Transport","Factor","Distribution of reduction"]
["Building Category","Area [m2]","residents/ employees\n[#]","Res above 13y/ Other Users \n[#]","Work","Service","Private errand","Utside Service","Goods transport",null,"Walk/bike","Public transport","Car","Walk/bike","Public transport","Car","Walk/bike","Public transport","Car","Walk/bike","Public transport","Car","Public\nTransport","Car","Buss","Rail","Car","% using track","1-0","Walk/\nBike","Public\nTransport","Car sharing"]
["Residential individual housing",{"$f":"SUMIF(BuildingCategoryRange,A45,BuildingAreaRange)","v":0},{"$f":"SUMIF(BuildingCategoryRange,A45,BuildingResidentsRange)","v":0},{"$f":"SUMIF(BuildingCategoryRange,A45,BuildingUserRange)","v":0},0.8,0.1,1,1.7,0.1,0,0.19,0.47,0.34,0.19,0.28999999999999998,0.52,0.42,0.21,0.37,0.43,0.26,0.31,13.8,16,19.399999999999999,15.7,1.3,0.6,{"$f":"NA()","v":{"$error":"#N/A"}},{"$f":"NA()","v":{"$error":"#N/A"}},{"$f":"NA()","v":{"$error":"#N/A"}},{"$f":"NA()","v":{"$error":"#N/A"}}]
["Residential apartment building",0,0,0,0.8,0.1,1,1.7,0.1,0,0.19,0.47,0.34,0.19,0.28999999999999998,0.52,0.42,0.21,0.37,0.43,0.26,0.31,13.8,16,19.399999999999999,15.7,1.3,0.6,{"$f":"NA()","v":{"$error":"#N/A"}},{"$f":"NA()","v":{"$error":"#N/A"}},{"$f":"NA()","v":{"$error":"#N/A"}},{"$f":"NA()","v":{"$error":"#N/A"}}]
["Office building",0,0,0,1.6,0.6,0.2,0.1,0.2,1.43,0.19,0.47,0.34,0.19,0.28999999999999998,0.52,0.42,0.21,0.37,0.43,0.26,0.31,13.8,16,19.399999999999999,15.7,1.3,0.6,1,0.15,0.75,0.1]
["Kindergarten",0,0,0,1.6,0.6,0.2,0.1,0.2,0.79,0.19,0.47,0.34,0.19,0.28999999999999998,0.52,0.42,0.21,0.37,0.43,0.26,0.31,13.8,16,19.399999999999999,15.7,1.3,0.6,1,0.15,0.75,0.1]
["School",0,0,0,1.6,0.6,0.2,0.1,0.2,0.83,0.19,0.47,0.34,0.19,0.28999999999999998,0.52,0.42,0.21,0.37,0.43,0.26,0.31,13.8,16,19.399999999999999,15.7,1.3,0.6,1,0.15,0.75,0.1]
["University/Collage",0,0,0,1.6,0.6,0.2,0.1,0.2,0.83,0.19,0.47,0.34,0.19,0.28999999999999998,0.52,0.42,0.21,0.37,0.43,0.26,0.31,13.8,16,19.399999999999999,15.7,1.3,0.6,1,0.15,0.75,0.1]
["Hospital",0,0,0,1.6,0.6,0.2,0.1,0.2,2,0.19,0.47,0.34,0.19,0.28999999999999998,0.52,0.42,0.21,0.37,0.43,0.26,0.31,13.8,16,19.399999999999999,15.7,1.3,0.6,1,0.15,0.75,0.1]
["Nursing home",0,0,0,1.6,0.6,0.2,0.1,0.2,2,0.19,0.47,0.34,0.19,0.28999999999999998,0.52,0.42,0.21,0.37,0.43,0.26,0.31,13.8,16,19.399999999999999,15.7,1.3,0.6,1,0.15,0.75,0.1]
["Hotel",0,0,0,1.6,0.6,0.2,0.1,0.2,2.4500000000000002,0.19,0.47,0.34,0.19,0.28999999999999998,0.52,0.42,0.21,0.37,0.43,0.26,0.31,13.8,16,19.399999999999999,15.7,1.3,0.6,1,0.15,0.75,0.1]
["Sports Facility",0,0,0,1.6,0.6,0.2,0.1,0.2,0,0.19,0.47,0.34,0.19,0.28999999999999998,0.52,0.42,0.21,0.37,0.43,0.26,0.31,13.8,16,19.399999999999999,15.7,1.3,0.6,1,0.15,0.75,0.1]
["Comercial building",0,0,0,1.6,0.2,0.1,0.1,1,1.65,0.19,0.47,0.34,0.19,0.28999999999999998,0.52,0.42,0.21,0.37,0.43,0.26,0.31,13.8,16,19.399999999999999,15.7,1.3,0.6,1,0.15,0.75,0.1]
["Cultural building",0,0,0,1.6,0.6,0.2,0.1,0.2,1.65,0.19,0.47,0.34,0.19,0.28999999999999998,0.52,0.42,0.21,0.37,0.43,0.26,0.31,13.8,16,19.399999999999999,15.7,1.3,0.6,1,0.15,0.75,0.1]
["Industry/Workshop",0,0,0,1.6,0.2,0.1,0.1,1,0,0.19,0.47,0.34,0.19,0.28999999999999998,0.52,0.42,0.21,0.37,0.43,0.26,0.31,13.8,16,19.399999999999999,15.7,1.3,0.6,1,0.15,0.75,0.1]
[null,null,null,null,{"$error":"#N/A"},{"$error":"#N/A"},{"$error":"#N/A"},{"$error":"#N/A"},{"$error":"#N/A"},{"$error":"#N/A"}]
[null,"Energy intensity",null,"CO2 emission factors",null,"Share of travels"]
["Means of transport","Fossile \n[kwh/vkm]","Electric\n[kWh/vkm]","Fossile \n[g/vkm]","Electric\n[g/vkm]","% Electric"]
["Buss",3.6910324074074068,1.28,1166.3662407407407,157.44,0.01]
["Rail",14.5,2.2000000000000002,4582.0000000000009,270.60000000000002,1]
["Car",0.62648611111111108,0.17,200.61538020833333,20.91,0.06]
["Truck",0.74831944444444431,0.6,236.46894444444445,73.8,0.02]
["Emission boundary:","Direct emissions and fuel production emissions"]
["Fossil rail method:","Diesel train"]
["Electric rail method in standard values:","Metro (Oslo)"]

{"sheet":"Transport Input Data","index":6,"n_rows":213,"n_cols":24,"rows_kept":213,"cut":false,"hidden":true,"merged":[[2,1,2,6],[3,1,3,5],[160,10,160,12],[160,13,160,15],[146,10,146,12],[146,13,146,15]]}
["Transport Data"]
[]
["BuildingCategory","Trip Generation"]
[null,"Users",null,null,null,null,"Other Users"]
[null,"Work","Service","Private errand","Utside Service","Goods transport"]
["Residential individual housing",0.8,0.1,1,1.7,0.1,0]
["Residential apartment building",0.8,0.1,1,1.7,0.1,0]
["Office building",1.6,0.6,0.2,0.1,0.2,1.43]
["Kindergarten",1.6,0.6,0.2,0.1,0.2,0.79]
["School",1.6,0.6,0.2,0.1,0.2,0.83]
["University/Collage",1.6,0.6,0.2,0.1,0.2,0.83]
["Hospital",1.6,0.6,0.2,0.1,0.2,2]
["Nursing home",1.6,0.6,0.2,0.1,0.2,2]
["Hotel",1.6,0.6,0.2,0.1,0.2,2.4500000000000002]
["Sports Facility",1.6,0.6,0.2,0.1,0.2,0]
["Comercial building",1.6,0.2,0.1,0.1,1,1.65]
["Cultural building",1.6,0.6,0.2,0.1,0.2,1.65]
["Industry/Workshop",1.6,0.2,0.1,0.1,1,0]
[]
["Traveling Habit data"]
[null,null,"Travel method distribution",null,null,null,null,null,null,null,null,null,null,null,"Other Travel Data"]
[null,null,"Work",null,null,"Service",null,null,"Private errand",null,null,"Other",null,null,"Average distance",null,"# passengers",null,null,"Public Transport",null,null,"Traveling speeds at road"]
["Oslo",null,"Walk/bike","Public transport","Car","Walk/bike","Public transport","Car","Walk/bike","Public transport","Car","Walk/bike","Public transport","Car","Public\nTransport","Car","Public\nTransport","Rail","Car","% using track",null,null,"% below 50 km/h","% above 50 km/h"]
[null,"Residential individual housing",0.19,0.47,0.34,0.19,0.28999999999999998,0.52,0.42,0.21,0.37,0.43,0.26,0.31,13.8,16,19.399999999999999,null,1.3,0.6,null,null,0.5,0.5]
[null,"Residential apartment building",{"$f":"C24","v":0.19},{"$f":"D24","v":0.47},0.34,0.19,0.28999999999999998,0.52,0.42,0.21,0.37,0.43,0.26,0.31,{"$f":"O24","v":13.8},16,19.399999999999999,null,{"$f":"S24","v":1.3},0.6,null,null,{"$f":"W24","v":0.5},0.5]
[null,"Office building",0.19,0.47,0.34,0.19,0.28999999999999998,0.52,0.42,0.21,0.37,0.43,0.26,0.31,{"$f":"O25","v":13.8},16,19.399999999999999,null,{"$f":"S25","v":1.3},0.6,null,null,{"$f":"W25","v":0.5},0.5]
[null,"Kindergarten",{"$f":"C26","v":0.19},{"$f":"D26","v":0.47},0.34,0.19,0.28999999999999998,0.52,0.42,0.21,0.37,0.43,0.26,0.31,{"$f":"O26","v":13.8},16,19.399999999999999,null,{"$f":"S26","v":1.3},0.6,null,null,{"$f":"W26","v":0.5},0.5]
[null,"School",{"$f":"C27","v":0.19},{"$f":"D27","v":0.47},{"$f":"E27","v":0.34},{"$f":"F27","v":0.19},{"$f":"G27","v":0.28999999999999998},{"$f":"H27","v":0.52},{"$f":"I27","v":0.42},{"$f":"J27","v":0.21},{"$f":"K27","v":0.37},{"$f":"L27","v":0.43},{"$f":"M27","v":0.26},{"$f":"N27","v":0.31},{"$f":"O27","v":13.8},16,19.399999999999999,null,{"$f":"S27","v":1.3},0.6,null,null,{"$f":"W27","v":0.5},0.5]
[null,"University/Collage",0.19,0.47,0.34,0.19,0.28999999999999998,0.52,0.42,0.21,0.37,0.43,0.26,0.31,{"$f":"O28","v":13.8},16,19.399999999999999,null,{"$f":"S28","v":1.3},0.6,null,null,{"$f":"W28","v":0.5},0.5]
[null,"Hospital",0.19,0.47,0.34,0.19,0.28999999999999998,0.52,0.42,0.21,0.37,0.43,0.26,0.31,{"$f":"O29","v":13.8},16,19.399999999999999,null,{"$f":"S29","v":1.3},0.6,null,null,{"$f":"W29","v":0.5},0.5]
[null,"Nursing home",0.19,0.47,0.34,0.19,0.28999999999999998,0.52,0.42,0.21,0.37,0.43,0.26,0.31,{"$f":"O30","v":13.8},16,19.399999999999999,null,{"$f":"S30","v":1.3},0.6,null,null,{"$f":"W30","v":0.5},0.5]
[null,"Hotel",0.19,0.47,0.34,0.19,0.28999999999999998,0.52,0.42,0.21,0.37,0.43,0.26,0.31,{"$f":"O31","v":13.8},16,19.399999999999999,null,{"$f":"S31","v":1.3},0.6,null,null,{"$f":"W31","v":0.5},0.5]
[null,"Sports Facility",0.19,0.47,0.34,0.19,0.28999999999999998,0.52,0.42,0.21,0.37,0.43,0.26,0.31,{"$f":"O32","v":13.8},16,19.399999999999999,null,{"$f":"S32","v":1.3},0.6,null,null,{"$f":"W32","v":0.5},0.5]
[null,"Comercial building",0.19,0.47,0.34,0.19,0.28999999999999998,0.52,0.42,0.21,0.37,0.43,0.26,0.31,{"$f":"O33","v":13.8},16,19.399999999999999,null,{"$f":"S33","v":1.3},0.6,null,null,{"$f":"W33","v":0.5},0.5]
[null,"Cultural building",{"$f":"C34","v":0.19},{"$f":"D34","v":0.47},0.34,0.19,0.28999999999999998,0.52,0.42,0.21,0.37,0.43,0.26,0.31,{"$f":"O34","v":13.8},16,19.399999999999999,null,{"$f":"S34","v":1.3},0.6,null,null,{"$f":"W34","v":0.5},0.5]
[null,"Industry/Workshop",{"$f":"C33","v":0.19},{"$f":"D33","v":0.47},0.34,0.19,0.28999999999999998,0.52,0.42,0.21,0.37,0.43,0.26,0.31,{"$f":"O35","v":13.8},16,19.399999999999999,null,{"$f":"S35","v":1.3},0.6,null,null,{"$f":"W35","v":0.5},0.5]
[]
["Oslo, Groruddalen",null,"Walk/bike","Public transport","Car","Walk/bike","Public transport","Car","Walk/bike","Public transport","Car","Walk/bike","Public transport","Car","Public\nTransport","Car","Public\nTransport",null,"Car","% using track",null,null,"% below 50 km/h","% above 50 km/h"]
[null,"Residential individual housing",0.11,0.5,0.39,0.08,0.23,0.69,0.33,0.22,0.45,0.39,0.28000000000000003,0.33,13.8,16,19.399999999999999,null,1.3,0.6,null,null,0.5,0.5]
[null,"Residential apartment building",{"$f":"C39","v":0.11},{"$f":"D39","v":0.5},{"$f":"E39","v":0.39},{"$f":"F39","v":0.08},{"$f":"G39","v":0.23},{"$f":"H39","v":0.69},{"$f":"I39","v":0.33},{"$f":"J39","v":0.22},{"$f":"K39","v":0.45},{"$f":"L39","v":0.39},{"$f":"M39","v":0.28000000000000003},{"$f":"N39","v":0.33},{"$f":"O39","v":13.8},16,19.399999999999999,null,{"$f":"S39","v":1.3},0.6,null,null,{"$f":"W39","v":0.5},0.5]
[null,"Office building",0.09,0.3,0.61,0.08,0.23,0.69,0.33,0.22,0.45,0.39,0.28000000000000003,0.33,{"$f":"O40","v":13.8},16,19.399999999999999,null,{"$f":"S40","v":1.3},0.6,null,null,{"$f":"W40","v":0.5},0.5]
[null,"Kindergarten",{"$f":"C41","v":0.09},{"$f":"D41","v":0.3},{"$f":"E41","v":0.61},{"$f":"F41","v":0.08},{"$f":"G41","v":0.23},{"$f":"H41","v":0.69},{"$f":"I41","v":0.33},{"$f":"J41","v":0.22},{"$f":"K41","v":0.45},{"$f":"L41","v":0.39},{"$f":"M41","v":0.28000000000000003},{"$f":"N41","v":0.33},{"$f":"O41","v":13.8},16,19.399999999999999,null,{"$f":"S41","v":1.3},0.6,null,null,{"$f":"W41","v":0.5},0.5]
[null,"School",{"$f":"C42","v":0.09},0.3,0.61,0.08,0.23,0.69,0.33,0.22,0.45,0.39,0.28000000000000003,0.33,{"$f":"O42","v":13.8},16,19.399999999999999,null,{"$f":"S42","v":1.3},0.6,null,null,{"$f":"W42","v":0.5},0.5]
[null,"University/Collage",0.09,0.3,0.61,0.08,0.23,0.69,0.33,0.22,0.45,0.39,0.28000000000000003,0.33,{"$f":"O43","v":13.8},16,19.399999999999999,null,{"$f":"S43","v":1.3},0.6,null,null,{"$f":"W43","v":0.5},0.5]
[null,"Hospital",0.09,0.3,0.61,0.08,0.23,0.69,0.33,0.22,0.45,0.39,0.28000000000000003,0.33,{"$f":"O44","v":13.8},16,19.399999999999999,null,{"$f":"S44","v":1.3},0.6,null,null,{"$f":"W44","v":0.5},0.5]
[null,"Nursing home",0.09,0.3,0.61,0.08,0.23,0.69,0.33,0.22,0.45,0.39,0.28000000000000003,0.33,{"$f":"O45","v":13.8},16,19.399999999999999,null,{"$f":"S45","v":1.3},0.6,null,null,{"$f":"W45","v":0.5},0.5]
[null,"Hotel",0.09,0.3,0.61,0.08,0.23,0.69,0.33,0.22,0.45,0.39,0.28000000000000003,0.33,{"$f":"O46","v":13.8},16,19.399999999999999,null,{"$f":"S46","v":1.3},0.6,null,null,{"$f":"W46","v":0.5},0.5]
[null,"Sports Facility",0.09,0.3,0.61,0.08,0.23,0.69,0.33,0.22,0.45,0.39,0.28000000000000003,0.33,{"$f":"O47","v":13.8},16,19.399999999999999,null,{"$f":"S47","v":1.3},0.6,null,null,{"$f":"W47","v":0.5},0.5]
[null,"Comercial building",{"$f":"C39","v":0.11},{"$f":"D39","v":0.5},0.39,0.08,0.23,0.69,0.33,0.22,0.45,0.39,0.28000000000000003,0.33,{"$f":"O48","v":13.8},16,19.399999999999999,null,{"$f":"S48","v":1.3},0.6,null,null,{"$f":"W48","v":0.5},0.5]
[null,"Cultural building",{"$f":"C49","v":0.11},{"$f":"D49","v":0.5},{"$f":"E49","v":0.39},{"$f":"F49","v":0.08},{"$f":"G49","v":0.23},{"$f":"H49","v":0.69},{"$f":"I49","v":0.33},{"$f":"J49","v":0.22},{"$f":"K49","v":0.45},{"$f":"L49","v":0.39},{"$f":"M49","v":0.28000000000000003},{"$f":"N49","v":0.33},{"$f":"O49","v":13.8},16,19.399999999999999,null,{"$f":"S49","v":1.3},0.6,null,null,{"$f":"W49","v":0.5},0.5]
[null,"Industry/Workshop",{"$f":"C48","v":0.09},{"$f":"D48","v":0.3},0.61,0.08,0.23,0.69,0.33,0.22,0.45,0.39,0.28000000000000003,0.33,{"$f":"O50","v":13.8},16,19.399999999999999,null,{"$f":"S50","v":1.3},0.6,null,null,{"$f":"W50","v":0.5},0.5]
[]
["Oslo, Groruddalen knutepunkt",null,"Walk/bike","Public transport","Car","Walk/bike","Public transport","Car","Walk/bike","Public transport","Car","Walk/bike","Public transport","Car","Public\nTransport","Car","Public\nTransport",null,"Car","% using track",null,null,"% below 50 km/h","% above 50 km/h"]
[null,"Residential individual housing",0.2,0.5,0.3,0.17,0.28000000000000003,0.55000000000000004,0.46,0.22,0.32,0.44,0.28000000000000003,0.28000000000000003,13.8,16,19.399999999999999,null,1.3,0.6,null,null,0.5,0.5]
[null,"Residential apartment building",{"$f":"C54","v":0.2},{"$f":"D54","v":0.5},{"$f":"E54","v":0.3},{"$f":"F54","v":0.17},{"$f":"G54","v":0.28000000000000003},{"$f":"H54","v":0.55000000000000004},{"$f":"I54","v":0.46},{"$f":"J54","v":0.22},{"$f":"K54","v":0.32},{"$f":"L54","v":0.44},{"$f":"M54","v":0.28000000000000003},{"$f":"N54","v":0.28000000000000003},{"$f":"O54","v":13.8},16,19.399999999999999,null,{"$f":"S54","v":1.3},0.6,null,null,{"$f":"W54","v":0.5},0.5]
[null,"Office building",0.15,0.37,0.48,0.17,0.28000000000000003,0.55000000000000004,0.46,0.22,0.32,0.43,0.25,0.32,{"$f":"O55","v":13.8},16,19.399999999999999,null,{"$f":"S55","v":1.3},0.6,null,null,{"$f":"W55","v":0.5},0.5]
[null,"Kindergarten",{"$f":"C56","v":0.15},{"$f":"D56","v":0.37},{"$f":"E56","v":0.48},{"$f":"F56","v":0.17},{"$f":"G56","v":0.28000000000000003},{"$f":"H56","v":0.55000000000000004},{"$f":"I56","v":0.46},{"$f":"J56","v":0.22},{"$f":"K56","v":0.32},{"$f":"L56","v":0.43},{"$f":"M56","v":0.25},{"$f":"N56","v":0.32},{"$f":"O56","v":13.8},16,19.399999999999999,null,{"$f":"S56","v":1.3},0.6,null,null,{"$f":"W56","v":0.5},0.5]
[null,"School",{"$f":"C57","v":0.15},0.37,0.48,0.17,0.28000000000000003,0.55000000000000004,0.46,0.22,0.32,0.43,0.25,0.32,{"$f":"O57","v":13.8},16,19.399999999999999,null,{"$f":"S57","v":1.3},0.6,null,null,{"$f":"W57","v":0.5},0.5]
[null,"University/Collage",0.15,0.37,0.48,0.17,0.28000000000000003,0.55000000000000004,0.46,0.22,0.32,0.43,0.25,0.32,{"$f":"O58","v":13.8},16,19.399999999999999,null,{"$f":"S58","v":1.3},0.6,null,null,{"$f":"W58","v":0.5},0.5]
[null,"Hospital",0.15,0.37,0.48,0.17,0.28000000000000003,0.55000000000000004,0.46,0.22,0.32,0.43,0.25,0.32,{"$f":"O59","v":13.8},16,19.399999999999999,null,{"$f":"S59","v":1.3},0.6,null,null,{"$f":"W59","v":0.5},0.5]
[null,"Nursing home",0.15,0.37,0.48,0.17,0.28000000000000003,0.55000000000000004,0.46,0.22,0.32,0.43,0.25,0.32,{"$f":"O60","v":13.8},16,19.399999999999999,null,{"$f":"S60","v":1.3},0.6,null,null,{"$f":"W60","v":0.5},0.5]
[null,"Hotel",0.15,0.37,0.48,0.17,0.28000000000000003,0.55000000000000004,0.46,0.22,0.32,0.43,0.25,0.32,{"$f":"O61","v":13.8},16,19.399999999999999,null,{"$f":"S61","v":1.3},0.6,null,null,{"$f":"W61","v":0.5},0.5]
[null,"Sports Facility",0.15,0.37,0.48,0.17,0.28000000000000003,0.55000000000000004,0.46,0.22,0.32,0.43,0.25,0.32,{"$f":"O62","v":13.8},16,19.399999999999999,null,{"$f":"S62","v":1.3},0.6,null,null,{"$f":"W62","v":0.5},0.5]
[null,"Comercial building",{"$f":"C54","v":0.2},{"$f":"D54","v":0.5},0.3,0.17,0.28000000000000003,0.55000000000000004,0.46,0.22,0.32,0.44,0.28000000000000003,0.28000000000000003,{"$f":"O63","v":13.8},16,19.399999999999999,null,{"$f":"S63","v":1.3},0.6,null,null,{"$f":"W63","v":0.5},0.5]
[null,"Cultural building",{"$f":"C64","v":0.2},{"$f":"D64","v":0.5},{"$f":"E64","v":0.3},{"$f":"F64","v":0.17},{"$f":"G64","v":0.28000000000000003},{"$f":"H64","v":0.55000000000000004},{"$f":"I64","v":0.46},{"$f":"J64","v":0.22},{"$f":"K64","v":0.32},{"$f":"L64","v":0.44},{"$f":"M64","v":0.28000000000000003},{"$f":"N64","v":0.28000000000000003},{"$f":"O64","v":13.8},16,19.399999999999999,null,{"$f":"S64","v":1.3},0.6,null,null,{"$f":"W64","v":0.5},0.5]
[null,"Industry/Workshop",{"$f":"C63","v":0.15},{"$f":"D63","v":0.37},0.48,0.17,0.28000000000000003,0.55000000000000004,0.46,0.22,0.32,0.43,0.25,0.32,{"$f":"O65","v":13.8},16,19.399999999999999,null,{"$f":"S65","v":1.3},0.6,null,null,{"$f":"W65","v":0.5},0.5]
[]
["Bergen Kommune",null,"Walk/bike","Public transport","Car","Walk/bike","Public transport","Car","Walk/bike","Public transport","Car","Walk/bike","Public transport","Car","Public\nTransport","Car","Public\nTransport",null,"Car","% using track",null,null,"% below 50 km/h","% above 50 km/h"]
[null,"Residential individual housing",0.27,0.25,0.48,0.09,0.12,0.79,0.41,0.11,0.48,0.32,0.1,0.57999999999999996,12.3,12.9,15,null,1.3,0.2,null,null,0.6,0.4]
[null,"Residential apartment building",{"$f":"C69","v":0.27},{"$f":"D69","v":0.25},0.48,0.09,0.12,0.79,0.41,0.11,0.48,0.32,0.1,0.57999999999999996,{"$f":"O69","v":12.3},12.9,15,null,{"$f":"S69","v":1.3},0.2,null,null,{"$f":"W69","v":0.6},0.4]
[null,"Office building",{"$f":"C70","v":0.27},{"$f":"D70","v":0.25},0.48,0.09,0.12,0.79,0.41,0.11,0.48,0.32,0.1,0.57999999999999996,12.3,12.9,15,null,{"$f":"S70","v":1.3},0.2,null,null,{"$f":"W70","v":0.6},0.4]
[null,"Kindergarten",{"$f":"C71","v":0.27},{"$f":"D71","v":0.25},0.48,0.09,0.12,0.79,0.41,0.11,0.48,0.32,0.1,0.57999999999999996,{"$f":"O71","v":12.3},12.9,15,null,{"$f":"S71","v":1.3},0.2,null,null,{"$f":"W71","v":0.6},0.4]
[null,"School",{"$f":"C72","v":0.27},0.25,0.48,0.09,0.12,0.79,0.41,0.11,0.48,0.32,0.1,0.57999999999999996,{"$f":"O72","v":12.3},12.9,15,null,{"$f":"S72","v":1.3},0.2,null,null,{"$f":"W72","v":0.6},0.4]
[null,"University/Collage",0.27,0.25,0.48,0.09,0.12,0.79,0.41,0.11,0.48,0.32,0.1,0.57999999999999996,{"$f":"O73","v":12.3},12.9,15,null,{"$f":"S73","v":1.3},0.2,null,null,{"$f":"W73","v":0.6},0.4]
[null,"Hospital",0.27,0.25,0.48,0.09,0.12,0.79,0.41,0.11,0.48,0.32,0.1,0.57999999999999996,{"$f":"O74","v":12.3},12.9,15,null,{"$f":"S74","v":1.3},0.2,null,null,{"$f":"W74","v":0.6},0.4]
[null,"Nursing home",0.27,0.25,0.48,0.09,0.12,0.79,0.41,0.11,0.48,0.32,0.1,0.57999999999999996,{"$f":"O75","v":12.3},12.9,15,null,{"$f":"S75","v":1.3},0.2,null,null,{"$f":"W75","v":0.6},0.4]
[null,"Hotel",0.27,0.25,0.48,0.09,0.12,0.79,0.41,0.11,0.48,0.32,0.1,0.57999999999999996,{"$f":"O76","v":12.3},12.9,15,null,{"$f":"S76","v":1.3},0.2,null,null,{"$f":"W76","v":0.6},0.4]
[null,"Sports Facility",0.27,0.25,0.48,0.09,0.12,0.79,0.41,0.11,0.48,0.32,0.1,0.57999999999999996,{"$f":"O77","v":12.3},12.9,15,null,{"$f":"S77","v":1.3},0.2,null,null,{"$f":"W77","v":0.6},0.4]
[null,"Comercial building",{"$f":"C69","v":0.27},{"$f":"D69","v":0.25},0.48,0.09,0.12,0.79,0.41,0.11,0.48,0.32,0.1,0.57999999999999996,{"$f":"O78","v":12.3},12.9,15,null,{"$f":"S78","v":1.3},0.2,null,null,{"$f":"W78","v":0.6},0.4]
[null,"Cultural building",{"$f":"C79","v":0.27},{"$f":"D79","v":0.25},0.48,0.09,0.12,0.79,0.41,0.11,0.48,0.32,0.1,0.57999999999999996,{"$f":"O79","v":12.3},12.9,15,null,{"$f":"S79","v":1.3},0.2,null,null,{"$f":"W79","v":0.6},0.4]
[null,"Industry/Workshop",{"$f":"C78","v":0.27},{"$f":"D78","v":0.25},0.48,0.09,0.12,0.79,0.41,0.11,0.48,0.32,0.1,0.57999999999999996,{"$f":"O80","v":12.3},12.9,15,null,{"$f":"S80","v":1.3},0.2,null,null,{"$f":"W80","v":0.6},0.4]
[]
["Bergen Sentrum",null,"Walk/bike","Public transport","Car","Walk/bike","Public transport","Car","Walk/bike","Public transport","Car","Walk/bike","Public transport","Car","Public\nTransport","Car","Public\nTransport",null,"Car","% using track",null,null,"% below 50 km/h","% above 50 km/h"]
[null,"Residential individual housing",0.4,0.21,0.39,0.09,0.12,0.79,0.51,0.09,0.4,0.32,0.1,0.57999999999999996,12.3,12.3,15,null,1.3,0.2,null,null,0.6,0.4]
[null,"Residential apartment building",{"$f":"C84","v":0.4},{"$f":"D84","v":0.21},0.39,0.09,0.12,0.79,0.51,0.09,0.4,0.32,0.1,0.57999999999999996,{"$f":"O84","v":12.3},12.3,15,null,{"$f":"S84","v":1.3},0.2,null,null,{"$f":"W84","v":0.6},0.4]
[null,"Office building",0.28000000000000003,0.28000000000000003,0.79,0.09,0.12,0.79,0.51,0.09,0.4,0.32,0.1,0.57999999999999996,{"$f":"O85","v":12.3},12.3,15,null,{"$f":"S85","v":1.3},0.2,null,null,{"$f":"W85","v":0.6},0.4]
[null,"Kindergarten",{"$f":"C86","v":0.28000000000000003},{"$f":"D86","v":0.28000000000000003},0.79,0.09,0.12,0.79,0.51,0.09,0.4,0.32,0.1,0.57999999999999996,{"$f":"O86","v":12.3},12.3,15,null,{"$f":"S86","v":1.3},0.2,null,null,{"$f":"W86","v":0.6},0.4]
[null,"School",{"$f":"C87","v":0.28000000000000003},0.28000000000000003,0.79,0.09,0.12,0.79,0.51,0.09,0.4,0.32,0.1,0.57999999999999996,{"$f":"O87","v":12.3},12.3,15,null,{"$f":"S87","v":1.3},0.2,null,null,{"$f":"W87","v":0.6},0.4]
[null,"University/Collage",0.28000000000000003,0.28000000000000003,0.79,0.09,0.12,0.79,0.51,0.09,0.4,0.32,0.1,0.57999999999999996,{"$f":"O88","v":12.3},12.3,15,null,{"$f":"S88","v":1.3},0.2,null,null,{"$f":"W88","v":0.6},0.4]
[null,"Hospital",0.28000000000000003,0.28000000000000003,0.79,0.09,0.12,0.79,0.51,0.09,0.4,0.32,0.1,0.57999999999999996,{"$f":"O89","v":12.3},12.3,15,null,{"$f":"S89","v":1.3},0.2,null,null,{"$f":"W89","v":0.6},0.4]
[null,"Nursing home",0.28000000000000003,0.28000000000000003,0.79,0.09,0.12,0.79,0.51,0.09,0.4,0.32,0.1,0.57999999999999996,{"$f":"O90","v":12.3},12.3,15,null,{"$f":"S90","v":1.3},0.2,null,null,{"$f":"W90","v":0.6},0.4]
[null,"Hotel",0.28000000000000003,0.28000000000000003,0.79,0.09,0.12,0.79,0.51,0.09,0.4,0.32,0.1,0.57999999999999996,{"$f":"O91","v":12.3},12.3,15,null,{"$f":"S91","v":1.3},0.2,null,null,{"$f":"W91","v":0.6},0.4]
[null,"Sports Facility",0.28000000000000003,0.28000000000000003,0.79,0.09,0.12,0.79,0.51,0.09,0.4,0.32,0.1,0.57999999999999996,{"$f":"O92","v":12.3},12.3,15,null,{"$f":"S92","v":1.3},0.2,null,null,{"$f":"W92","v":0.6},0.4]
[null,"Comercial building",{"$f":"C84","v":0.4},{"$f":"D84","v":0.21},0.39,0.09,0.12,0.79,0.51,0.09,0.4,0.32,0.1,0.57999999999999996,{"$f":"O93","v":12.3},12.3,15,null,{"$f":"S93","v":1.3},0.2,null,null,{"$f":"W93","v":0.6},0.4]
[null,"Cultural building",{"$f":"C94","v":0.4},{"$f":"D94","v":0.21},0.39,0.09,0.12,0.79,0.51,0.09,0.4,0.32,0.1,0.57999999999999996,{"$f":"O94","v":12.3},12.3,15,null,{"$f":"S94","v":1.3},0.2,null,null,{"$f":"W94","v":0.6},0.4]
[null,"Industry/Workshop",{"$f":"C93","v":0.28000000000000003},{"$f":"D93","v":0.28000000000000003},0.79,0.09,0.12,0.79,0.51,0.09,0.4,0.32,0.1,0.57999999999999996,{"$f":"O95","v":12.3},12.3,15,null,{"$f":"S95","v":1.3},0.2,null,null,{"$f":"W95","v":0.6},0.4]
[]
["Bergen Kommune, utenfor sentrum",null,"Walk/bike","Public transport","Car","Walk/bike","Public transport","Car","Walk/bike","Public transport","Car","Walk/bike","Public transport","Car","Public\nTransport","Car","Public\nTransport",null,"Car","% using track",null,null,"% below 50 km/h","% above 50 km/h"]
[null,"Residential individual housing",0.12,0.16,0.72,0.09,0.12,0.79,0.17,7.0000000000000007E-2,0.76,0.32,0.1,0.57999999999999996,12.3,12.3,15,null,1.3,0.2,null,null,0.6,0.4]
[null,"Residential apartment building",{"$f":"C99","v":0.12},{"$f":"D99","v":0.16},0.72,0.09,0.12,0.79,0.17,7.0000000000000007E-2,0.76,0.32,0.1,0.57999999999999996,{"$f":"O99","v":12.3},12.3,15,null,{"$f":"S99","v":1.3},0.2,null,null,{"$f":"W99","v":0.6},0.4]
[null,"Office building",{"$f":"C100","v":0.12},{"$f":"D100","v":0.16},0.72,0.09,0.12,0.79,0.17,7.0000000000000007E-2,0.76,0.32,0.1,0.57999999999999996,12.3,12.3,15,null,{"$f":"S100","v":1.3},0.2,null,null,{"$f":"W100","v":0.6},0.4]
[null,"Kindergarten",{"$f":"C101","v":0.12},{"$f":"D101","v":0.16},0.72,0.09,0.12,0.79,0.17,7.0000000000000007E-2,0.76,0.32,0.1,0.57999999999999996,{"$f":"O101","v":12.3},12.3,15,null,{"$f":"S101","v":1.3},0.2,null,null,{"$f":"W101","v":0.6},0.4]
[null,"School",{"$f":"C102","v":0.12},0.16,0.72,0.09,0.12,0.79,0.17,7.0000000000000007E-2,0.76,0.32,0.1,0.57999999999999996,{"$f":"O102","v":12.3},12.3,15,null,{"$f":"S102","v":1.3},0.2,null,null,{"$f":"W102","v":0.6},0.4]
[null,"University/Collage",0.12,0.16,0.72,0.09,0.12,0.79,0.17,7.0000000000000007E-2,0.76,0.32,0.1,0.57999999999999996,{"$f":"O103","v":12.3},12.3,15,null,{"$f":"S103","v":1.3},0.2,null,null,{"$f":"W103","v":0.6},0.4]
[null,"Hospital",0.12,0.16,0.72,0.09,0.12,0.79,0.17,7.0000000000000007E-2,0.76,0.32,0.1,0.57999999999999996,{"$f":"O104","v":12.3},12.3,15,null,{"$f":"S104","v":1.3},0.2,null,null,{"$f":"W104","v":0.6},0.4]
[null,"Nursing home",0.12,0.16,0.72,0.09,0.12,0.79,0.17,7.0000000000000007E-2,0.76,0.32,0.1,0.57999999999999996,{"$f":"O105","v":12.3},12.3,15,null,{"$f":"S105","v":1.3},0.2,null,null,{"$f":"W105","v":0.6},0.4]
[null,"Hotel",0.12,0.16,0.72,0.09,0.12,0.79,0.17,7.0000000000000007E-2,0.76,0.32,0.1,0.57999999999999996,{"$f":"O106","v":12.3},12.3,15,null,{"$f":"S106","v":1.3},0.2,null,null,{"$f":"W106","v":0.6},0.4]
[null,"Sports Facility",0.12,0.16,0.72,0.09,0.12,0.79,0.17,7.0000000000000007E-2,0.76,0.32,0.1,0.57999999999999996,{"$f":"O107","v":12.3},12.3,15,null,{"$f":"S107","v":1.3},0.2,null,null,{"$f":"W107","v":0.6},0.4]
[null,"Comercial building",{"$f":"C99","v":0.12},{"$f":"D99","v":0.16},0.72,0.09,0.12,0.79,0.17,7.0000000000000007E-2,0.76,0.32,0.1,0.57999999999999996,{"$f":"O108","v":12.3},12.3,15,null,{"$f":"S108","v":1.3},0.2,null,null,{"$f":"W108","v":0.6},0.4]
[null,"Cultural building",{"$f":"C109","v":0.12},{"$f":"D109","v":0.16},0.72,0.09,0.12,0.79,0.17,7.0000000000000007E-2,0.76,0.32,0.1,0.57999999999999996,{"$f":"O109","v":12.3},12.3,15,null,{"$f":"S109","v":1.3},0.2,null,null,{"$f":"W109","v":0.6},0.4]
[null,"Industry/Workshop",{"$f":"C108","v":0.12},{"$f":"D108","v":0.16},0.72,0.09,0.12,0.79,0.17,7.0000000000000007E-2,0.76,0.32,0.1,0.57999999999999996,{"$f":"O110","v":12.3},12.3,15,null,{"$f":"S110","v":1.3},0.2,null,null,{"$f":"W110","v":0.6},0.4]
[]
[]
[]
["Energy intensity transport"]
["Energy use",null,"Fossile \n[kwh/km]","Electric\n[kWh/km]"]
[null,"Buss",{"$f":"J155","v":3.6910324074074068},{"$f":"J156","v":1.28}]
[null,"Rail",{"$f":"J157","v":14.5},{"$f":"J158","v":2.2000000000000002}]
[null,"Car",{"$f":"J149","v":0.62648611111111108},{"$f":"J152","v":0.17}]
[null,"Truck",{"$f":"J153","v":0.74831944444444431},{"$f":"J154","v":0.6}]
[]
["Emissions transport"]
["Only direct emissions",null,"Fossile \n[g/km]","Electric\n[g/km]"]
[null,"Buss",{"$f":"S155","v":981.81462037037022},{"$f":"S152","v":0}]
[null,"Rail",{"$f":"S157","v":3857},{"$f":"S158","v":0}]
[null,"Car",{"$f":"S149","v":165.45384722222224},{"$f":"S152","v":0}]
[null,"Truck",{"$f":"S153","v":199.05297222222219},{"$f":"S154","v":0}]
[]
["Direct emissions and fuel production emissions",null,"Fossile \n[g/km]","Electric\n[g/km]"]
[null,"Buss",{"$f":"T155","v":1166.3662407407407},{"$f":"T156","v":157.44}]
[null,"Rail",{"$f":"T157","v":4582.0000000000009},{"$f":"T158","v":270.60000000000002}]
[null,"Car",{"$f":"T149","v":200.61538020833333},{"$f":"T152","v":20.91}]
[null,"Truck",{"$f":"T153","v":236.46894444444445},{"$f":"T154","v":73.8}]
[]
["All transport related emissions",null,"Fossile \n[g/km]","Electric\n[g/km]"]
[null,"Buss",{"$f":"U155","v":3166.3662407407405},{"$f":"U156","v":2157.44}]
[null,"Rail",{"$f":"U157","v":4582.0000000000009},{"$f":"U158","v":270.60000000000002}]
[null,"Car",{"$f":"U149","v":293.61538020833331},{"$f":"U152","v":150.91000000000003}]
[null,"Truck",{"$f":"U153","v":2236.4689444444443},{"$f":"U154","v":2073.8000000000002}]
[]
["Self defined - unrelated to standard energy intensity",null,"Fossile \n[g/km]","Electric\n[g/km]"]
[null,"Buss"]
[null,"Rail"]
[null,"Car"]
[null,"Truck"]
[]
[null,"Transport type","Fuel","Road speed","Share diesel fossil car","Drivstofforbruk","Massetetthet","Drivstofforbruk","Energiinnhold drivstoff","Energiintensitet","Direkte utslipp",null,null,"Utslipp produksjon av drivstoff",null,null,"Prod og vedlikehold av kjøretøy","Andre indirekte utslipp","Direct","Direct and production of fuel","All emissions related to transport"]
[null,null,null,null,null,"g/km","kg/L","L/km","kWh/L","kWh/vkm"," kgCO2e/L","kgCO2e/kWh"," kgCO2e/vkm"," kgCO2e/L","kgCO2e/kWh"," kgCO2e/vkm","kgCO2e/vkm"," kgCO2e/vkm","g/vkm","g/vkm","g/vkm"]
["Average road, no biofuel mix","Car","Fossil",null,0.65,{"$f":"F151*$E$149+F150*(1-$E$149)","v":52.45},0.8046511627906977,6.5627256944444434E-2,9.6111111111111107,0.62648611111111108,2.5409999999999999,0.26424999999999998,0.16545384722222223,0.53500000000000003,5.6124999999999994E-2,{"$f":"O149*$J149","v":3.5161532986111105E-2},{"$f":"Q151*$E$149+Q150*(1-$E$149)","v":8.3000000000000004E-2},{"$f":"R151*$E$149+R150*(1-$E$149)","v":0.01},{"$f":"M149*1000","v":165.45384722222224},{"$f":"(M149+P149)*1000","v":200.61538020833333},{"$f":"(M149+P149+Q149+R149)*1000","v":293.61538020833331}]
[null,null,"Gasoline",null,null,57,{"$f":"$D$209","v":0.7441860465116279},{"$f":"F150*1/(G150*1000)","v":7.6593750000000002E-2},{"$f":"$E$209","v":8.8888888888888893},{"$f":"H150*I150","v":0.6808333333333334},{"$f":"$F$209","v":2.3199999999999998},{"$f":"$K150/I150","v":0.26099999999999995},{"$f":"L150*$J150","v":0.17769749999999998},{"$f":"$G$209","v":0.6},{"$f":"$N150/I150","v":6.7499999999999991E-2},4.5956249999999997E-2,8.3000000000000004E-2,0.01,177.69749999999999,223.65374999999997,316.65375]
[null,null,"Diesel",null,null,50,{"$f":"$D$210","v":0.83720930232558144},{"$f":"F151*1/(G151*1000)","v":5.9722222222222218E-2},{"$f":"$E$210","v":10},{"$f":"H151*I151","v":0.59722222222222221},{"$f":"$F$210","v":2.66},{"$f":"$K151/I151","v":0.26600000000000001},{"$f":"L151*$J151","v":0.15886111111111112},{"$f":"$G$210","v":0.5},{"$f":"$N151/I151","v":0.05},2.9861111111111113E-2,8.3000000000000004E-2,0.01,158.86111111111111,188.72222222222223,281.72222222222229]
[null,null,"Electricity",null,null,null,null,null,null,0.17,null,0,null,null,{"$f":"$H$208","v":0.123},2.0910000000000002E-2,0.12,0.01,0,20.91,150.91000000000003]
[null,"Truck","Fossil",null,1,{"$f":"AVERAGE(F190,F191)","v":62.65},{"$f":"$D$210","v":0.83720930232558144},{"$f":"F153*1/(G153*1000)","v":7.4831944444444437E-2},{"$f":"$E$210","v":10},{"$f":"H153*I153","v":0.74831944444444431},{"$f":"$F$210","v":2.66},{"$f":"$K153/I153","v":0.26600000000000001},{"$f":"L153*$J153","v":0.19905297222222221},{"$f":"$G$210","v":0.5},{"$f":"$N153/I153","v":0.05},3.7415972222222219E-2,1,1,199.05297222222219,236.46894444444445,2236.4689444444443]
[null,null,"Electricity",null,null,null,null,null,null,0.6,null,0,null,null,{"$f":"$H$208","v":0.123},7.3799999999999991E-2,1,1,0,73.8,2073.8000000000002]
[null,"Bus","Fossil",null,1,{"$f":"AVERAGE(F196,F197)","v":309.01666666666665},{"$f":"$D$210","v":0.83720930232558144},{"$f":"F155*1/(G155*1000)","v":0.36910324074074069},{"$f":"$E$210","v":10},{"$f":"H155*I155","v":3.6910324074074068},{"$f":"$F$210","v":2.66},{"$f":"$K155/I155","v":0.26600000000000001},{"$f":"L155*$J155","v":0.98181462037037026},{"$f":"$G$210","v":0.5},{"$f":"$N155/I155","v":0.05},0.18455162037037035,1,1,981.81462037037022,1166.3662407407407,3166.3662407407405]
[null,null,"Electricity",null,null,null,null,null,null,1.28,null,0,null,null,{"$f":"$H$208","v":0.123},0.15744,1,1,0,157.44,2157.44]
[null,"Rail",{"$f":"C167","v":"Fossil"},null,null,{"$f":"F167","v":0},{"$f":"G167","v":0},1.45,10,14.5,2.66,0.26600000000000001,3.8570000000000002,0.5,0.05,0.72500000000000009,0,0,3857,4582.0000000000009,4582.0000000000009]
[null,"Metro (Oslo)","Electricity",null,15.7,null,null,null,null,2.2000000000000002,null,0,null,null,0.123,0.27060000000000001,null,null,0,270.60000000000002,270.60000000000002]
[]
[]
[null,"Transport type","Fuel",null,"PERSONBELEGG","Drivstofforbruk","Massetetthet","Drivstofforbruk","Energiinnhold drivstoff","Energiintensitet","Direkte utslipp",null,null,"Utslipp produksjon av drivstoff",null,null,"Prod og vedlikehold av kjøretøy","Andre indirekte utslipp","Direct","Direct and production of fuel","All emissions related to transport"]
[null,null,null,null,null,"g/km","kg/L","L/km","kWh/L","kWh/vkm"," kgCO2e/L","kgCO2e/kWh"," kgCO2e/vkm"," kgCO2e/L","kgCO2e/kWh"," kgCO2e/vkm","kgCO2e/vkm"," kgCO2e/vkm","g/vkm","g/vkm","g/vkm"]
[null,null,"Fossil"]
[null,"Metro (Oslo)","Electricity",null,15.7,null,null,null,null,2.2000000000000002,null,0,null,null,{"$f":"$H$208","v":0.123},{"$f":"O164*$J164","v":0.27060000000000001},null,null,{"$f":"M164*1000","v":0},{"$f":"(M164+P164)*1000","v":270.60000000000002},{"$f":"(M164+P164+Q164+R164)*1000","v":270.60000000000002}]
[null,null,"Fossil"]
[null,"Tram (Oslo)","Electricity",null,37.5,null,null,null,null,5.3,null,0,null,null,{"$f":"$H$208","v":0.123},0.65189999999999992,null,null,0,651.9,651.9]
[null,null,"Fossil",null,47,null,null,1.45,{"$f":"$E$210","v":10},{"$f":"H167*I167","v":14.5},{"$f":"$F$210","v":2.66},{"$f":"$K167/I167","v":0.26600000000000001},{"$f":"L167*$J167","v":3.8570000000000002},{"$f":"$G$210","v":0.5},{"$f":"$N167/I167","v":0.05},0.72500000000000009,null,null,{"$f":"M167*1000","v":3857},{"$f":"(M167+P167)*1000","v":4582.0000000000009},{"$f":"(M167+P167+Q167+R167)*1000","v":4582.0000000000009}]
[null,"Train","Electricity",null,47,null,null,null,null,5.6,null,0,null,null,{"$f":"$H$208","v":0.123},0.68879999999999997,null,null,0,688.8,688.8]
[]
[null,"Car","Gasoline","<50",null,53.3,{"$f":"$D$209","v":0.7441860465116279},{"$f":"F170*1/(G170*1000)","v":7.1621875000000002E-2},{"$f":"$E$209","v":8.8888888888888893},{"$f":"H170*I170","v":0.63663888888888898},{"$f":"$F$209","v":2.3199999999999998},{"$f":"$K170/I170","v":0.26099999999999995},{"$f":"L170*$J170","v":0.16616275},{"$f":"$G$209","v":0.6},{"$f":"$N170/I170","v":6.7499999999999991E-2},4.2973125000000001E-2]
[null,"Rural",null,">=50",null,45.225000000000016,{"$f":"$D$209","v":0.7441860465116279},{"$f":"F171*1/(G171*1000)","v":6.0771093750000026E-2},{"$f":"$E$209","v":8.8888888888888893},{"$f":"H171*I171","v":0.54018750000000026},{"$f":"$F$209","v":2.3199999999999998},0.26099999999999995,0.14098893750000005,{"$f":"$G$209","v":0.6},6.7499999999999991E-2,3.646265625000001E-2]
[null,null,"Diesel","<50",null,45.599999999999994,{"$f":"$D$210","v":0.83720930232558144},{"$f":"F172*1/(G172*1000)","v":5.4466666666666656E-2},{"$f":"$E$210","v":10},{"$f":"H172*I172","v":0.54466666666666652},{"$f":"$F$210","v":2.66},0.26600000000000001,0.14488133333333331,{"$f":"$G$210","v":0.5},0.05,2.7233333333333328E-2]
[null,null,null,">=50",null,37.131250000000001,{"$f":"$D$210","v":0.83720930232558144},{"$f":"F173*1/(G173*1000)","v":4.4351215277777779E-2},{"$f":"$E$210","v":10},{"$f":"H173*I173","v":0.44351215277777778},{"$f":"$F$210","v":2.66},0.26600000000000001,0.1179742326388889,{"$f":"$G$210","v":0.5},0.05,2.217560763888889E-2]
[null,null,"Bioethanol","<50",null,84.885185185185208,{"$f":"$D$212","v":0.77777777777777779},{"$f":"J174/I174","v":0.10913809523809526},{"$f":"$E$212","v":5.833333333333333},{"$f":"J170","v":0.63663888888888898},{"$f":"$F$212","v":0},0,0,{"$f":"$G$212","v":1.5999999999999999},0.2742857142857143,0.1746209523809524]
[null,null,null,">=50",null,72.025000000000048,{"$f":"$D$212","v":0.77777777777777779},{"$f":"J175/I175","v":9.2603571428571479E-2},{"$f":"$E$212","v":5.833333333333333},{"$f":"J171","v":0.54018750000000026},{"$f":"$F$212","v":0},0,0,{"$f":"$G$212","v":1.5999999999999999},0.2742857142857143,0.14816571428571437]
[null,null,"Biodiesel","<50",null,52.994594594594588,{"$f":"$D$211","v":0.89189189189189189},{"$f":"J$176/I$176","v":5.9418181818181807E-2},{"$f":"$E$211","v":9.1666666666666661},{"$f":"J172","v":0.54466666666666652},{"$f":"$F$211","v":0},0,0,{"$f":"$G$211","v":2.3333333333333335},0.25454545454545457,0.13864242424242423]
[null,null,null,">=50",null,43.152533783783788,{"$f":"$D$211","v":0.89189189189189189},{"$f":"J177/I177","v":4.8383143939393941E-2},{"$f":"$E$211","v":9.1666666666666661},{"$f":"J$173","v":0.44351215277777778},{"$f":"$F$211","v":0},0,{"$f":"L$177*$J177","v":0},{"$f":"$G$211","v":2.3333333333333335},0.25454545454545457,{"$f":"$O$177*$J177","v":0.11289400252525254}]
[null,null,"Electricity","<50",null,null,null,null,null,0.17,null,0,{"$f":"L178*$J178","v":0},null,0.123,{"$f":"O178*$J178","v":2.0910000000000002E-2}]
[null,null,null,">=50",null,null,null,null,null,0.17,null,0,0,null,0.123,2.0910000000000002E-2]
[null,"Car","Gasoline","<50",null,58.8,{"$f":"$D$209","v":0.7441860465116279},{"$f":"F180*1/(G180*1000)","v":7.9012499999999999E-2},{"$f":"$E$209","v":8.8888888888888893},{"$f":"H180*I180","v":0.70233333333333337},{"$f":"$F$209","v":2.3199999999999998},{"$f":"$K180/I180","v":0.26099999999999995},0.18330899999999997,{"$f":"$G$209","v":0.6},{"$f":"$N180/I180","v":6.7499999999999991E-2},4.7407499999999998E-2]
[null,"Urban",null,">=50",null,45.237500000000004,{"$f":"$D$209","v":0.7441860465116279},{"$f":"F181*1/(G181*1000)","v":6.0787890625000007E-2},{"$f":"$E$209","v":8.8888888888888893},{"$f":"H181*I181","v":0.54033680555555563},{"$f":"$F$209","v":2.3199999999999998},0.26099999999999995,0.14102790625,{"$f":"$G$209","v":0.6},6.7499999999999991E-2,3.6472734375000003E-2]
[null,null,"Diesel","<50",null,55.2,{"$f":"$D$210","v":0.83720930232558144},{"$f":"F182*1/(G182*1000)","v":6.593333333333333E-2},{"$f":"$E$210","v":10},{"$f":"H182*I182","v":0.65933333333333333},{"$f":"$F$210","v":2.66},0.26600000000000001,0.17538266666666669,{"$f":"$G$210","v":0.5},0.05,3.2966666666666665E-2]
[null,null,null,">=50",null,38.318750000000001,{"$f":"$D$210","v":0.83720930232558144},{"$f":"F183*1/(G183*1000)","v":4.5769618055555551E-2},{"$f":"$E$210","v":10},{"$f":"H183*I183","v":0.4576961805555555},{"$f":"$F$210","v":2.66},0.26600000000000001,0.12174718402777777,{"$f":"$G$210","v":0.5},0.05,2.2884809027777776E-2]
[null,null,"Bioethanol","<50",null,93.644444444444446,{"$f":"$D$212","v":0.77777777777777779},{"$f":"J184/I184","v":0.12040000000000001},{"$f":"$E$212","v":5.833333333333333},{"$f":"J180","v":0.70233333333333337},{"$f":"$F$212","v":0},0,0,{"$f":"$G$212","v":1.5999999999999999},0.2742857142857143,0.19264000000000001]
[null,null,null,">=50",null,72.044907407407422,{"$f":"$D$212","v":0.77777777777777779},{"$f":"J185/I185","v":9.2629166666666679E-2},{"$f":"$E$212","v":5.833333333333333},{"$f":"J181","v":0.54033680555555563},{"$f":"$F$212","v":0},0,0,{"$f":"$G$212","v":1.5999999999999999},0.2742857142857143,0.14820666666666671]
[null,null,"Biodiesel","<50",null,64.151351351351352,{"$f":"$D$211","v":0.89189189189189189},{"$f":"J186/I186","v":7.1927272727272729E-2},{"$f":"$E$211","v":9.1666666666666661},{"$f":"J182","v":0.65933333333333333},{"$f":"$F$211","v":0},0,0,{"$f":"$G$211","v":2.3333333333333335},0.25454545454545457,0.16783030303030305]
[null,null,null,">=50",null,44.532601351351346,{"$f":"$D$211","v":0.89189189189189189},{"$f":"J187/I187","v":4.9930492424242419E-2},{"$f":"$E$211","v":9.1666666666666661},{"$f":"J183","v":0.4576961805555555},{"$f":"$F$211","v":0},0,0,{"$f":"$G$211","v":2.3333333333333335},0.25454545454545457,0.11650448232323232]
[null,null,"Electricity","<50",null,null,null,null,null,0.17,null,0,0,null,0.123,2.0910000000000002E-2]
[null,null,null,">=50",null,null,null,null,null,0.17,null,0,0,null,0.123,2.0910000000000002E-2]
[null,"Light","Diesel","<50",null,65.233333333333334,{"$f":"$D$210","v":0.83720930232558144},{"$f":"F190*1/(G190*1000)","v":7.7917592592592594E-2},{"$f":"$E$210","v":10},{"$f":"H190*I190","v":0.77917592592592588},{"$f":"$F$210","v":2.66},{"$f":"$K190/I190","v":0.26600000000000001},0.20726079629629629,{"$f":"$G$210","v":0.5},{"$f":"$N190/I190","v":0.05},3.8958796296296297E-2]
[null,null,null,">=50",null,60.066666666666663,{"$f":"$D$210","v":0.83720930232558144},{"$f":"F191*1/(G191*1000)","v":7.174629629629628E-2},{"$f":"$E$210","v":10},{"$f":"H191*I191","v":0.71746296296296275},{"$f":"$F$210","v":2.66},{"$f":"$K191/I191","v":0.26600000000000001},0.1908451481481481,{"$f":"$G$210","v":0.5},{"$f":"$N191/I191","v":0.05},3.587314814814814E-2]
[null,null,"Biodiesel","<50",null,76.241311411411431,{"$f":"$D$211","v":0.89189189189189189},{"$f":"J192/I192","v":8.5001010101010105E-2},{"$f":"$E$211","v":9.1666666666666661},{"$f":"J190","v":0.77917592592592588},{"$f":"$F$211","v":0},{"$f":"$K192/I192","v":0},0,{"$f":"$G$211","v":2.3333333333333335},{"$f":"$N192/I192","v":0.25454545454545457},0.19833569023569025]
[null,null,null,">=50",null,70.202781381381357,{"$f":"$D$211","v":0.89189189189189189},{"$f":"J193/I193","v":7.8268686868686849E-2},{"$f":"$E$211","v":9.1666666666666661},{"$f":"J191","v":0.71746296296296275},{"$f":"$F$211","v":0},{"$f":"$K193/I193","v":0},0,{"$f":"$G$211","v":2.3333333333333335},{"$f":"$N193/I193","v":0.25454545454545457},0.182626936026936]
[null,null,"Electricity","<50",null,null,null,null,null,0.6,null,0,0,null,0.123,7.3799999999999991E-2]
[null,null,null,">=50",null,null,null,null,null,0.6,null,0,0,null,0.123,7.3799999999999991E-2]
[null,"Bus","Diesel","<50",null,319.21666666666664,{"$f":"$D$210","v":0.83720930232558144},{"$f":"F196*1/(G196*1000)","v":0.38128657407407401},{"$f":"$E$210","v":10},{"$f":"H196*I196","v":3.8128657407407403},{"$f":"$F$210","v":2.66},{"$f":"$K196/I196","v":0.26600000000000001},1.014222287037037,{"$f":"$G$210","v":0.5},{"$f":"$N196/I196","v":0.05},0.19064328703703703]
[null,null,null,">=50",null,298.81666666666666,{"$f":"$D$210","v":0.83720930232558144},{"$f":"F197*1/(G197*1000)","v":0.35691990740740737},{"$f":"$E$210","v":10},{"$f":"H197*I197","v":3.5691990740740738},{"$f":"$F$210","v":2.66},{"$f":"$K197/I197","v":0.26600000000000001},0.94940695370370365,{"$f":"$G$210","v":0.5},{"$f":"$N197/I197","v":0.05},0.17845995370370371]
[null,null,"Biodiesel","<50",null,373.08376021021019,{"$f":"$D$211","v":0.89189189189189189},{"$f":"J198/I198","v":0.41594898989898987},{"$f":"$E$211","v":9.1666666666666661},{"$f":"J196","v":3.8128657407407403},{"$f":"$F$211","v":0},{"$f":"$K198/I198","v":0},0,{"$f":"$G$211","v":2.3333333333333335},{"$f":"$N198/I198","v":0.25454545454545457},0.97054764309764308]
[null,null,null,">=50",null,349.2413061561561,{"$f":"$D$211","v":0.89189189189189189},{"$f":"J199/I199","v":0.38936717171717172},{"$f":"$E$211","v":9.1666666666666661},{"$f":"J197","v":3.5691990740740738},{"$f":"$F$211","v":0},{"$f":"$K199/I199","v":0},0,{"$f":"$G$211","v":2.3333333333333335},{"$f":"$N199/I199","v":0.25454545454545457},0.90852340067340065]
[null,null,"Electricity","<50",null,null,null,null,null,1.28,null,0,0,null,0.123,0.15744]
[null,null,null,">=50",null,null,null,null,null,1.28,null,0,0,null,0.123,0.15744]
[null,"Rail","Electricity","<50",null,null,null,null,null,3.7452915397750712]
[null,null,null,">=50",null,null,null,null,null,3.7452915397750712,null,0,{"$f":"L203*$J203","v":0},null,0.123,{"$f":"O203*$J203","v":0.46067085939233376}]
[null,null,null,"Kilde","https://www.ssb.no/natur-og-miljo/artikler-og-publikasjoner/_attachment/225115?_ts=14ce05a5658","Universell enhet","Utregnet","Universell enhet","http://publikasjoner.nve.no/rapport/2018/rapport2018_88.pdf","Universell enhet, Miljødirektoratet"]
[]
[]
[null,"Energiinnhold  vekt [MJ/kg]","Energiinhold volum  [MJ/L]","Massetetthet [kg/L]","Energiinhold per volum [kWh/L]","Utslipp forrenning [kgCO2e/L]","Utslipp produksjon av drivstoff [kgCO2e/L]","Utslipp [kgCO2e/kWh]"]
["Elektrisitet",null,null,null,null,null,null,{"$f":"LocalEnergySupplyData!D3/1000","v":0.123}]
["Bensin",43,32,{"$f":"C209/B209","v":0.7441860465116279},{"$f":"C209/3.6","v":8.8888888888888893},2.3199999999999998,0.6]
["Diesel",43,36,{"$f":"C210/B210","v":0.83720930232558144},{"$f":"C210/3.6","v":10},2.66,0.5]
["Biodiesel",37,33,{"$f":"C211/B211","v":0.89189189189189189},{"$f":"C211/3.6","v":9.1666666666666661},0,{"$f":"0.14/0.03*G210","v":2.3333333333333335}]
["Ethanol",27,21,{"$f":"C212/B212","v":0.77777777777777779},{"$f":"C212/3.6","v":5.833333333333333},0,{"$f":"0.12/0.045*G209","v":1.5999999999999999}]
["Kilde","https://eur-lex.europa.eu/legal-content/EN/TXT/PDF/?uri=CELEX:32009L0028&from=EN","https://eur-lex.europa.eu/legal-content/EN/TXT/PDF/?uri=CELEX:32009L0028&from=EN","Utregnet","Utregnet","Lenger ned. Universalverdi","Beregnet utifra NS3720"]

{"sheet":"PeakDayData","index":7,"n_rows":84,"n_cols":27,"rows_kept":84,"cut":false,"hidden":true,"merged":[]}
["Net energy demand per hour/net energy demand per year for January 30th SN:TS 3031 weather profile for Oslo with \"Building_profiles\""]
["Electric (only elspesific, not cooling since it is the coldest day)",null,"00:00:00","01:00:00","02:00:00","03:00:00","04:00:00","05:00:00","06:00:00","07:00:00","08:00:00","09:00:00","10:00:00","11:00:00","12:00:00","13:00:00","14:00:00","15:00:00","16:00:00","17:00:00","18:00:00","19:00:00","20:00:00","21:00:00","22:00:00","23:00:00"]
["Residential individual housing","Efficient",8.501375292960192E-5,6.9120974192020567E-5,6.5084712925333218E-5,6.4201780773245377E-5,6.3697248114909447E-5,6.4327913937829343E-5,7.7319629889979188E-5,1.0216786331302309E-4,1.1730384306310057E-4,1.2461956660897138E-4,1.2007877268394811E-4,1.170515767339326E-4,1.1465504660683702E-4,1.1402438078391712E-4,1.2058330534228402E-4,1.4568380509449587E-4,1.7999202586133821E-4,1.918485433322322E-4,1.9626320409267149E-4,1.9954266637185498E-4,2.0269599548645441E-4,1.937405408009919E-4,1.6952297320086792E-4,1.2878196104024265E-4,"Residential individual housing"]
[null,"Regular",8.501375292960192E-5,6.9120974192020567E-5,6.5084712925333218E-5,6.4201780773245377E-5,6.3697248114909447E-5,6.4327913937829343E-5,7.7319629889979188E-5,1.0216786331302309E-4,1.1730384306310057E-4,1.2461956660897138E-4,1.2007877268394811E-4,1.170515767339326E-4,1.1465504660683702E-4,1.1402438078391712E-4,1.2058330534228402E-4,1.4568380509449587E-4,1.7999202586133821E-4,1.918485433322322E-4,1.9626320409267149E-4,1.9954266637185498E-4,2.0269599548645441E-4,1.937405408009919E-4,1.6952297320086792E-4,1.2878196104024265E-4,"Residential individual housing"]
["Residential apartment building","Efficient",8.501375292960009E-5,6.9120974192019076E-5,6.5084712925331836E-5,6.4201780773243995E-5,6.3697248114908078E-5,6.4327913937827961E-5,7.7319629889977535E-5,1.021678633130209E-4,1.1730384306309805E-4,1.246195666089687E-4,1.2007877268394552E-4,1.1705157673393011E-4,1.1465504660683455E-4,1.1402438078391466E-4,1.2058330534228143E-4,1.4568380509449272E-4,1.7999202586133434E-4,1.9184854333222811E-4,1.9626320409266729E-4,1.9954266637185069E-4,2.0269599548645008E-4,1.9374054080098776E-4,1.6952297320086426E-4,1.2878196104023989E-4,"Residential apartment building"]
[null,"Regular",8.501375292960009E-5,6.9120974192019076E-5,6.5084712925331836E-5,6.4201780773243995E-5,6.3697248114908078E-5,6.4327913937827961E-5,7.7319629889977535E-5,1.021678633130209E-4,1.1730384306309805E-4,1.246195666089687E-4,1.2007877268394552E-4,1.1705157673393011E-4,1.1465504660683455E-4,1.1402438078391466E-4,1.2058330534228143E-4,1.4568380509449272E-4,1.7999202586133434E-4,1.9184854333222811E-4,1.9626320409266729E-4,1.9954266637185069E-4,2.0269599548645008E-4,1.9374054080098776E-4,1.6952297320086426E-4,1.2878196104023989E-4,"Residential apartment building"]
["Office building","Efficient",9.0543498839626728E-5,8.9619246873430183E-5,8.9556912219742284E-5,8.9641444335565891E-5,9.0782671376856005E-5,9.4488269350140899E-5,1.0859099129498623E-4,1.4499644518141324E-4,1.6601354653330647E-4,1.7224471874412184E-4,1.7097063089630598E-4,1.696592215164378E-4,1.674746267994472E-4,1.652308255118152E-4,1.600931587998111E-4,1.4845831354297633E-4,1.3027166948677093E-4,1.1283366458289059E-4,1.0432540181688559E-4,1.0032564168409387E-4,9.7698422831155179E-5,9.4816257899462035E-5,9.3230678389008326E-5,9.1903783266644853E-5,"Office building"]
[null,"Regular",8.102429180472779E-5,8.0269038428526095E-5,8.0084765299507605E-5,8.0145137888581019E-5,8.0911399971501095E-5,8.7334068792711708E-5,1.1167515376494699E-4,1.4182747557295593E-4,1.6409714966761368E-4,1.7450652696603157E-4,1.7758045939415278E-4,1.7922984413717036E-4,1.7908277622971094E-4,1.7719616437478493E-4,1.7367549582326583E-4,1.6617280275383109E-4,1.5115084605718019E-4,1.3309618979800471E-4,1.1713058499243356E-4,1.0682077688853862E-4,9.7794619047582285E-5,9.1127690163610666E-5,8.6572469633337939E-5,8.3183050108796296E-5,"Office building"]
["Kindergarten","Efficient",{"$f":"C10","v":6.2503700269718061E-5},{"$f":"D10","v":6.2189171180740573E-5},6.1861176531954835E-5,6.1875355568390676E-5,6.2345721592832741E-5,6.542061830791334E-5,8.7679391959306671E-5,1.5819574952619545E-4,2.2332421751663299E-4,2.4291361017347447E-4,2.503298324868725E-4,2.4599415043621663E-4,2.4683379701157914E-4,2.426023822254376E-4,2.3840191973417032E-4,2.341569961074692E-4,1.8899149923455087E-4,1.171084666951701E-4,7.7135846825615733E-5,7.1376887760524682E-5,6.7832460470656041E-5,6.6517843061221257E-5,6.5869724302698116E-5,6.5309630723106468E-5,"Kindergarten"]
[null,"Regular",6.2503700269718061E-5,6.2189171180740573E-5,6.1861176531954835E-5,6.1875355568390676E-5,6.2345721592832741E-5,6.542061830791334E-5,8.7679391959306671E-5,1.5819574952619545E-4,2.2332421751663299E-4,2.4291361017347447E-4,2.503298324868725E-4,2.4599415043621663E-4,2.4683379701157914E-4,2.426023822254376E-4,2.3840191973417032E-4,2.341569961074692E-4,1.8899149923455087E-4,1.171084666951701E-4,7.7135846825615733E-5,7.1376887760524682E-5,6.7832460470656041E-5,6.6517843061221257E-5,6.5869724302698116E-5,6.5309630723106468E-5,"Kindergarten"]
["School","Efficient",5.7881025036866281E-5,5.1920305056044238E-5,5.1970687501297163E-5,5.2116363065147771E-5,5.2693873355160074E-5,5.3367219104798662E-5,6.9231614794508015E-5,1.399613793201835E-4,1.8559726970686073E-4,2.2747285411532075E-4,2.3444400897597667E-4,2.3146824938470616E-4,2.2943016979697905E-4,2.3258084300603374E-4,2.2704430107054336E-4,2.0216347368701509E-4,1.7775239308564104E-4,1.3231849882417221E-4,1.2391675541604828E-4,1.0634374885919241E-4,1.0320229890202823E-4,9.7481136480659047E-5,8.6849058771709011E-5,6.9487812205780273E-5,"School"]
[null,"Regular",8.9467439001791166E-5,9.103432745424625E-5,9.1221474539036416E-5,9.3624970716097507E-5,9.5901496411322207E-5,1.0619131772694527E-4,1.4077546942121297E-4,1.9408171659463403E-4,2.7554472380401977E-4,2.8429887396637241E-4,2.8518159457602553E-4,2.7377045308677161E-4,2.7875433610560053E-4,2.7212871543188643E-4,2.3712152328213314E-4,2.0321371186156882E-4,1.5877404925838045E-4,1.312389911565719E-4,1.2732611380974481E-4,1.1933122195658304E-4,1.085524442658126E-4,9.9896692766064736E-5,9.1295940707120652E-5,9.1611863780041377E-5,"School"]
["University/Collage","Efficient",{"$f":"C7","v":9.0543498839626728E-5},{"$f":"D7","v":8.9619246873430183E-5},8.9556912219742284E-5,8.9641444335565891E-5,9.0782671376856005E-5,9.4488269350140899E-5,1.0859099129498623E-4,1.4499644518141324E-4,1.6601354653330647E-4,1.7224471874412184E-4,1.7097063089630598E-4,1.696592215164378E-4,1.674746267994472E-4,1.652308255118152E-4,1.600931587998111E-4,1.4845831354297633E-4,1.3027166948677093E-4,1.1283366458289059E-4,1.0432540181688559E-4,1.0032564168409387E-4,9.7698422831155179E-5,9.4816257899462035E-5,9.3230678389008326E-5,9.1903783266644853E-5,"University/Collage"]
[null,"Regular",{"$f":"C8","v":8.102429180472779E-5},{"$f":"D8","v":8.0269038428526095E-5},8.0084765299507605E-5,8.0145137888581019E-5,8.0911399971501095E-5,8.7334068792711708E-5,1.1167515376494699E-4,1.4182747557295593E-4,1.6409714966761368E-4,1.7450652696603157E-4,1.7758045939415278E-4,1.7922984413717036E-4,1.7908277622971094E-4,1.7719616437478493E-4,1.7367549582326583E-4,1.6617280275383109E-4,1.5115084605718019E-4,1.3309618979800471E-4,1.1713058499243356E-4,1.0682077688853862E-4,9.7794619047582285E-5,9.1127690163610666E-5,8.6572469633337939E-5,8.3183050108796296E-5,"University/Collage"]
["Hospital","Efficient",{"$f":"C16","v":9.8862648212564777E-5},{"$f":"D16","v":9.7787077534824797E-5},9.6904824787294349E-5,9.6555060532978274E-5,9.6828604933529649E-5,9.7536042858727115E-5,1.0181990032425345E-4,1.1526632067308832E-4,1.3150295399799836E-4,1.4120731103625878E-4,1.4440395145009837E-4,1.451303156677495E-4,1.4517281008600598E-4,1.4565938437206651E-4,1.4443434859607644E-4,1.3924989319953526E-4,1.3020775404279594E-4,1.2202840114293861E-4,1.1719136181018828E-4,1.1363166685875762E-4,1.1065638453256503E-4,1.0793730923619541E-4,1.0477989037858464E-4,1.0122551910675878E-4,"Hospital"]
[null,"Regular",9.8862648212564777E-5,9.7787077534824797E-5,9.6904824787294349E-5,9.6555060532978274E-5,9.6828604933529649E-5,9.7536042858727115E-5,1.0181990032425345E-4,1.1526632067308832E-4,1.3150295399799836E-4,1.4120731103625878E-4,1.4440395145009837E-4,1.451303156677495E-4,1.4517281008600598E-4,1.4565938437206651E-4,1.4443434859607644E-4,1.3924989319953526E-4,1.3020775404279594E-4,1.2202840114293861E-4,1.1719136181018828E-4,1.1363166685875762E-4,1.1065638453256503E-4,1.0793730923619541E-4,1.0477989037858464E-4,1.0122551910675878E-4,"Hospital"]
["Nursing home","Efficient",{"$f":"C18","v":8.7859244756739033E-5},{"$f":"D18","v":8.6567345062361822E-5},8.6906589070302287E-5,8.7398012884809816E-5,8.8981505618267721E-5,9.7504606957224261E-5,1.1031427883297825E-4,1.2289408973494616E-4,1.3900913374855433E-4,1.4831154865293904E-4,1.5225319917512603E-4,1.5329301816675687E-4,1.5245055517050751E-4,1.4361309412496572E-4,1.3782398804356856E-4,1.3084570667577349E-4,1.2421295022727123E-4,1.2342105801026383E-4,1.1840680023192362E-4,1.1380096998014738E-4,1.0752442478864516E-4,1.0021612911771137E-4,9.5362538510219204E-5,9.0436928718112748E-5,"Nursing home"]
[null,"Regular",8.7859244756739033E-5,8.6567345062361822E-5,8.6906589070302287E-5,8.7398012884809816E-5,8.8981505618267721E-5,9.7504606957224261E-5,1.1031427883297825E-4,1.2289408973494616E-4,1.3900913374855433E-4,1.4831154865293904E-4,1.5225319917512603E-4,1.5329301816675687E-4,1.5245055517050751E-4,1.4361309412496572E-4,1.3782398804356856E-4,1.3084570667577349E-4,1.2421295022727123E-4,1.2342105801026383E-4,1.1840680023192362E-4,1.1380096998014738E-4,1.0752442478864516E-4,1.0021612911771137E-4,9.5362538510219204E-5,9.0436928718112748E-5,"Nursing home"]
["Hotel","Efficient",{"$f":"C20","v":9.7683953707528308E-5},{"$f":"D20","v":9.2900262145808663E-5},9.0575032406445792E-5,8.9174418623686833E-5,9.3229426744234538E-5,9.7443179654049811E-5,1.0701057967332106E-4,1.2336661346536561E-4,1.3187914080104886E-4,1.2919544064270936E-4,1.2730131650395913E-4,1.240427069399499E-4,1.2258829767299229E-4,1.2042407507479765E-4,1.21059741892229E-4,1.2002607601213725E-4,1.1919243143881404E-4,1.1958328018538504E-4,1.2110184123674689E-4,1.2129581130129563E-4,1.2117624710157329E-4,1.1694926897928406E-4,1.1449399286604508E-4,1.0737587600841329E-4,"Hotel"]
[null,"Regular",9.7683953707528308E-5,9.2900262145808663E-5,9.0575032406445792E-5,8.9174418623686833E-5,9.3229426744234538E-5,9.7443179654049811E-5,1.0701057967332106E-4,1.2336661346536561E-4,1.3187914080104886E-4,1.2919544064270936E-4,1.2730131650395913E-4,1.240427069399499E-4,1.2258829767299229E-4,1.2042407507479765E-4,1.21059741892229E-4,1.2002607601213725E-4,1.1919243143881404E-4,1.1958328018538504E-4,1.2110184123674689E-4,1.2129581130129563E-4,1.2117624710157329E-4,1.1694926897928406E-4,1.1449399286604508E-4,1.0737587600841329E-4,"Hotel"]
["Sports Facility","Efficient",{"$f":"C17","v":8.7859244756739033E-5},{"$f":"D17","v":8.6567345062361822E-5},8.6906589070302287E-5,8.7398012884809816E-5,8.8981505618267721E-5,9.7504606957224261E-5,1.1031427883297825E-4,1.2289408973494616E-4,1.3900913374855433E-4,1.4831154865293904E-4,1.5225319917512603E-4,1.5329301816675687E-4,1.5245055517050751E-4,1.4361309412496572E-4,1.3782398804356856E-4,1.3084570667577349E-4,1.2421295022727123E-4,1.2342105801026383E-4,1.1840680023192362E-4,1.1380096998014738E-4,1.0752442478864516E-4,1.0021612911771137E-4,9.5362538510219204E-5,9.0436928718112748E-5,"Sports Facility"]
[null,"Regular",{"$f":"C18","v":8.7859244756739033E-5},{"$f":"D18","v":8.6567345062361822E-5},8.6906589070302287E-5,8.7398012884809816E-5,8.8981505618267721E-5,9.7504606957224261E-5,1.1031427883297825E-4,1.2289408973494616E-4,1.3900913374855433E-4,1.4831154865293904E-4,1.5225319917512603E-4,1.5329301816675687E-4,1.5245055517050751E-4,1.4361309412496572E-4,1.3782398804356856E-4,1.3084570667577349E-4,1.2421295022727123E-4,1.2342105801026383E-4,1.1840680023192362E-4,1.1380096998014738E-4,1.0752442478864516E-4,1.0021612911771137E-4,9.5362538510219204E-5,9.0436928718112748E-5,"Sports Facility"]
["Comercial building","Efficient",{"$f":"C24","v":6.966188101473039E-5},{"$f":"D24","v":6.7742048174415821E-5},6.7202044433084109E-5,6.7002696380027082E-5,6.8665798010928924E-5,7.4467152692023837E-5,9.7083326820192401E-5,1.2974447765832364E-4,1.5074704975790213E-4,1.6755717519684475E-4,1.8039269637723976E-4,1.8182706026056536E-4,1.826841521712593E-4,1.824040455324408E-4,1.8119495676830827E-4,1.7984065407115402E-4,1.6956651744675228E-4,1.5399687450474734E-4,1.4301007147559245E-4,1.326824579926377E-4,1.1613904309967963E-4,9.71375706032676E-5,8.3464847377140799E-5,7.5203192375926446E-5,"Comercial building"]
[null,"Regular",6.966188101473039E-5,6.7742048174415821E-5,6.7202044433084109E-5,6.7002696380027082E-5,6.8665798010928924E-5,7.4467152692023837E-5,9.7083326820192401E-5,1.2974447765832364E-4,1.5074704975790213E-4,1.6755717519684475E-4,1.8039269637723976E-4,1.8182706026056536E-4,1.826841521712593E-4,1.824040455324408E-4,1.8119495676830827E-4,1.7984065407115402E-4,1.6956651744675228E-4,1.5399687450474734E-4,1.4301007147559245E-4,1.326824579926377E-4,1.1613904309967963E-4,9.71375706032676E-5,8.3464847377140799E-5,7.5203192375926446E-5,"Comercial building"]
["Cultural building","Efficient",{"$f":"C7","v":9.0543498839626728E-5},{"$f":"D7","v":8.9619246873430183E-5},8.9556912219742284E-5,8.9641444335565891E-5,9.0782671376856005E-5,9.4488269350140899E-5,1.0859099129498623E-4,1.4499644518141324E-4,1.6601354653330647E-4,1.7224471874412184E-4,1.7097063089630598E-4,1.696592215164378E-4,1.674746267994472E-4,1.652308255118152E-4,1.600931587998111E-4,1.4845831354297633E-4,1.3027166948677093E-4,1.1283366458289059E-4,1.0432540181688559E-4,1.0032564168409387E-4,9.7698422831155179E-5,9.4816257899462035E-5,9.3230678389008326E-5,9.1903783266644853E-5,"Cultural building"]
[null,"Regular",{"$f":"C8","v":8.102429180472779E-5},{"$f":"D8","v":8.0269038428526095E-5},8.0084765299507605E-5,8.0145137888581019E-5,8.0911399971501095E-5,8.7334068792711708E-5,1.1167515376494699E-4,1.4182747557295593E-4,1.6409714966761368E-4,1.7450652696603157E-4,1.7758045939415278E-4,1.7922984413717036E-4,1.7908277622971094E-4,1.7719616437478493E-4,1.7367549582326583E-4,1.6617280275383109E-4,1.5115084605718019E-4,1.3309618979800471E-4,1.1713058499243356E-4,1.0682077688853862E-4,9.7794619047582285E-5,9.1127690163610666E-5,8.6572469633337939E-5,8.3183050108796296E-5,"Cultural building"]
["Industry/Workshop","Efficient",{"$f":"C7","v":9.0543498839626728E-5},{"$f":"D7","v":8.9619246873430183E-5},8.9556912219742284E-5,8.9641444335565891E-5,9.0782671376856005E-5,9.4488269350140899E-5,1.0859099129498623E-4,1.4499644518141324E-4,1.6601354653330647E-4,1.7224471874412184E-4,1.7097063089630598E-4,1.696592215164378E-4,1.674746267994472E-4,1.652308255118152E-4,1.600931587998111E-4,1.4845831354297633E-4,1.3027166948677093E-4,1.1283366458289059E-4,1.0432540181688559E-4,1.0032564168409387E-4,9.7698422831155179E-5,9.4816257899462035E-5,9.3230678389008326E-5,9.1903783266644853E-5,"Industry/Workshop"]
[null,"Regular",{"$f":"C8","v":8.102429180472779E-5},{"$f":"D8","v":8.0269038428526095E-5},8.0084765299507605E-5,8.0145137888581019E-5,8.0911399971501095E-5,8.7334068792711708E-5,1.1167515376494699E-4,1.4182747557295593E-4,1.6409714966761368E-4,1.7450652696603157E-4,1.7758045939415278E-4,1.7922984413717036E-4,1.7908277622971094E-4,1.7719616437478493E-4,1.7367549582326583E-4,1.6617280275383109E-4,1.5115084605718019E-4,1.3309618979800471E-4,1.1713058499243356E-4,1.0682077688853862E-4,9.7794619047582285E-5,9.1127690163610666E-5,8.6572469633337939E-5,8.3183050108796296E-5,"Industry/Workshop"]
[]
["Heating",null,"00:00:00","01:00:00","02:00:00","03:00:00","04:00:00","05:00:00","06:00:00","07:00:00","08:00:00","09:00:00","10:00:00","11:00:00","12:00:00","13:00:00","14:00:00","15:00:00","16:00:00","17:00:00","18:00:00","19:00:00","20:00:00","21:00:00","22:00:00","23:00:00"]
["Residential individual housing","Efficient",6.8331585834764588E-4,6.7258710042205467E-4,4.4003709863068798E-4,4.4160315005556161E-4,7.1397489888704198E-4,4.6488337014713747E-4,8.5576427106423092E-4,8.3583623111301128E-4,8.0747813241131502E-4,7.1857229723727093E-4,6.917459170981225E-4,6.7181787714690308E-4,6.4959113802056886E-4,6.0743748027430758E-4,4.3345734899517471E-4,4.3805586867669635E-4,4.1429516832522899E-4,5.7524559984107096E-4,6.6032101727745264E-4,7.1397041356187157E-4,7.4692703194508968E-4,7.5382537213301848E-4,6.5419077903338318E-4,7.3773223524463145E-4,"Residential individual housing"]
[null,"Regular",4.3646040989702502E-4,4.3840545052507189E-4,4.275163792605511E-4,4.3227640262310342E-4,4.5644737910936696E-4,3.558477473563282E-4,5.0812904180124808E-4,4.9671524355187886E-4,4.853270898544008E-4,4.5260858695705584E-4,4.3643476534513414E-4,4.2502096709576493E-4,4.1552656492255133E-4,3.9987747029547811E-4,3.3299450630569862E-4,3.3441481994889708E-4,3.1918787409910768E-4,3.7941706320207021E-4,4.1884063009001426E-4,4.3541095592732873E-4,4.4821942326800525E-4,4.5297944663055763E-4,4.2220598436125927E-4,4.5589700757262761E-4,"Residential individual housing"]
["Residential apartment building","Efficient",3.8888353775210513E-4,4.1326279447600166E-4,4.3079084664228022E-4,4.5862857472022881E-4,4.6860606082759236E-4,5.3671995927069159E-4,5.1136503363705349E-4,5.2286143632491794E-4,5.1528360874705727E-4,5.2862285239559418E-4,4.6346013602662926E-4,4.3041752806265219E-4,3.9393334583960886E-4,3.7663139857835635E-4,3.929572542279399E-4,4.172403013621647E-4,4.4991569749417001E-4,4.6312432369047929E-4,4.7160480986113885E-4,4.593184285430563E-4,4.5208056228705231E-4,3.9455537892553916E-4,3.6040096074770349E-4,4.130137521939979E-4,"Residential apartment building"]
[null,"Regular",4.364604098970241E-4,4.3840545052507065E-4,4.2751637926054974E-4,4.3227640262310211E-4,4.5644737910936572E-4,3.5584774735632722E-4,5.0812904180124667E-4,4.9671524355187745E-4,4.8532708985439934E-4,4.5260858695705448E-4,4.36434765345133E-4,4.2502096709576384E-4,4.1552656492255019E-4,3.9987747029547691E-4,3.3299450630569776E-4,3.3441481994889605E-4,3.1918787409910675E-4,3.7941706320206912E-4,4.1884063009001306E-4,4.3541095592732743E-4,4.4821942326800401E-4,4.5297944663055638E-4,4.2220598436125818E-4,4.5589700757262637E-4,"Residential apartment building"]
["Office building","Efficient",3.8197368408427672E-4,3.8533878273392985E-4,3.8246418838644149E-4,3.849481678216236E-4,3.8601968626772432E-4,4.1959094386338064E-4,4.6422573604883947E-4,6.0359784066830991E-4,6.9800433614080064E-4,6.3706972671167021E-4,5.8100223339958281E-4,5.5870693021717419E-4,5.3847429939715078E-4,5.2285900612123468E-4,5.1993128225070063E-4,5.1229882343994655E-4,4.9463229096811847E-4,4.7940015609218247E-4,4.4765959059976879E-4,4.3311091450067013E-4,4.1776676256776032E-4,4.1402421917536571E-4,4.2501095975148117E-4,4.1890540134477964E-4,"Office building"]
[null,"Regular",2.8159736896277805E-4,2.8801422437603751E-4,2.9803970252374111E-4,3.1016703445404999E-4,3.5091861848468787E-4,4.3160309515249051E-4,5.4157305576819112E-4,6.2003705210517167E-4,6.6421405706589638E-4,6.1370392807470666E-4,5.89763524877328E-4,5.6538041316289039E-4,5.4253835823923392E-4,5.3202112756638306E-4,5.1101755330822606E-4,4.9684276033507013E-4,4.765275676367549E-4,4.3733153592832017E-4,3.7935726317021233E-4,3.2619479996991721E-4,3.1711788874162403E-4,3.1102340213492145E-4,3.033546567436055E-4,3.0323719745105793E-4,"Office building"]
["Kindergarten","Efficient",{"$f":"C38","v":3.1991602130981107E-4},{"$f":"D38","v":3.2964681046463145E-4},3.3183764190470124E-4,3.4563441828422306E-4,3.5235738601410401E-4,3.5229117297380831E-4,4.5529505736361124E-4,5.9617014245682632E-4,6.4584279051192652E-4,5.8013973519912979E-4,5.1261758672186352E-4,5.1890850559771257E-4,4.8090825044323662E-4,4.310173671092259E-4,4.4265876732653918E-4,4.492154966167385E-4,4.0496106586057173E-4,3.0978860594124441E-4,3.1827394956586078E-4,3.2399776536046968E-4,3.2898595186869699E-4,3.4102524561397676E-4,3.3050692401249846E-4,3.4419408824952138E-4,"Kindergarten"]
[null,"Regular",3.1991602130981107E-4,3.2964681046463145E-4,3.3183764190470124E-4,3.4563441828422306E-4,3.5235738601410401E-4,3.5229117297380831E-4,4.5529505736361124E-4,5.9617014245682632E-4,6.4584279051192652E-4,5.8013973519912979E-4,5.1261758672186352E-4,5.1890850559771257E-4,4.8090825044323662E-4,4.310173671092259E-4,4.4265876732653918E-4,4.492154966167385E-4,4.0496106586057173E-4,3.0978860594124441E-4,3.1827394956586078E-4,3.2399776536046968E-4,3.2898595186869699E-4,3.4102524561397676E-4,3.3050692401249846E-4,3.4419408824952138E-4,"Kindergarten"]
["School","Efficient",2.0786153794050564E-4,2.2106032499624265E-4,2.369797252268543E-4,3.2048410653061701E-4,3.4160605635355409E-4,3.819596028329394E-4,4.7489816585189929E-4,7.4889543150452337E-4,9.1746536772981623E-4,7.9335119840739433E-4,7.295335020175395E-4,6.8885147240950245E-4,6.408261908921023E-4,5.8039445722131032E-4,5.6042858799415518E-4,5.3186611075226845E-4,4.86564624084276E-4,3.9037203232963164E-4,3.6560723079307313E-4,3.4211432959783565E-4,3.187887317633915E-4,3.0098287264331301E-4,2.7479409791518575E-4,2.3922080689689064E-4,"School"]
[null,"Regular",2.5500319148944524E-4,2.6309627291978512E-4,2.749390136834652E-4,2.956440479821306E-4,3.1344632355193648E-4,3.6161623363175049E-4,4.8246072259278133E-4,5.8426288699806321E-4,6.921476432935231E-4,6.2078627910979877E-4,5.902065566532012E-4,5.5286051021502178E-4,5.424258881057965E-4,5.281689080576308E-4,4.9164838459696996E-4,4.52641069601523E-4,3.7982615949928004E-4,3.4048274636495646E-4,3.2625955446501738E-4,3.1059415608159478E-4,2.8351889713649765E-4,2.7114865881148456E-4,2.4587676445242938E-4,2.6300888064268314E-4,"School"]
["University/Collage","Efficient",{"$f":"C35","v":3.8197368408427672E-4},{"$f":"D35","v":3.8533878273392985E-4},3.8246418838644149E-4,3.849481678216236E-4,3.8601968626772432E-4,4.1959094386338064E-4,4.6422573604883947E-4,6.0359784066830991E-4,6.9800433614080064E-4,6.3706972671167021E-4,5.8100223339958281E-4,5.5870693021717419E-4,5.3847429939715078E-4,5.2285900612123468E-4,5.1993128225070063E-4,5.1229882343994655E-4,4.9463229096811847E-4,4.7940015609218247E-4,4.4765959059976879E-4,4.3311091450067013E-4,4.1776676256776032E-4,4.1402421917536571E-4,4.2501095975148117E-4,4.1890540134477964E-4,"University/Collage"]
[null,"Regular",{"$f":"C36","v":2.8159736896277805E-4},{"$f":"D36","v":2.8801422437603751E-4},2.9803970252374111E-4,3.1016703445404999E-4,3.5091861848468787E-4,4.3160309515249051E-4,5.4157305576819112E-4,6.2003705210517167E-4,6.6421405706589638E-4,6.1370392807470666E-4,5.89763524877328E-4,5.6538041316289039E-4,5.4253835823923392E-4,5.3202112756638306E-4,5.1101755330822606E-4,4.9684276033507013E-4,4.765275676367549E-4,4.3733153592832017E-4,3.7935726317021233E-4,3.2619479996991721E-4,3.1711788874162403E-4,3.1102340213492145E-4,3.033546567436055E-4,3.0323719745105793E-4,"University/Collage"]
["Hospital","Efficient",{"$f":"C44","v":3.7846898740545408E-4},{"$f":"D44","v":3.8120085465892007E-4},3.8178129498412603E-4,3.941136892182154E-4,3.9331164839363439E-4,4.0939678340929622E-4,4.2094045041966507E-4,4.5333610682063858E-4,4.9744423965877827E-4,4.5756589021771064E-4,4.2894228078961587E-4,3.9639548401383391E-4,3.7618119763765245E-4,3.6483641975465888E-4,3.5564878342495416E-4,3.6318586202870973E-4,3.7972681315423475E-4,4.0144948258664844E-4,4.085980615623135E-4,4.2166917702718865E-4,4.3646780347944753E-4,4.3547447069723313E-4,4.1506223131039603E-4,4.2020214689973603E-4,"Hospital"]
[null,"Regular",3.7846898740545408E-4,3.8120085465892007E-4,3.8178129498412603E-4,3.941136892182154E-4,3.9331164839363439E-4,4.0939678340929622E-4,4.2094045041966507E-4,4.5333610682063858E-4,4.9744423965877827E-4,4.5756589021771064E-4,4.2894228078961587E-4,3.9639548401383391E-4,3.7618119763765245E-4,3.6483641975465888E-4,3.5564878342495416E-4,3.6318586202870973E-4,3.7972681315423475E-4,4.0144948258664844E-4,4.085980615623135E-4,4.2166917702718865E-4,4.3646780347944753E-4,4.3547447069723313E-4,4.1506223131039603E-4,4.2020214689973603E-4,"Hospital"]
["Nursing home","Efficient",{"$f":"C46","v":3.1989753197059732E-4},{"$f":"D46","v":3.240773915440173E-4},3.4085242341529344E-4,3.6102008106783434E-4,3.6763578031829777E-4,4.2774832557912354E-4,4.4536143901962634E-4,4.3765079485788664E-4,4.9015999344910531E-4,4.4657427225395613E-4,4.2317032400071677E-4,4.13182514404666E-4,3.9893026972605175E-4,4.0290124304052894E-4,3.8980365465530336E-4,3.8334241101252924E-4,3.8865413369624998E-4,3.8920196874429696E-4,3.727180973737457E-4,3.6445015401652549E-4,3.306184499854439E-4,3.3342644988181491E-4,3.4796840025079349E-4,3.4857425737791405E-4,"Nursing home"]
[null,"Regular",3.1989753197059732E-4,3.240773915440173E-4,3.4085242341529344E-4,3.6102008106783434E-4,3.6763578031829777E-4,4.2774832557912354E-4,4.4536143901962634E-4,4.3765079485788664E-4,4.9015999344910531E-4,4.4657427225395613E-4,4.2317032400071677E-4,4.13182514404666E-4,3.9893026972605175E-4,4.0290124304052894E-4,3.8980365465530336E-4,3.8334241101252924E-4,3.8865413369624998E-4,3.8920196874429696E-4,3.727180973737457E-4,3.6445015401652549E-4,3.306184499854439E-4,3.3342644988181491E-4,3.4796840025079349E-4,3.4857425737791405E-4,"Nursing home"]
["Hotel","Efficient",{"$f":"C48","v":3.9717872203368711E-4},{"$f":"D48","v":3.9938071511629866E-4},3.9856850404422397E-4,4.0528332194378244E-4,4.0437389489958664E-4,4.2203713597844432E-4,4.4344903397200728E-4,4.5326807901774753E-4,4.7691053387303051E-4,4.4711725416055227E-4,4.309839743997715E-4,4.2107047702487485E-4,4.0743894604251682E-4,4.1136283217144826E-4,3.976740428461216E-4,4.0569966417981475E-4,4.2074607085665621E-4,4.395988605054395E-4,4.4021907085205534E-4,4.3530763709904617E-4,4.3901425847376745E-4,4.3819848203945213E-4,4.3431443833166474E-4,4.369820810030943E-4,"Hotel"]
[null,"Regular",3.9717872203368711E-4,3.9938071511629866E-4,3.9856850404422397E-4,4.0528332194378244E-4,4.0437389489958664E-4,4.2203713597844432E-4,4.4344903397200728E-4,4.5326807901774753E-4,4.7691053387303051E-4,4.4711725416055227E-4,4.309839743997715E-4,4.2107047702487485E-4,4.0743894604251682E-4,4.1136283217144826E-4,3.976740428461216E-4,4.0569966417981475E-4,4.2074607085665621E-4,4.395988605054395E-4,4.4021907085205534E-4,4.3530763709904617E-4,4.3901425847376745E-4,4.3819848203945213E-4,4.3431443833166474E-4,4.369820810030943E-4,"Hotel"]
["Sports Facility","Efficient",{"$f":"C45","v":3.1989753197059732E-4},3.240773915440173E-4,3.4085242341529344E-4,3.6102008106783434E-4,3.6763578031829777E-4,4.2774832557912354E-4,4.4536143901962634E-4,4.3765079485788664E-4,4.9015999344910531E-4,4.4657427225395613E-4,4.2317032400071677E-4,4.13182514404666E-4,3.9893026972605175E-4,4.0290124304052894E-4,3.8980365465530336E-4,3.8334241101252924E-4,3.8865413369624998E-4,3.8920196874429696E-4,3.727180973737457E-4,3.6445015401652549E-4,3.306184499854439E-4,3.3342644988181491E-4,3.4796840025079349E-4,3.4857425737791405E-4,"Sports Facility"]
[null,"Regular",{"$f":"C46","v":3.1989753197059732E-4},3.240773915440173E-4,3.4085242341529344E-4,3.6102008106783434E-4,3.6763578031829777E-4,4.2774832557912354E-4,4.4536143901962634E-4,4.3765079485788664E-4,4.9015999344910531E-4,4.4657427225395613E-4,4.2317032400071677E-4,4.13182514404666E-4,3.9893026972605175E-4,4.0290124304052894E-4,3.8980365465530336E-4,3.8334241101252924E-4,3.8865413369624998E-4,3.8920196874429696E-4,3.727180973737457E-4,3.6445015401652549E-4,3.306184499854439E-4,3.3342644988181491E-4,3.4796840025079349E-4,3.4857425737791405E-4,"Sports Facility"]
["Comercial building","Efficient",{"$f":"C52","v":3.617881371678959E-4},{"$f":"D52","v":3.7069438813327815E-4},3.6661214475695224E-4,3.891207090237095E-4,3.9138057435952E-4,4.4510270025245613E-4,5.4835578394548529E-4,5.9703620545096051E-4,6.8245443783513336E-4,6.3638387498756441E-4,6.2685318876201678E-4,5.9990228942594808E-4,5.7439218778287439E-4,5.6822806314690767E-4,5.4866970709116318E-4,5.4945854724695821E-4,5.1509761545076452E-4,4.8701704646055244E-4,4.6884033588480997E-4,4.5238418859670462E-4,4.1100540389620716E-4,3.7148052845726871E-4,3.6426298563413005E-4,3.8695125661932536E-4,"Comercial building"]
[null,"Regular",3.617881371678959E-4,3.7069438813327815E-4,3.6661214475695224E-4,3.891207090237095E-4,3.9138057435952E-4,4.4510270025245613E-4,5.4835578394548529E-4,5.9703620545096051E-4,6.8245443783513336E-4,6.3638387498756441E-4,6.2685318876201678E-4,5.9990228942594808E-4,5.7439218778287439E-4,5.6822806314690767E-4,5.4866970709116318E-4,5.4945854724695821E-4,5.1509761545076452E-4,4.8701704646055244E-4,4.6884033588480997E-4,4.5238418859670462E-4,4.1100540389620716E-4,3.7148052845726871E-4,3.6426298563413005E-4,3.8695125661932536E-4,"Comercial building"]
["Cultural building","Efficient",{"$f":"C35","v":3.8197368408427672E-4},3.8533878273392985E-4,3.8246418838644149E-4,3.849481678216236E-4,3.8601968626772432E-4,4.1959094386338064E-4,4.6422573604883947E-4,6.0359784066830991E-4,6.9800433614080064E-4,6.3706972671167021E-4,5.8100223339958281E-4,5.5870693021717419E-4,5.3847429939715078E-4,5.2285900612123468E-4,5.1993128225070063E-4,5.1229882343994655E-4,4.9463229096811847E-4,4.7940015609218247E-4,4.4765959059976879E-4,4.3311091450067013E-4,4.1776676256776032E-4,4.1402421917536571E-4,4.2501095975148117E-4,4.1890540134477964E-4,"Cultural building"]
[null,"Regular",{"$f":"C36","v":2.8159736896277805E-4},2.8801422437603751E-4,2.9803970252374111E-4,3.1016703445404999E-4,3.5091861848468787E-4,4.3160309515249051E-4,5.4157305576819112E-4,6.2003705210517167E-4,6.6421405706589638E-4,6.1370392807470666E-4,5.89763524877328E-4,5.6538041316289039E-4,5.4253835823923392E-4,5.3202112756638306E-4,5.1101755330822606E-4,4.9684276033507013E-4,4.765275676367549E-4,4.3733153592832017E-4,3.7935726317021233E-4,3.2619479996991721E-4,3.1711788874162403E-4,3.1102340213492145E-4,3.033546567436055E-4,3.0323719745105793E-4,"Cultural building"]
["Industry/Workshop","Efficient",{"$f":"C35","v":3.8197368408427672E-4},3.8533878273392985E-4,3.8246418838644149E-4,3.849481678216236E-4,3.8601968626772432E-4,4.1959094386338064E-4,4.6422573604883947E-4,6.0359784066830991E-4,6.9800433614080064E-4,6.3706972671167021E-4,5.8100223339958281E-4,5.5870693021717419E-4,5.3847429939715078E-4,5.2285900612123468E-4,5.1993128225070063E-4,5.1229882343994655E-4,4.9463229096811847E-4,4.7940015609218247E-4,4.4765959059976879E-4,4.3311091450067013E-4,4.1776676256776032E-4,4.1402421917536571E-4,4.2501095975148117E-4,4.1890540134477964E-4,"Industry/Workshop"]
[null,"Regular",{"$f":"C36","v":2.8159736896277805E-4},2.8801422437603751E-4,2.9803970252374111E-4,3.1016703445404999E-4,3.5091861848468787E-4,4.3160309515249051E-4,5.4157305576819112E-4,6.2003705210517167E-4,6.6421405706589638E-4,6.1370392807470666E-4,5.89763524877328E-4,5.6538041316289039E-4,5.4253835823923392E-4,5.3202112756638306E-4,5.1101755330822606E-4,4.9684276033507013E-4,4.765275676367549E-4,4.3733153592832017E-4,3.7935726317021233E-4,3.2619479996991721E-4,3.1711788874162403E-4,3.1102340213492145E-4,3.033546567436055E-4,3.0323719745105793E-4,"Industry/Workshop"]
[]
["Hot water",null,"00:00:00","01:00:00","02:00:00","03:00:00","04:00:00","05:00:00","06:00:00","07:00:00","08:00:00","09:00:00","10:00:00","11:00:00","12:00:00","13:00:00","14:00:00","15:00:00","16:00:00","17:00:00","18:00:00","19:00:00","20:00:00","21:00:00","22:00:00","23:00:00"]
["Residential individual housing","Efficient",1.0613760877461141E-4,5.2240594187082276E-5,5.4767016745872693E-5,6.7399129539824854E-5,7.0767692951545397E-5,1.6087676421507074E-4,1.6087676421507074E-4,1.7098245445023243E-4,1.4571822886232815E-4,1.6171890506800092E-4,1.2719113009786501E-4,1.0529546792168129E-4,1.0108476365703057E-4,9.9400481951170288E-5,1.2803327095079517E-4,1.4740251056818846E-4,1.3645467948009658E-4,1.1540115815684301E-4,1.3898110203888701E-4,1.1034831303926215E-4,1.0697974962754158E-4,1.0361118621582098E-4,1.347703977742363E-4,9.6874059392379843E-5,"Residential individual housing"]
[null,"Regular",1.0931462273743838E-4,7.677445596908464E-5,7.8299776286351217E-5,8.5926377872684129E-5,8.7960138295706231E-5,1.4236322961154766E-4,1.4236322961154766E-4,1.48464510880614E-4,1.3321130770794817E-4,1.4287166971730322E-4,1.2202562538132658E-4,1.0880618263168286E-4,1.0626398210290522E-4,1.0524710189139417E-4,1.2253406548708211E-4,1.3422818791945925E-4,1.2761846654463739E-4,1.149074639007492E-4,1.2914378686190397E-4,1.1185682326621603E-4,1.0982306284319391E-4,1.077893024201718E-4,1.2660158633312631E-4,1.0372178157412758E-4,"Residential individual housing"]
["Residential apartment building","Efficient",9.1419401422644203E-5,9.1194586783441181E-5,9.39902038620321E-5,9.8949385259171452E-5,1.0036861798646869E-4,1.1868724153243125E-4,1.5335012930469958E-4,1.5162114276710603E-4,1.5854159435463305E-4,1.5098030273593514E-4,1.3382937169234855E-4,1.1813902995176107E-4,1.0511737210704628E-4,1.038213247062283E-4,1.0340125443290546E-4,1.1126540487437548E-4,1.1546956845080939E-4,1.1199398745975697E-4,1.1455755450081356E-4,1.1172763602736598E-4,1.091931874597599E-4,1.0662135711322898E-4,1.0931456727401719E-4,9.8755764931870069E-5,"Residential apartment building"]
[null,"Regular",1.0613760877461141E-4,7.6774455969088476E-5,7.8299776286355134E-5,8.5926377872688425E-5,8.7960138295710622E-5,1.4236322961155479E-4,1.4236322961155479E-4,1.484645108806214E-4,1.3321130770795484E-4,1.4287166971731037E-4,1.2202562538133268E-4,1.0880618263168831E-4,1.0626398210291053E-4,1.0524710189139944E-4,1.2253406548708821E-4,1.3422818791946597E-4,1.2761846654464376E-4,1.1490746390075494E-4,1.2914378686191039E-4,1.1185682326622163E-4,1.098230628431994E-4,1.0778930242017721E-4,1.2660158633313266E-4,1.0372178157413277E-4,"Residential apartment building"]
["Office building","Efficient",7.2512212646358827E-5,7.0002584892460228E-5,7.5610760899688081E-5,7.8895502783624748E-5,9.2720804170355747E-5,1.0079881873335733E-4,1.3809669195196536E-4,2.1822243050283763E-4,2.2755422224013969E-4,2.00313805089957E-4,1.9652782206247614E-4,1.9785636109417097E-4,2.0699053712300877E-4,2.2308364849002181E-4,2.0454850605155977E-4,1.6150516253244686E-4,1.2029443406572975E-4,8.6079898012027885E-5,6.8983964906616481E-5,5.8287441288506746E-5,5.9734788278632948E-5,6.8664724711285467E-5,7.8965475625242886E-5,7.317316104398598E-5,"Office building"]
[null,"Regular",8.4595709579131576E-5,8.4715175108055014E-5,8.365257172010853E-5,9.1748417518395443E-5,9.9388545792490567E-5,1.1019501853134024E-4,1.429112494894349E-4,1.4819376511158251E-4,1.6973033275030785E-4,1.6895541857128111E-4,1.6431262473892878E-4,1.7160617599207463E-4,1.6860630180891612E-4,1.6502927138892622E-4,1.588438288521393E-4,1.5013935355993307E-4,1.3660599953545699E-4,1.2684416151403422E-4,1.1593307096530965E-4,1.0928035019676914E-4,1.0103629095037466E-4,9.2670060373624874E-5,8.9849169582654275E-5,8.2697443351130139E-5,"Office building"]
["Kindergarten","Efficient",{"$f":"C66","v":8.3880991330044817E-5},{"$f":"D66","v":8.6978801426992064E-5},8.9897425660598183E-5,9.8375275619856642E-5,1.0440006180422334E-4,1.265544910250267E-4,1.5173107388205385E-4,1.6532612403057095E-4,1.9059942606593905E-4,2.0468313312899667E-4,2.1151882577869624E-4,1.7707273470973385E-4,1.9857468847038137E-4,1.9256690452402054E-4,1.6272807011437411E-4,1.7133101596388247E-4,1.4696592263933566E-4,1.1303603257693683E-4,9.0977224035969511E-5,7.745071926125132E-5,7.6420878079033207E-5,7.8328281962827123E-5,7.8802439163556563E-5,8.0408954744554635E-5,"Kindergarten"]
[null,"Regular",8.3880991330044817E-5,8.6978801426992064E-5,8.9897425660598183E-5,9.8375275619856642E-5,1.0440006180422334E-4,1.265544910250267E-4,1.5173107388205385E-4,1.6532612403057095E-4,1.9059942606593905E-4,2.0468313312899667E-4,2.1151882577869624E-4,1.7707273470973385E-4,1.9857468847038137E-4,1.9256690452402054E-4,1.6272807011437411E-4,1.7133101596388247E-4,1.4696592263933566E-4,1.1303603257693683E-4,9.0977224035969511E-5,7.745071926125132E-5,7.6420878079033207E-5,7.8328281962827123E-5,7.8802439163556563E-5,8.0408954744554635E-5,"Kindergarten"]
["School","Efficient",1.02368043036124E-4,9.7278096005923981E-5,8.4843880524683508E-5,6.9254353416956953E-5,5.7779633998868375E-5,7.0847965373156137E-5,7.7183743016200632E-5,1.4047780124910416E-4,1.6904071755186902E-4,1.7461312202929189E-4,1.8675562167341173E-4,1.8000872618543931E-4,1.8905861871623957E-4,1.7639888349056012E-4,1.824184416667507E-4,1.7796816076442329E-4,1.4801990084356979E-4,1.2968283229292015E-4,1.1412233910806449E-4,1.1081585084869939E-4,1.1532524456769956E-4,1.1300991436496256E-4,1.0201250262717444E-4,9.8495393280775836E-5,"School"]
[null,"Regular",8.5792043404255689E-5,8.8875542336861271E-5,9.3594228975103267E-5,9.8665151481084978E-5,1.0331032448275214E-4,1.3416257192197504E-4,1.80227883155764E-4,1.928808206686446E-4,1.9451137905207894E-4,1.9015637196606109E-4,1.8952845070252132E-4,1.8160431026757284E-4,1.7557085908925858E-4,1.7088894778659284E-4,1.6075684286854334E-4,1.4716056059453715E-4,1.2577920272454393E-4,1.1376063049170891E-4,1.0750874937459443E-4,1.0155355225879032E-4,9.6778387889678467E-5,9.223772646605374E-5,8.5464324426900499E-5,8.4741446506344167E-5,"School"]
["University/Collage","Efficient",{"$f":"C63","v":7.2512212646358827E-5},{"$f":"D63","v":7.0002584892460228E-5},7.5610760899688081E-5,7.8895502783624748E-5,9.2720804170355747E-5,1.0079881873335733E-4,1.3809669195196536E-4,2.1822243050283763E-4,2.2755422224013969E-4,2.00313805089957E-4,1.9652782206247614E-4,1.9785636109417097E-4,2.0699053712300877E-4,2.2308364849002181E-4,2.0454850605155977E-4,1.6150516253244686E-4,1.2029443406572975E-4,8.6079898012027885E-5,6.8983964906616481E-5,5.8287441288506746E-5,5.9734788278632948E-5,6.8664724711285467E-5,7.8965475625242886E-5,7.317316104398598E-5,"University/Collage"]
[null,"Regular",{"$f":"C64","v":8.4595709579131576E-5},{"$f":"D64","v":8.4715175108055014E-5},8.365257172010853E-5,9.1748417518395443E-5,9.9388545792490567E-5,1.1019501853134024E-4,1.429112494894349E-4,1.4819376511158251E-4,1.6973033275030785E-4,1.6895541857128111E-4,1.6431262473892878E-4,1.7160617599207463E-4,1.6860630180891612E-4,1.6502927138892622E-4,1.588438288521393E-4,1.5013935355993307E-4,1.3660599953545699E-4,1.2684416151403422E-4,1.1593307096530965E-4,1.0928035019676914E-4,1.0103629095037466E-4,9.2670060373624874E-5,8.9849169582654275E-5,8.2697443351130139E-5,"University/Collage"]
["Hospital","Efficient",{"$f":"C72","v":1.03193907343687E-4},{"$f":"D72","v":1.0777127381210844E-4},1.0968504565350029E-4,1.1324138181977349E-4,1.1697136622234327E-4,1.2260981665634387E-4,1.2998047099380683E-4,1.2778623247734519E-4,1.2906707840991115E-4,1.4100466965798013E-4,1.3905696924259759E-4,1.3479142314487324E-4,1.3178430333174245E-4,1.2811425637552115E-4,1.2999212296862313E-4,1.2396677755386479E-4,1.219139102631037E-4,1.1574766178234727E-4,1.0788581688597198E-4,1.0727603887354451E-4,1.0735505382776736E-4,1.1177189353599678E-4,1.1380775102423587E-4,1.0890450638960799E-4,"Hospital"]
[null,"Regular",1.03193907343687E-4,1.0777127381210844E-4,1.0968504565350029E-4,1.1324138181977349E-4,1.1697136622234327E-4,1.2260981665634387E-4,1.2998047099380683E-4,1.2778623247734519E-4,1.2906707840991115E-4,1.4100466965798013E-4,1.3905696924259759E-4,1.3479142314487324E-4,1.3178430333174245E-4,1.2811425637552115E-4,1.2999212296862313E-4,1.2396677755386479E-4,1.219139102631037E-4,1.1574766178234727E-4,1.0788581688597198E-4,1.0727603887354451E-4,1.0735505382776736E-4,1.1177189353599678E-4,1.1380775102423587E-4,1.0890450638960799E-4,"Hospital"]
["Nursing home","Efficient",{"$f":"C74","v":9.0383846156315024E-5},{"$f":"D74","v":9.2204364278273819E-5},9.4610675650650422E-5,1.0500949871703351E-4,1.2227388721166603E-4,1.2833127452414146E-4,1.4176661865103948E-4,1.4572729989032333E-4,1.4683915084091979E-4,1.5580621564148766E-4,1.5775901267659341E-4,1.5478491090019548E-4,1.4689618247883048E-4,1.3450076229955439E-4,1.2968049742538579E-4,1.2408884708779434E-4,1.124642987386632E-4,1.0909994573521115E-4,1.0518712411101523E-4,1.0290907430578951E-4,9.4381048556073743E-5,8.9708799951811066E-5,8.9704890835684076E-5,8.9218071049140338E-5,"Nursing home"]
[null,"Regular",9.0383846156315024E-5,9.2204364278273819E-5,9.4610675650650422E-5,1.0500949871703351E-4,1.2227388721166603E-4,1.2833127452414146E-4,1.4176661865103948E-4,1.4572729989032333E-4,1.4683915084091979E-4,1.5580621564148766E-4,1.5775901267659341E-4,1.5478491090019548E-4,1.4689618247883048E-4,1.3450076229955439E-4,1.2968049742538579E-4,1.2408884708779434E-4,1.124642987386632E-4,1.0909994573521115E-4,1.0518712411101523E-4,1.0290907430578951E-4,9.4381048556073743E-5,8.9708799951811066E-5,8.9704890835684076E-5,8.9218071049140338E-5,"Nursing home"]
["Hotel","Efficient",{"$f":"C76","v":8.2027093870787505E-5},{"$f":"D76","v":6.1207434639978019E-5},5.2207266091855286E-5,5.8214294017832272E-5,6.1927845993992164E-5,7.3365073344118552E-5,1.4030791461013329E-4,2.0431429926695224E-4,2.2019549912868561E-4,1.7795789797384897E-4,1.5351832775743602E-4,1.2714215781077127E-4,1.1024830346804936E-4,1.0438822946991913E-4,9.9320193859934701E-5,9.7151988746373071E-5,9.8817672605479951E-5,1.0362865537274319E-4,1.1623491765808504E-4,1.1517968774005935E-4,1.1283712310208144E-4,1.2784854382531094E-4,1.3214306531599175E-4,1.0954254172678026E-4,"Hotel"]
[null,"Regular",8.2027093870787505E-5,6.1207434639978019E-5,5.2207266091855286E-5,5.8214294017832272E-5,6.1927845993992164E-5,7.3365073344118552E-5,1.4030791461013329E-4,2.0431429926695224E-4,2.2019549912868561E-4,1.7795789797384897E-4,1.5351832775743602E-4,1.2714215781077127E-4,1.1024830346804936E-4,1.0438822946991913E-4,9.9320193859934701E-5,9.7151988746373071E-5,9.8817672605479951E-5,1.0362865537274319E-4,1.1623491765808504E-4,1.1517968774005935E-4,1.1283712310208144E-4,1.2784854382531094E-4,1.3214306531599175E-4,1.0954254172678026E-4,"Hotel"]
["Sports Facility","Efficient",{"$f":"C73","v":9.0383846156315024E-5},9.2204364278273819E-5,9.4610675650650422E-5,1.0500949871703351E-4,1.2227388721166603E-4,1.2833127452414146E-4,1.4176661865103948E-4,1.4572729989032333E-4,1.4683915084091979E-4,1.5580621564148766E-4,1.5775901267659341E-4,1.5478491090019548E-4,1.4689618247883048E-4,1.3450076229955439E-4,1.2968049742538579E-4,1.2408884708779434E-4,1.124642987386632E-4,1.0909994573521115E-4,1.0518712411101523E-4,1.0290907430578951E-4,9.4381048556073743E-5,8.9708799951811066E-5,8.9704890835684076E-5,8.9218071049140338E-5,"Sports Facility"]
[null,"Regular",{"$f":"C74","v":9.0383846156315024E-5},9.2204364278273819E-5,9.4610675650650422E-5,1.0500949871703351E-4,1.2227388721166603E-4,1.2833127452414146E-4,1.4176661865103948E-4,1.4572729989032333E-4,1.4683915084091979E-4,1.5580621564148766E-4,1.5775901267659341E-4,1.5478491090019548E-4,1.4689618247883048E-4,1.3450076229955439E-4,1.2968049742538579E-4,1.2408884708779434E-4,1.124642987386632E-4,1.0909994573521115E-4,1.0518712411101523E-4,1.0290907430578951E-4,9.4381048556073743E-5,8.9708799951811066E-5,8.9704890835684076E-5,8.9218071049140338E-5,"Sports Facility"]
["Comercial building","Efficient",{"$f":"C80","v":1.0158054888575136E-4},{"$f":"D80","v":1.0182140934314421E-4},1.0363393584887217E-4,1.0610762545600675E-4,1.0766874956234368E-4,1.1651359931966047E-4,1.2646565091123233E-4,1.4018502589670489E-4,1.4599991526836219E-4,1.4753390533268622E-4,1.4463581089106488E-4,1.4318558343109561E-4,1.3914625501637679E-4,1.3958647276386129E-4,1.3722581110875895E-4,1.3464521245940385E-4,1.3302012626585655E-4,1.2232108641465383E-4,1.1834565133535001E-4,1.1251231356519593E-4,1.0888221875539309E-4,1.037425636859837E-4,9.9384387360351066E-5,9.8458988191033666E-5,"Comercial building"]
[null,"Regular",1.0158054888575136E-4,1.0182140934314421E-4,1.0363393584887217E-4,1.0610762545600675E-4,1.0766874956234368E-4,1.1651359931966047E-4,1.2646565091123233E-4,1.4018502589670489E-4,1.4599991526836219E-4,1.4753390533268622E-4,1.4463581089106488E-4,1.4318558343109561E-4,1.3914625501637679E-4,1.3958647276386129E-4,1.3722581110875895E-4,1.3464521245940385E-4,1.3302012626585655E-4,1.2232108641465383E-4,1.1834565133535001E-4,1.1251231356519593E-4,1.0888221875539309E-4,1.037425636859837E-4,9.9384387360351066E-5,9.8458988191033666E-5,"Comercial building"]
["Cultural building","Efficient",{"$f":"C63","v":7.2512212646358827E-5},7.0002584892460228E-5,7.5610760899688081E-5,7.8895502783624748E-5,9.2720804170355747E-5,1.0079881873335733E-4,1.3809669195196536E-4,2.1822243050283763E-4,2.2755422224013969E-4,2.00313805089957E-4,1.9652782206247614E-4,1.9785636109417097E-4,2.0699053712300877E-4,2.2308364849002181E-4,2.0454850605155977E-4,1.6150516253244686E-4,1.2029443406572975E-4,8.6079898012027885E-5,6.8983964906616481E-5,5.8287441288506746E-5,5.9734788278632948E-5,6.8664724711285467E-5,7.8965475625242886E-5,7.317316104398598E-5,"Cultural building"]
[null,"Regular",{"$f":"C64","v":8.4595709579131576E-5},8.4715175108055014E-5,8.365257172010853E-5,9.1748417518395443E-5,9.9388545792490567E-5,1.1019501853134024E-4,1.429112494894349E-4,1.4819376511158251E-4,1.6973033275030785E-4,1.6895541857128111E-4,1.6431262473892878E-4,1.7160617599207463E-4,1.6860630180891612E-4,1.6502927138892622E-4,1.588438288521393E-4,1.5013935355993307E-4,1.3660599953545699E-4,1.2684416151403422E-4,1.1593307096530965E-4,1.0928035019676914E-4,1.0103629095037466E-4,9.2670060373624874E-5,8.9849169582654275E-5,8.2697443351130139E-5,"Cultural building"]
["Industry/Workshop","Efficient",{"$f":"C63","v":7.2512212646358827E-5},7.0002584892460228E-5,7.5610760899688081E-5,7.8895502783624748E-5,9.2720804170355747E-5,1.0079881873335733E-4,1.3809669195196536E-4,2.1822243050283763E-4,2.2755422224013969E-4,2.00313805089957E-4,1.9652782206247614E-4,1.9785636109417097E-4,2.0699053712300877E-4,2.2308364849002181E-4,2.0454850605155977E-4,1.6150516253244686E-4,1.2029443406572975E-4,8.6079898012027885E-5,6.8983964906616481E-5,5.8287441288506746E-5,5.9734788278632948E-5,6.8664724711285467E-5,7.8965475625242886E-5,7.317316104398598E-5,"Industry/Workshop"]
[null,"Regular",{"$f":"C64","v":8.4595709579131576E-5},8.4715175108055014E-5,8.365257172010853E-5,9.1748417518395443E-5,9.9388545792490567E-5,1.1019501853134024E-4,1.429112494894349E-4,1.4819376511158251E-4,1.6973033275030785E-4,1.6895541857128111E-4,1.6431262473892878E-4,1.7160617599207463E-4,1.6860630180891612E-4,1.6502927138892622E-4,1.588438288521393E-4,1.5013935355993307E-4,1.3660599953545699E-4,1.2684416151403422E-4,1.1593307096530965E-4,1.0928035019676914E-4,1.0103629095037466E-4,9.2670060373624874E-5,8.9849169582654275E-5,8.2697443351130139E-5,"Industry/Workshop"]

{"sheet":"Test","index":8,"n_rows":56,"n_cols":82,"rows_kept":56,"cut":false,"hidden":true,"merged":[]}
[null,"Work","Service","Private errand","Utside Service","Goods transport","Other",null,"Walk/bike","Work","Service","Private errand","Utside Service","Goods transport","Other",null,"Walk/bike","Work","Service","Private errand","Utside Service","Goods transport","Other",null,"Walk/bike","Work","Service","Private errand","Utside Service","Goods transport","Other",null,"Walk/bike","Work","Service","Private errand","Utside Service","Goods transport","Other",null,"Walk/bike","Work","Service","Private errand","Utside Service","Goods transport","Other"]
["Residential individual housing",0,0,0,0,0,0,null,null,0,0,0,0,0,0,null,null,null,null,null,null,null,null,null,null,0,0,0,0,0,0,null,null,0,0,0,0,0,0,null,null,0,0,0,0,0,0,null,null,0,0,0,0,0,0,null,null,0,0,0,0,0,0,null,null,0,0,0,0,0,0,null,null,0,null,null,null,null,null,null,null,0]
["Residential apartment building",2489.6000000000004,311.20000000000005,3112,5290.4,311.20000000000005,0,null,null,497.92000000000007,52.904000000000011,1431.52,899.36800000000005,0,0,null,null,null,null,null,null,null,null,null,null,497.92000000000007,52.904000000000011,1431.52,899.36800000000005,0,0,null,null,0,0,0,0,0,0,null,null,0,0,0,0,0,0,null,null,0,0,0,0,0,0,null,null,0,0,0,0,0,0,null,null,0,0,0,0,0,0,null,null,44419539.97342658,null,null,null,null,null,null,null,361134.47132867126]
["Office building",816,306,102,51,102,729.3,null,null,122.39999999999999,52.02,46.92,8.67,0,313.59899999999999,null,null,null,null,null,null,null,null,null,null,122.39999999999999,52.02,46.92,8.67,0,313.59899999999999,null,null,0,0,0,0,0,0,null,null,0,0,0,0,0,0,null,null,0,0,0,0,0,0,null,null,0,0,0,0,0,0,null,null,0,0,0,0,0,0,null,null,3835542137.9260697,null,null,null,null,null,null,null,11977715.145751746]
["Kindergarten",73.600000000000009,27.599999999999998,9.2000000000000011,4.6000000000000005,9.2000000000000011,237,null,null,11.040000000000001,4.6920000000000002,4.2320000000000011,0.78200000000000014,0,101.91,null,null,null,null,null,null,null,null,null,null,11.040000000000001,4.6920000000000002,4.2320000000000011,0.78200000000000014,0,101.91,null,null,0,0,0,0,0,0,null,null,0,0,0,0,0,0,null,null,0,0,0,0,0,0,null,null,0,0,0,0,0,0,null,null,0,0,0,0,0,0,null,null,34507622.974146582,null,null,null,null,null,null,null,280549.78027761466]
["School",160,60,20,10,20,614.19999999999993,null,null,24,10.200000000000001,9.2000000000000011,1.7000000000000002,0,264.10599999999999,null,null,null,null,null,null,null,null,null,null,24,10.200000000000001,9.2000000000000011,1.7000000000000002,0,264.10599999999999,null,null,0,0,0,0,0,0,null,null,0,0,0,0,0,0,null,null,0,0,0,0,0,0,null,null,0,0,0,0,0,0,null,null,0,0,0,0,0,0,null,null,2499359940.9729214,null,null,null,null,null,null,null,3407491.7795627695]
["University/Collage",0,0,0,0,0,0,null,null,0,0,0,0,0,0,null,null,null,null,null,null,null,null,null,null,0,0,0,0,0,0,null,null,0,0,0,0,0,0,null,null,0,0,0,0,0,0,null,null,0,0,0,0,0,0,null,null,0,0,0,0,0,0,null,null,0,0,0,0,0,0,null,null,14243833.510489509,null,null,null,null,null,null,null,115803.52447552448]
["Hospital",0,0,0,0,0,0,null,null,0,0,0,0,0,0,null,null,null,null,null,null,null,null,null,null,0,0,0,0,0,0,null,null,0,0,0,0,0,0,null,null,0,0,0,0,0,0,null,null,0,0,0,0,0,0,null,null,0,0,0,0,0,0,null,null,0,0,0,0,0,0,null,null,410759057.93510491,null,null,null,null,null,null,null,1299870.4365034963]
["Nursing home",334.40000000000003,125.39999999999999,41.800000000000004,20.900000000000002,41.800000000000004,370,null,null,50.160000000000004,21.318000000000001,19.228000000000002,3.5530000000000008,0,159.1,null,null,null,null,null,null,null,null,null,null,50.160000000000004,21.318000000000001,19.228000000000002,3.5530000000000008,0,159.1,null,null,0,0,0,0,0,0,null,null,0,0,0,0,0,0,null,null,0,0,0,0,0,0,null,null,0,0,0,0,0,0,null,null,0,0,0,0,0,0]
["Hotel",0,0,0,0,0,0,null,null,0,0,0,0,0,0,null,null,null,null,null,null,null,null,null,null,0,0,0,0,0,0,null,null,0,0,0,0,0,0,null,null,0,0,0,0,0,0,null,null,0,0,0,0,0,0,null,null,0,0,0,0,0,0,null,null,0,0,0,0,0,0]
["Sports Facility",40,15,5,2.5,5,0,null,null,6,2.5500000000000003,2.3000000000000003,0.42500000000000004,0,0,null,null,null,null,null,null,null,null,null,null,6,2.5500000000000003,2.3000000000000003,0.42500000000000004,0,0,null,null,0,0,0,0,0,0,null,null,0,0,0,0,0,0,null,null,0,0,0,0,0,0,null,null,0,0,0,0,0,0,null,null,0,0,0,0,0,0]
["Comercial building",432,54,27,27,270,8250,null,null,86.4,9.1800000000000015,12.42,4.5900000000000007,0,3630,null,null,null,null,null,null,null,null,null,null,86.4,9.1800000000000015,12.42,4.5900000000000007,0,3630,null,null,0,0,0,0,0,0,null,null,0,0,0,0,0,0,null,null,0,0,0,0,0,0,null,null,0,0,0,0,0,0,null,null,0,0,0,0,0,0]
["Cultural building",48,18,6,3,6,4207.5,null,null,9.6000000000000014,3.06,2.7600000000000002,0.51,0,1851.3,null,null,null,null,null,null,null,null,null,null,9.6000000000000014,3.06,2.7600000000000002,0.51,0,1851.3,null,null,0,0,0,0,0,0,null,null,0,0,0,0,0,0,null,null,0,0,0,0,0,0,null,null,0,0,0,0,0,0,null,null,0,0,0,0,0,0]
["Industry/Workshop",288,36,18,18,180,0,null,null,43.199999999999996,6.12,8.2800000000000011,3.06,0,0,null,null,null,null,null,null,null,null,null,null,43.199999999999996,6.12,8.2800000000000011,3.06,0,0,null,null,0,0,0,0,0,0,null,null,0,0,0,0,0,0,null,null,0,0,0,0,0,0,null,null,0,0,0,0,0,0,null,null,0,0,0,0,0,0]
[]
[null,null,null,null,null,null,null,null,"Public",0,0,0,0,0,0,null,"Public",null,null,null,null,null,null,null,"Public",0,0,0,0,0,0,null,"Bus",0,0,0,0,0,0,null,"Bus",0,0,0,0,0,0,null,null,0,0,0,0,0,0,null,null,0,0,0,0,0,0,null,null,0,0,0,0,0,0]
[null,null,null,null,null,null,null,null,null,1244.8000000000002,87.136000000000024,684.64,1481.3120000000001,0,0,null,null,null,null,null,null,null,null,null,null,1244.8000000000002,87.136000000000024,684.64,1481.3120000000001,0,0,null,null,58763.426429240877,4113.4398500468624,32319.884536082482,69928.477450796636,0,0,null,null,62610880.485288866,4382761.6339702215,34435984.266908869,74506947.77749373,0,0,null,null,7521.7185829428336,526.52030080599843,4136.9452206185579,8950.8451137019711,0,0,null,null,195207.94018856611,13664.555813199629,107364.36710371135,232297.44882439365,0,0,null,null,202729.65877150893,14191.076114005627,111501.31232432991,241248.29393809562,0,0]
[null,null,null,null,null,null,null,null,null,301.92,85.68,22.44,14.280000000000001,0,182.32499999999999,null,null,null,null,null,null,null,null,null,null,301.92,85.68,22.44,14.280000000000001,0,182.32499999999999,null,null,14252.77450796626,4044.7062792877236,1059.3278350515463,674.11771321462049,0,8607.0386597938159,null,null,15185955.202537283,4309527.8277470684,1128685.8596480412,718254.63795784453,0,9170572.6096403357,null,null,1824.3551370196813,517.7224037488287,135.59396288659795,86.287067291471431,0,1101.7009484536086,null,null,47346.707343936265,13436.227759765699,3519.012032319587,2239.3712932942826,0,28591.972762596648,null,null,49171.062480955945,13953.950163514528,3654.6059952061851,2325.6583605857541,0,29693.673711050258]
[null,null,null,null,null,null,null,null,null,27.232000000000003,7.7279999999999998,2.0240000000000005,1.2880000000000003,0,59.25,null,null,null,null,null,null,null,null,null,null,27.232000000000003,7.7279999999999998,2.0240000000000005,1.2880000000000003,0,59.25,null,null,1285.5443673851926,364.81664479850048,95.547216494845401,60.802774133083432,0,2797.0220243673853,null,null,1369713.6065033632,388702.50995365699,101803.03832119591,64783.751658942841,0,2980153.1721990393,null,null,164.54967902530467,46.696530534208065,12.230043711340212,7.7827550890346799,0,358.01881911902535,null,null,4270.4873290609194,1211.8950528416119,317.40108526804136,201.98250880693539,0,9291.5090425550607,null,null,4435.037008086224,1258.5915833758199,329.63112897938157,209.76526389597007,0,9649.5278616740852]
[null,null,null,null,null,null,null,null,null,59.2,16.8,4.4000000000000004,2.8000000000000003,0,153.54999999999998,null,null,null,null,null,null,null,null,null,null,59.2,16.8,4.4000000000000004,2.8000000000000003,0,153.54999999999998,null,null,2794.6616682286785,793.07966260543594,207.71134020618561,132.17994376757267,0,7248.6537019681346,null,null,2977638.2750073103,845005.45642099355,221310.95287216501,140834.24273683227,0,7723249.2758002095,null,null,357.71669353327093,101.5141968134958,26.587051546391759,16.919032802249301,0,927.8276738519213,null,null,9283.6681066541696,2634.5544626991568,690.00235927835058,439.09241044985947,0,24079.514151634248,null,null,9641.3848001874412,2736.0686595126526,716.58941082474234,456.01144325210879,0,25007.341825486168]
[null,null,null,null,null,null,null,null,null,0,0,0,0,0,0,null,null,null,null,null,null,null,null,null,null,0,0,0,0,0,0,null,null,0,0,0,0,0,0,null,null,0,0,0,0,0,0,null,null,0,0,0,0,0,0,null,null,0,0,0,0,0,0,null,null,0,0,0,0,0,0]
[null,null,null,null,null,null,null,null,null,0,0,0,0,0,0,null,null,null,null,null,null,null,null,null,null,0,0,0,0,0,0,null,null,0,0,0,0,0,0,null,null,0,0,0,0,0,0,null,null,0,0,0,0,0,0,null,null,0,0,0,0,0,0,null,null,0,0,0,0,0,0]
[null,null,null,null,null,null,null,null,null,123.72800000000001,35.112000000000002,9.1960000000000015,5.8520000000000012,0,92.5,null,null,null,null,null,null,null,null,null,null,123.72800000000001,35.112000000000002,9.1960000000000015,5.8520000000000012,0,92.5,null,null,5840.8428865979395,1657.5364948453609,434.11670103092791,276.2560824742269,0,4366.6588566073096,null,null,6223263.9947652798,1766061.4039198763,462539.89150282484,294343.56731997943,0,4652559.8046989217,null,null,747.62788948453635,212.16467134020624,55.566937731958774,35.36077855670105,0,558.93233364573564,null,null,19402.866342907218,5506.2188270412362,1442.1049308917525,917.70313784020641,0,14505.731416647137,null,null,20150.494232391757,5718.3834983814422,1497.6718686237114,953.06391639690742,0,15064.663750292873]
[null,null,null,null,null,null,null,null,null,0,0,0,0,0,0,null,null,null,null,null,null,null,null,null,null,0,0,0,0,0,0,null,null,0,0,0,0,0,0,null,null,0,0,0,0,0,0,null,null,0,0,0,0,0,0,null,null,0,0,0,0,0,0,null,null,0,0,0,0,0,0]
[null,null,null,null,null,null,null,null,null,14.8,4.2,1.1000000000000001,0.70000000000000007,0,0,null,null,null,null,null,null,null,null,null,null,14.8,4.2,1.1000000000000001,0.70000000000000007,0,0,null,null,698.66541705716963,198.26991565135899,51.927835051546403,33.044985941893167,0,0,null,null,744409.56875182758,211251.36410524839,55327.738218041253,35208.560684208067,0,0,null,null,89.429173383317732,25.37854920337395,6.6467628865979398,4.2297582005623253,0,0,null,null,2320.9170266635424,658.63861567478921,172.50058981958765,109.77310261246487,0,0,null,null,2410.3462000468603,684.01716487816316,179.14735270618559,114.0028608130272,0,0]
[null,null,null,null,null,null,null,null,null,216,15.120000000000001,5.94,7.5600000000000005,0,2310,null,null,null,null,null,null,null,null,null,null,216,15.120000000000001,5.94,7.5600000000000005,0,2310,null,null,10196.738519212744,713.77169634489235,280.41030927835061,356.88584817244617,0,109048.45360824744,null,null,10864355.868269913,760504.91077889421,298769.78637742274,380252.4553894471,0,116188250.25788662,null,null,1305.1825304592312,91.362777132146221,35.892519587628883,45.68138856607311,0,13958.202061855671,null,null,33872.843091846284,2371.0990164292407,931.5031850257734,1185.5495082146203,0,362251.23862113402,null,null,35178.025622305518,2462.4617935613869,967.39570461340224,1231.2308967806935,0,376209.44068298966]
[null,null,null,null,null,null,null,null,null,24,5.0400000000000009,1.32,0.84000000000000008,0,1178.1000000000001,null,null,null,null,null,null,null,null,null,null,24,5.0400000000000009,1.32,0.84000000000000008,0,1178.1000000000001,null,null,1132.9709465791941,237.92389878163081,62.313402061855669,39.653983130271797,0,55614.711340206195,null,null,1207150.6520299909,253501.63692629809,66393.285861649492,42250.272821049679,0,59256007.631522179,null,null,145.02028116213685,30.454259044048747,7.9761154639175267,5.07570984067479,0,7118.6830515463944,null,null,3763.6492324273659,790.36633880974705,207.00070778350513,131.72772313495784,0,184748.13169677835,null,null,3908.6695135895029,820.82059785379579,214.97682324742266,136.80343297563263,0,191866.81474832474]
[null,null,null,null,null,null,null,null,null,106.56,10.080000000000002,3.96,5.0400000000000009,0,0,null,null,null,null,null,null,null,null,null,null,106.56,10.080000000000002,3.96,5.0400000000000009,0,0,null,null,5030.3910028116215,475.84779756326162,186.94020618556701,237.92389878163081,0,0,null,null,5359748.8950131582,507003.27385259618,199179.85758494845,253501.63692629809,0,0,null,null,643.8900483598876,60.908518088097495,23.92834639175258,30.454259044048747,0,0,null,null,16710.602591977506,1580.7326776194941,621.00212335051538,790.36633880974705,0,0,null,null,17354.492640337394,1641.6411957075916,644.93046974226797,820.82059785379579,0,0]
[]
[null,null,null,null,null,null,null,null,"Car",0,0,0,0,0,0,null,"Car",null,null,null,null,null,null,null,"Car",0,0,0,0,0,0,null,"Rail",0,0,0,0,0,0,null,"Rail",0,0,0,0,0,0,null,null,0,0,0,0,0,0,null,null,0,0,0,0,0,0,null,null,0,0,0,0,0,0]
[null,null,null,null,null,null,null,null,null,746.88000000000011,171.16000000000003,995.84,2909.7200000000003,311.20000000000005,0,null,null,null,null,null,null,null,null,null,null,746.88000000000011,171.16000000000003,995.84,2909.7200000000003,311.20000000000005,0,null,null,88145.139643861316,6170.1597750702922,48479.826804123724,104892.71617619494,0,0,null,null,303489629.09329641,21244274.036530748,166919296.001313,361152658.62102264,0,0,null,null,33012.924578044607,2310.904720463122,18157.108517924531,39285.380247873072,0,0,null,null,297116.32120240142,20798.1424841681,163413.97666132078,353568.4222308576,0,0,null,null,330129.24578044604,23109.047204631221,181571.0851792453,392853.80247873068,0,0]
[null,null,null,null,null,null,null,null,null,391.68,168.3,32.64,28.05,102,233.37599999999998,null,null,391.68,null,null,null,null,233.37599999999998,null,null,391.68,168.3,32.64,28.05,102,233.37599999999998,null,null,21379.161761949392,6067.0594189315852,1588.9917525773194,1011.1765698219307,0,12910.557989690722,null,null,73609888.187538579,20889292.593760952,5471005.2031278675,3481548.7656268254,0,44451917.27541393,null,null,8007.119367451176,2272.2906313037124,595.12373677001983,378.71510521728538,0,4835.3803612564116,null,null,72064.074307060582,20450.615681733412,5356.1136309301783,3408.4359469555684,0,43518.423251307708,null,null,80071.193674511756,22722.906313037125,5951.2373677001979,3787.1510521728537,0,48353.803612564123]
[null,null,null,null,null,null,null,null,null,35.328000000000003,15.18,2.9440000000000004,2.5300000000000007,9.2000000000000011,75.84,null,null,35.328000000000003,null,null,null,null,75.84,null,null,35.328000000000003,15.18,2.9440000000000004,2.5300000000000007,9.2000000000000011,75.84,null,null,1928.3165510777883,547.22496719775063,143.32082474226809,91.204161199625148,0,4195.5330365510772,null,null,6639323.2482877942,1884132.2731627522,493463.21439976862,314022.04552712553,0,14445501.706119703,null,null,722.21076647598852,204.95170399994265,53.677827238080241,34.158617333323789,0,1571.3494386641564,null,null,6499.896898283896,1844.5653359994838,483.10044514272215,307.42755599991409,0,14142.144947977407,null,null,7222.1076647598848,2049.5170399994263,536.77827238080238,341.58617333323787,0,15713.494386641563]
[null,null,null,null,null,null,null,null,null,76.8,33,6.4,5.5,20,196.54399999999998,null,null,76.8,null,null,null,null,196.54399999999998,null,null,76.8,33,6.4,5.5,20,196.54399999999998,null,null,4191.9925023430178,1189.6194939081536,311.56701030927837,198.26991565135896,0,10872.9805529522,null,null,14433311.40932129,4095939.7242668523,1072746.1182603664,682656.6207111422,0,37436401.467927091,null,null,1570.0234053825836,445.54718260857101,116.69092877843528,74.257863768095177,0,4072.2482077110749,null,null,14130.210648443253,4009.9246434771389,1050.2183590059176,668.32077391285657,0,36650.233869399672,null,null,15700.234053825838,4455.4718260857098,1166.909287784353,742.57863768095172,0,40722.482077110748]
[null,null,null,null,null,null,null,null,null,0,0,0,0,0,0,null,null,0,null,null,null,null,0,null,null,0,0,0,0,0,0,null,null,0,0,0,0,0,0,null,null,0,0,0,0,0,0,null,null,0,0,0,0,0,0,null,null,0,0,0,0,0,0,null,null,0,0,0,0,0,0]
[null,null,null,null,null,null,null,null,null,0,0,0,0,0,0,null,null,0,null,null,null,null,0,null,null,0,0,0,0,0,0,null,null,0,0,0,0,0,0,null,null,0,0,0,0,0,0,null,null,0,0,0,0,0,0,null,null,0,0,0,0,0,0,null,null,0,0,0,0,0,0]
[null,null,null,null,null,null,null,null,null,160.512,68.97,13.376000000000001,11.495000000000003,41.800000000000004,118.4,null,null,160.512,null,null,null,null,118.4,null,null,160.512,68.97,13.376000000000001,11.495000000000003,41.800000000000004,118.4,null,null,8761.2643298969087,2486.3047422680415,651.17505154639196,414.38412371134029,0,6549.9882849109645,null,null,30165620.845481504,8560514.0237177238,2242039.3871641657,1426752.3372862872,0,22552049.077064514,null,null,3281.3489172496006,931.19361165191356,243.88404114692977,155.19893527531895,0,2453.1615709102866,null,null,29532.140255246402,8380.7425048672212,2194.956370322368,1396.7904174778703,0,22078.454138192581,null,null,32813.489172496003,9311.9361165191349,2438.8404114692976,1551.9893527531892,0,24531.615709102869]
[null,null,null,null,null,null,null,null,null,0,0,0,0,0,0,null,null,0,null,null,null,null,0,null,null,0,0,0,0,0,0,null,null,0,0,0,0,0,0,null,null,0,0,0,0,0,0,null,null,0,0,0,0,0,0,null,null,0,0,0,0,0,0,null,null,0,0,0,0,0,0]
[null,null,null,null,null,null,null,null,null,19.2,8.25,1.6,1.375,5,0,null,null,19.2,null,null,null,null,0,null,null,19.2,8.25,1.6,1.375,5,0,null,null,1047.9981255857545,297.40487347703839,77.891752577319593,49.567478912839739,0,0,null,null,3608327.8523303224,1023984.9310667131,268186.52956509159,170664.15517778555,0,0,null,null,392.50585134564591,111.38679565214275,29.17273219460882,18.564465942023794,0,0,null,null,3532.5526621108133,1002.4811608692847,262.5545897514794,167.08019347821414,0,0,null,null,3925.0585134564594,1113.8679565214275,291.72732194608824,185.64465942023793,0,0]
[null,null,null,null,null,null,null,null,null,129.6,29.700000000000003,8.64,14.850000000000001,270,2310,null,null,129.6,null,null,null,null,2310,null,null,129.6,29.700000000000003,8.64,14.850000000000001,270,2310,null,null,15295.10777881912,1070.6575445173385,420.61546391752586,535.32877225866923,0,163572.68041237115,null,null,52662082.169145256,3686345.7518401677,1448207.2596514949,1843172.8759200838,0,563191712.08669245,null,null,5728.4637763959136,400.99246434771396,157.53275385088764,200.49623217385698,0,61262.737608678523,null,null,51556.173987563219,3608.9321791294255,1417.7947846579889,1804.4660895647128,0,551364.6384781067,null,null,57284.63776395913,4009.9246434771394,1575.3275385088766,2004.9623217385697,0,612627.37608678523]
[null,null,null,null,null,null,null,null,null,14.399999999999999,9.9,1.92,1.6500000000000001,6,1178.1000000000001,null,null,14.399999999999999,null,null,null,null,1178.1000000000001,null,null,14.399999999999999,9.9,1.92,1.6500000000000001,6,1178.1000000000001,null,null,1699.456419868791,356.88584817244617,93.470103092783503,59.480974695407696,0,83422.067010309285,null,null,5851342.4632383613,1228781.9172800563,321823.83547810989,204796.98621334266,0,287227773.16421306,null,null,636.49597515510141,133.66415478257133,35.007278633530575,22.277359130428554,0,31243.996180426046,null,null,5728.4637763959126,1202.9773930431418,315.06550770177518,200.49623217385698,0,281195.9656238344,null,null,6364.9597515510141,1336.6415478257131,350.07278633530575,222.77359130428553,0,312439.96180426044]
[null,null,null,null,null,null,null,null,null,138.24,19.8,5.76,9.9,180,0,null,null,138.24,null,null,null,null,0,null,null,138.24,19.8,5.76,9.9,180,0,null,null,7545.5865042174319,713.77169634489235,280.41030927835055,356.88584817244617,0,0,null,null,25979960.536778323,2457563.8345601126,965471.50643432979,1228781.9172800563,0,0,null,null,2826.0421296886507,267.32830956514266,105.02183590059177,133.66415478257133,0,0,null,null,25434.379167197854,2405.9547860862835,945.19652310532581,1202.9773930431418,0,0,null,null,28260.421296886503,2673.2830956514263,1050.2183590059176,1336.6415478257131,0,0]
[]
[null,null,null,null,null,null,null,null,null,null,null,null,null,null,null,null,null,null,null,null,null,null,null,null,null,null,null,null,null,null,null,null,null,0,0,0,0,0,0,null,null,0,0,0,0,0,0,null,null,0,0,0,0,0,0,null,null,0,0,0,0,0,0,null,null,0,0,0,0,0,0]
[null,null,null,null,null,null,null,null,null,null,null,null,null,null,null,null,null,null,null,null,null,null,null,null,null,null,null,null,null,null,null,null,"Car",1525097.6223776224,349501.5384615385,2033463.4965034963,5941526.1538461531,635457.34265734267,0,null,"Car",278551214.55969232,63834653.336596161,371401619.4129231,1085189106.7221344,139929009.5406993,0,null,null,25926.659580419582,5941.5261538461555,34568.879440559445,101005.94461538462,38127.440559440562,0,null,null,859907.23065734259,197062.07369230772,1146542.9742097901,3350055.2527692304,427972.57706293702,0,null,null,885833.89023776213,203003.59984615387,1181111.8536503497,3451061.197384615,466100.01762237761,0]
[null,null,null,null,null,null,null,null,null,null,null,null,null,null,null,null,null,null,null,null,null,null,null,null,null,null,null,null,null,null,null,null,null,799794.12587412586,343661.53846153844,66649.510489510489,57276.923076923078,208279.72027972026,476543.99999999994,null,null,146078271.90276924,62768007.458221145,12173189.32523077,10461334.576370193,45863621.379020974,87038303.675399989,null,null,13596.50013986014,5842.2461538461539,1133.0416783216785,973.70769230769247,12496.783216783217,8101.2479999999996,null,null,450953.9204475524,193769.26269230768,37579.493370629374,32294.877115384614,140273.78811188811,268693.37759999995,null,null,464550.42058741255,199611.50884615383,38712.535048951053,33268.584807692307,152770.57132867133,276794.62559999997]
[null,null,null,null,null,null,null,null,null,null,null,null,null,null,null,null,null,null,null,null,null,null,null,null,null,null,null,null,null,null,null,null,null,72138.293706293698,30996.923076923074,6011.5244755244757,5166.1538461538466,18786.013986013983,154862.09790209788,null,null,13175687.269661538,5661428.1236826917,1097973.9391384616,943571.35394711548,4136718.7910489505,28284763.432153843,null,null,1226.3509930069929,526.94769230769236,102.1959160839161,87.824615384615413,1127.160839160839,2632.6556643356644,null,null,40674.275177622374,17477.227615384614,3389.5229314685312,2912.871269230769,12652.145594405591,87317.058125874115,null,null,41900.626170629366,18004.175307692305,3491.7188475524472,3000.6958846153843,13779.306433566429,89949.713790209775]
[null,null,null,null,null,null,null,null,null,null,null,null,null,null,null,null,null,null,null,null,null,null,null,null,null,null,null,null,null,null,null,null,null,156822.37762237759,67384.615384615376,13068.531468531468,11230.76923076923,40839.160839160839,401334.60139860131,null,null,28642798.412307687,12307452.442788459,2386899.867692308,2051242.0737980769,8992866.9370629378,73301694.936830744,null,null,2665.9804195804195,1145.5384615384617,222.16503496503498,190.92307692307693,2450.3496503496503,6822.6882237762229,null,null,88422.337342657323,37993.973076923074,7368.5281118881121,6332.3288461538459,27504.664335664333,226287.49831608386,null,null,91088.317762237741,39139.511538461535,7590.6931468531475,6523.251923076923,29955.013986013983,233110.18653986009]
[null,null,null,null,null,null,null,null,null,null,null,null,null,null,null,null,null,null,null,null,null,null,null,null,null,null,null,null,null,null,null,null,null,0,0,0,0,0,0,null,null,0,0,0,0,0,0,null,null,0,0,0,0,0,0,null,null,0,0,0,0,0,0,null,null,0,0,0,0,0,0]
[null,null,null,null,null,null,null,null,null,null,null,null,null,null,null,null,null,null,null,null,null,null,null,null,null,null,null,null,null,null,null,null,null,0,0,0,0,0,0,null,null,0,0,0,0,0,0,null,null,0,0,0,0,0,0,null,null,0,0,0,0,0,0,null,null,0,0,0,0,0,0]
[null,null,null,null,null,null,null,null,null,null,null,null,null,null,null,null,null,null,null,null,null,null,null,null,null,null,null,null,null,null,null,null,null,327758.76923076919,140833.84615384616,27313.230769230766,23472.307692307695,85353.846153846156,241767.83216783212,null,null,59863448.681723066,25722575.605427884,4988620.7234769231,4287095.9342379812,18795091.898461539,44157647.552307688,null,null,5571.8990769230768,2394.1753846153852,464.32492307692314,399.02923076923088,5121.2307692307695,4110.0531468531472,null,null,184802.68504615381,79407.40373076922,15400.223753846152,13234.56728846154,57484.74846153846,136317.77006993003,null,null,190374.5841230769,81801.579115384608,15864.548676923076,13633.59651923077,62605.979230769226,140427.82321678317]
[null,null,null,null,null,null,null,null,null,null,null,null,null,null,null,null,null,null,null,null,null,null,null,null,null,null,null,null,null,null,null,null,null,0,0,0,0,0,0,null,null,0,0,0,0,0,0,null,null,0,0,0,0,0,0,null,null,0,0,0,0,0,0,null,null,0,0,0,0,0,0]
[null,null,null,null,null,null,null,null,null,null,null,null,null,null,null,null,null,null,null,null,null,null,null,null,null,null,null,null,null,null,null,null,null,39205.594405594398,16846.153846153844,3267.132867132867,2807.6923076923076,10209.79020979021,0,null,null,7160699.6030769218,3076863.1106971148,596724.96692307701,512810.51844951924,2248216.7342657344,0,null,null,666.49510489510487,286.38461538461542,55.541258741258744,47.730769230769234,612.58741258741259,0,null,null,22105.584335664331,9498.4932692307684,1842.132027972028,1583.0822115384615,6876.1660839160832,0,null,null,22772.079440559435,9784.8778846153837,1897.6732867132869,1630.8129807692308,7488.7534965034956,0]
[null,null,null,null,null,null,null,null,null,null,null,null,null,null,null,null,null,null,null,null,null,null,null,null,null,null,null,null,null,null,null,null,null,264637.76223776216,60646.153846153844,17642.517482517484,30323.076923076922,551328.67132867128,4716923.076923077,null,null,48334722.320769221,11076707.198509615,3222314.8213846162,5538353.5992548075,121403703.65034965,861521670.99519229,null,null,4498.8419580419568,1030.9846153846154,299.92279720279726,515.49230769230769,33079.720279720277,80187.692307692312,null,null,149212.6942657342,34194.575769230767,9947.5129510489514,17097.287884615384,371312.96853146842,2659578.115384615,null,null,153711.53622377614,35225.560384615383,10247.435748251748,17612.780192307691,404392.68881118868,2739765.8076923075]
[null,null,null,null,null,null,null,null,null,null,null,null,null,null,null,null,null,null,null,null,null,null,null,null,null,null,null,null,null,null,null,null,null,29404.195804195795,20215.384615384613,3920.5594405594397,3369.2307692307691,12251.748251748251,2405630.769230769,null,null,5370524.7023076909,3692235.732836538,716069.96030769229,615372.62213942315,2697860.0811188812,439376052.20754802,null,null,499.87132867132863,343.6615384615385,66.649510489510476,57.276923076923083,735.10489510489515,40895.723076923081,null,null,16579.188251748245,11398.191923076922,2210.558433566433,1899.6986538461535,8251.3993006992987,1356384.8388461536,null,null,17079.059580419573,11741.85346153846,2277.2079440559437,1956.9755769230767,8986.5041958041948,1397280.5619230766]
[null,null,null,null,null,null,null,null,null,null,null,null,null,null,null,null,null,null,null,null,null,null,null,null,null,null,null,null,null,null,null,null,null,282280.27972027974,40430.769230769227,11761.678321678321,20215.384615384613,367552.4475524475,0,null,null,51557037.142153859,7384471.465673076,2148209.8809230765,3692235.732836538,80935802.433566436,0,null,null,4798.7647552447561,687.323076923077,199.94853146853148,343.6615384615385,22053.146853146853,0,null,null,159160.20721678322,22796.383846153843,6631.6753006993004,11398.191923076922,247541.97902097894,0,null,null,163958.97197202797,23483.706923076919,6831.623832167832,11741.85346153846,269595.12587412581,0]

{"sheet":"EnergyPerformanceData","index":9,"n_rows":144,"n_cols":15,"rows_kept":144,"cut":false,"hidden":true,"merged":[]}
["Building energy perfromance data [kWh/m2]",{"$f":"COUNTA(A2:A144)","v":143},null,null,null,null,"Street Utilities Energy performance data",null,null,"Klimasone"]
["Residential individual housing","Heating","Hot Water","Cooling","Electric",null,"Outdoor lighting","kWh/unit",null,"Klimasone","DUT","Mean T","Heating days","degree days","Rel degree days"]
["Passivhouse",19.793749999999999,25,0,31.328749999999999,null,"High efficicency",160,null,"1. Sør-Norge, innland",-21.4,5.0999999999999996,250,4051,1]
["Low energy",37.1875,25,0,32.86,null,"Low efficiency",550,null,"2. Sør-Norge, kyst",-14.2,7.1,237,3179,0.78]
["TEK 17",51.963729000000001,25,0,33.036270999999999,null,"Manual",null,null,"3. Sør-Norge, høyfjell",-28.3,2.2999999999999998,277,5101,1.26]
["TEK 10",68.279700000000005,25,0,36.720299999999995,null,"Snow Melting","kWh/m2",null,"4. Midt-Norge, kyst",-15.6,5.4,265,3763,0.93]
["TEK 07",68.279700000000005,25,0,36.720299999999995,null,"High efficicency",100,null,"5. Midt-Norge, innland",-23.9,3,274,4772,1.18]
["TEK 97",76.512500000000003,25,0,29.487500000000001,null,"Low efficiency",350,null,"6. Nord-Norge, kyst",-13.9,3.8,286,4329,1.07]
["TEK 87",88.512500000000003,25,0,29.487500000000001,null,"Manual",null,null,"7. Finnmark og innland Troms",-24.5,0.7,319,5766,1.42]
["TEK 69",98.512500000000003,25,0,29.487500000000001]
["TEK 49",120.5125,25,0,29.487500000000001]
["Older",193.51249999999999,25,0,29.487500000000001]
["Residential apartment building","Heating","Hot Water","Cooling","Electric"]
["Passivhouse",14.697777777777778,25,0,32.237555555555559]
["Low energy",29.616666666666667,25,0,34.194222222222223]
["TEK 17",35.805777777777777,25,0,34.194222222222223]
["TEK 10",51.772377777777777,25,0,38.227622222222223]
["TEK 07",62.772377777777777,25,0,38.227622222222223]
["TEK 97",76.514305555555552,25,0,29.485694444444444]
["TEK 87",85.514305555555552,25,0,29.485694444444444]
["TEK 69",92.514305555555552,25,0,29.485694444444444]
["TEK 49",125.51430555555555,25,0,29.485694444444444]
["Older",202.51430555555555,25,0,29.485694444444444]
["Office building","Heating","Hot Water","Cooling","Electric"]
["Passivhouse",20,5.0111111111111111,9.6936111111111103,58.483611111111109]
["Low energy",20.51166666666667,5.0111111111111111,9.6936111111111103,65.983611111111117]
["TEK 17",28.389249119444443,5.0111111111111111,9.8000000000000007,67]
["TEK 10",42.372013611111107,5.0111111111111111,18.8,79.7]
["TEK 07",59.400000000000006,5.0111111111111111,18.8,83.4]
["TEK 97",78.3,5.0111111111111111,20.8,99.7]
["TEK 87",96.4,5.0111111111111111,21.4,105.30000000000001]
["TEK 69",162.6,5.0111111111111111,11.4,85.3]
["TEK 49",173.5,5.0111111111111111,0,69.900000000000006]
["Older",188.7,5.0111111111111111,0,60.3]
["Kindergarten","Heating","Hot Water","Cooling","Electric"]
["Passivhouse",30.683333333333334,10.023333333333333,0,29.406666666666666]
["Low energy",46.769999999999996,10.023333333333333,0,33.206666666666663]
["TEK 17",83.876666666666665,10.023333333333333,0,41.1]
["TEK 10",84.676666666666662,10.023333333333333,0,45.3]
["TEK 07",100.6,10.023333333333333,0,49.1]
["TEK 97",129.5,10.023333333333333,0,66.099999999999994]
["TEK 87",163.19999999999999,10.023333333333333,0,71.8]
["TEK 69",287,10.023333333333333,0,54.4]
["TEK 49",339.6,10.023333333333333,0,27.5]
["Older",381.1,10.023333333333333,0,27.5]
["School","Heating","Hot Water","Cooling","Electric"]
["Passivhouse",20,10,0,34.70708333333333]
["Low energy",24.900000000000006,10,0,42.5]
["TEK 17",45.487905966666659,10,0,54.512094033333334]
["TEK 10",50.34835666666666,10,0,59.651643333333332]
["TEK 07",73.400000000000006,10,0,60.400000000000006]
["TEK 97",104.1,10,0,79]
["TEK 87",127.2,10,0,85]
["TEK 69",196.6,10,0,59.6]
["TEK 49",208.3,10,0,36.4]
["Older",227.3,10,0,36.4]
["University/Collage","Heating","Hot Water","Cooling","Electric"]
["Passivhouse",20,5.0111111111111111,10.159166666666666,61.313055555555557]
["Low energy",20.588888888888889,5.0111111111111111,10.8,68.8]
["TEK 17",27.272628538888881,5.0111111111111111,19.224899999999998,73.491360350000008]
["TEK 10",43.011524722222219,5.0111111111111111,23.445,88.532364166666667]
["TEK 07",63.1,5.0111111111111111,23.4,89.2]
["TEK 97",83,5.0111111111111111,25.8,109.6]
["TEK 87",102.5,5.0111111111111111,26.6,116.30000000000001]
["TEK 69",174,5.0111111111111111,15.1,92.699999999999989]
["TEK 49",167.1,5.0111111111111111,0,60.2]
["Older",182.2,5.0111111111111111,0,60.3]
["Hospital","Heating","Hot Water","Cooling","Electric"]
["Passivhouse",20,30,17.120833333333334,102.67694444444444]
["Low energy",51.245555555555541,30,20.954444444444444,115.4]
["TEK 17",76.243934577777793,30,30.772322222222218,127.98374319999999]
["TEK 10",114.8460977777778,30,37.527222222222221,152.62667999999999]
["TEK 07",114.8,30,37.5,152.30000000000001]
["TEK 97",136.4,30,42,193.3]
["TEK 87",144.30000000000001,30,43.6,206.8]
["TEK 69",181.4,30,19.600000000000001,146.5]
["TEK 49",134.6,30,0,95.1]
["Older",149.30000000000001,30,0,95.3]
["Nursing home","Heating","Hot Water","Cooling","Electric"]
["Passivhouse",20,30,0,75.419166666666669]
["Low energy",30.300000000000011,30,0,84.5]
["TEK 17",90.95335455,30,0,109.04664545]
["TEK 10",99,30,0,121]
["TEK 07",99,30,0,118.7]
["TEK 97",132.69999999999999,30,0,154.69999999999999]
["TEK 87",149.1,30,0,166.7]
["TEK 69",177.10000000000002,30,0,106.6]
["TEK 49",169.9,30,0,71.3]
["Older",188.5,30,0,71.400000000000006]
["Hotel","Heating","Hot Water","Cooling","Electric"]
["Passivhouse",25,30,9.96875,42.364583333333329]
["Low energy",35.299999999999997,30,11.9,64.8]
["TEK 17",47.102187500000014,30,20.928449999999998,71.969362500000003]
["TEK 10",73.651683333333324,30,25.522500000000001,90.825816666666668]
["TEK 07",100.89999999999999,30,25.5,101.4]
["TEK 97",130.30000000000001,30,28.6,118.7]
["TEK 87",137.30000000000001,30,29.7,127.5]
["TEK 69",194,30,14.9,91.699999999999989]
["TEK 49",187.5,30,0,54.3]
["Older",206.3,30,0,54.4]
["Sports Facility","Heating","Hot Water","Cooling","Electric"]
["Passivhouse",20,50,0,28.827187500000001,101]
["Low energy",45.972812499999989,50,0,31.127187499999998]
["TEK 17",57.5714016875,50,0,37.4285983125]
["TEK 10",73.825662500000007,50,0,46.174337499999993]
["TEK 07",96.699999999999989,50,0,46.900000000000006]
["TEK 97",141.19999999999999,50,0,63.800000000000004]
["TEK 87",170.7,50,0,69.5]
["TEK 69",301.5,50,0,61]
["TEK 49",295.8,50,0,25.4]
["Older",326.3,50,0,25.4]
["Comercial building","Heating","Hot Water","Cooling","Electric"]
["Passivhouse",25,10,15.438333333333333,55.637500000000003]
["Low energy",27,10,18.7,76.7]
["TEK 17",51.525271555555548,10,29.899477777777779,88.575250666666676]
["TEK 10",59.828155555555554,10,36.462777777777781,103.70906666666667]
["TEK 07",117.5,10,40.799999999999997,112.5]
["TEK 97",139.1,10,45,148.69999999999999]
["TEK 87",140.60000000000002,10,46.4,160.69999999999999]
["TEK 69",137.80000000000001,10,12.7,89.1]
["TEK 49",141.9,10,0,61.2]
["Older",156.80000000000001,10,0,61.3]
["Cultural building","Heating","Hot Water","Cooling","Electric"]
["Passivhouse",25,10.022500000000001,7.3779166666666667,32.747916666666697]
["Low energy",35.04541666666664,10.022500000000001,9.3841666666666672,33.9479166666667]
["TEK 17",62.348392804166664,10.022500000000001,15.93465,41.694457195833337]
["TEK 10",83.188562083333338,10.022500000000001,19.432500000000001,52.356437916666664]
["TEK 07",103.1,10.022500000000001,19.399999999999999,52.8]
["TEK 97",130.69999999999999,10.022500000000001,21.4,70.599999999999994]
["TEK 87",149.9,10.022500000000001,22.1,76.7]
["TEK 69",210,10.022500000000001,10.4,51.2]
["TEK 49",231.8,10.022500000000001,0,27.4]
["Older",252.7,10.022500000000001,0,27.4]
["Industry/Workshop","Heating","Hot Water","Cooling","Electric"]
["Passivhouse",25,10.022500000000001,7,44.9]
["Low energy",45.177499999999995,10.022500000000001,7,49.6]
["TEK 17",82.177499999999995,10.022500000000001,14.5,53.3]
["TEK 10",95.277500000000003,10.022500000000001,17.7,67]
["TEK 07",99.1,10.022500000000001,17.7,67.7]
["TEK 97",128.19999999999999,10.022500000000001,19.5,83.199999999999989]
["TEK 87",161.30000000000001,10.022500000000001,20.2,88.6]
["TEK 69",313.5,10.022500000000001,16.100000000000001,80.900000000000006]
["TEK 49",303.60000000000002,10.022500000000001,0,43.4]
["Older",333.2,10.022500000000001,0,43.4]

{"sheet":"LocalEnergySupplyData","index":10,"n_rows":79,"n_cols":21,"rows_kept":79,"cut":false,"hidden":true,"merged":[[14,1,14,4],[14,5,14,7]]}
["Emission Factors","Emissions [gCO2/kWh]",null,null,null,"Tall må oppdateres og sjekkes"]
["Energy Sources","Indirect","upstream","Total"]
["Electricity",17,0,{"$f":"'Emission factors'!B3","v":123}]
["Solar Thermal",0,0,{"$f":"'Emission factors'!B4","v":0}]
["Firewood",14,0,{"$f":"'Emission factors'!B5","v":14}]
["Wood Chips",14,0,{"$f":"'Emission factors'!B6","v":14}]
["Pellets",25,0,{"$f":"'Emission factors'!B7","v":25}]
["Bio-oil",25,0,{"$f":"'Emission factors'!B8","v":25}]
["Bio-gas",10,0,{"$f":"'Emission factors'!B9","v":10}]
["Waste",138,0,{"$f":"'Emission factors'!B10","v":138}]
["Fossile oil",50,265,{"$f":"'Emission factors'!B11","v":315}]
["LPG",70,234,{"$f":"'Emission factors'!B12","v":304}]
["Natural Gas",53,202,{"$f":"'Emission factors'!B13","v":255}]
[]
[null,"Efficiency",null,null,null,"CO2 factor"]
["Heating","Production-\nEfficiency","Distribution-\nEfficiency","Control-\nEfficiency","Total\nEfficiency","Source","Efficiency","Total"]
["Electric heater",0.99,0.99,0.9,{"$f":"B17*C17*D17","v":0.88209000000000004},"Electricity",1,{"$f":"OFFSET($A$3,MATCH(F17,emissionSourcesRange,0)-1,3)/G17","v":123},{"$f":"F17","v":"Electricity"}]
["Electric boiler",0.98,0.95,0.92,{"$f":"B18*C18*D18","v":0.85651999999999995},"Electricity",1,{"$f":"OFFSET($A$3,MATCH(F18,emissionSourcesRange,0)-1,3)/G18","v":123},{"$f":"F18","v":"Electricity"}]
["Solar collector",1,0.95,0.95,0.90249999999999997,"Solar Thermal",1,{"$f":"OFFSET($A$3,MATCH(F19,emissionSourcesRange,0)-1,3)/G19","v":0},"Solar Thermal"]
["Heat pump air-source",2.2000000000000002,0.95,0.93,1.9437,"Electricity",1,{"$f":"OFFSET($A$3,MATCH(F20,emissionSourcesRange,0)-1,3)/G20","v":123},"Electricity"]
["Heat pump ground-source",2.7,{"$f":"C20","v":0.95},0.93,{"$f":"B21*C21*D21","v":2.3854500000000001},"Electricity",1,{"$f":"H20","v":123},"Electricity"]
["Wood chip boiler",0.85,0.97,0.9,{"$f":"B22*C22*D22","v":0.74204999999999999},"Wood Chips",1,{"$f":"OFFSET($A$3,MATCH(F22,emissionSourcesRange,0)-1,3)/G22","v":14},"Wood Chips"]
["Pellets boiler",0.85,0.97499999999999998,0.9,0.74587499999999995,"Pellets",1,25,"Pellets"]
["Wood-burning Stove",0.8,1,0.8,0.64000000000000012,"Firewood",1,14,"Firewood"]
["Bio-oil boiler",0.85,0.95,0.94,0.75905,"Bio-oil",1,25,"Bio-oil"]
["Oil boiler",0.85,0.95,0.95,0.76712499999999995,"Fossile oil",1,315,"Fossile oil"]
["LPG boiler",0.95,0.95,0.95,0.85737499999999989,"LPG",1,304,"LPG"]
["District Heating",0.98,0.95,0.93,0.86582999999999999,null,null,null,{"$f":"A28","v":"District Heating"}]
[]
["Hot Water"]
["Electric water heater",0.99,0.6,0.98,{"$f":"B31*C31*D31","v":0.58211999999999997},"Electricity",1,{"$f":"OFFSET($A$3,MATCH(F31,emissionSourcesRange,0)-1,3)/G31","v":123},{"$f":"F31","v":"Electricity"}]
["Electric boiler",0.98,0.6,0.92,{"$f":"B32*C32*D32","v":0.54096},"Electricity",1,{"$f":"OFFSET($A$3,MATCH(F32,emissionSourcesRange,0)-1,3)/G32","v":123},{"$f":"F32","v":"Electricity"}]
["Solar collector",1,0.6,0.95,{"$f":"B33*C33*D33","v":0.56999999999999995},"Solar Thermal",1,{"$f":"OFFSET($A$3,MATCH(F33,emissionSourcesRange,0)-1,3)/G33","v":0},"Solar Thermal"]
["Heat pump air-source",1.9,0.6,0.93,1.0602,"Electricity",1,{"$f":"OFFSET($A$3,MATCH(F34,emissionSourcesRange,0)-1,3)/G34","v":123},"Electricity"]
["Heat pump ground-source",2.4,{"$f":"C34","v":0.6},0.93,1.0602,"Electricity",1,{"$f":"H34","v":123},"Electricity"]
["Wood chip boiler",0.85,0.6,0.9,{"$f":"B36*C36*D36","v":0.45900000000000002},"Wood Chips",1,{"$f":"OFFSET($A$3,MATCH(F36,emissionSourcesRange,0)-1,3)/G36","v":14},"Wood Chips"]
["Pellets boiler",0.85,0.6,0.9,0.45900000000000002,"Pellets",1,{"$f":"OFFSET($A$3,MATCH(F37,emissionSourcesRange,0)-1,3)/G37","v":25},"Pellets"]
["Bio-oil boiler",0.85,0.6,0.94,{"$f":"B38*C38*D38","v":0.47939999999999999},"Bio-oil",1,{"$f":"OFFSET($A$3,MATCH(F38,emissionSourcesRange,0)-1,3)/G38","v":25},"Bio-oil"]
["Oil boiler",0.85,0.6,0.95,0.48449999999999999,"Fossile oil",1,{"$f":"OFFSET($A$3,MATCH(F39,emissionSourcesRange,0)-1,3)/G39","v":315},"Fossile oil"]
["LPG boiler",0.95,0.6,0.95,0.54149999999999998,"LPG",1,{"$f":"OFFSET($A$3,MATCH(F40,emissionSourcesRange,0)-1,3)/G40","v":304},"LPG"]
["District Heating",0.98,0.6,0.93,0.54683999999999999,null,null,null,{"$f":"A41","v":"District Heating"}]
[]
["Cooling"]
["Local Chiller",2.4500000000000002,1,1,{"$f":"B44*C44*D44","v":2.4500000000000002},"Electricity",1,{"$f":"OFFSET($A$3,MATCH(F44,emissionSourcesRange,0)-1,3)/G44","v":123}]
["District cooling",2.5,0.95,0.93,2.2087500000000002,"Electricity",1,{"$f":"OFFSET($A$3,MATCH(F45,emissionSourcesRange,0)-1,3)/G45","v":123}]
[]
["Electric"]
["Electric consumption",1,1,1,{"$f":"B48*C48*D48","v":1},"Electricity",1,{"$f":"OFFSET($A$3,MATCH(F48,emissionSourcesRange,0)-1,3)/G48","v":123}]
[]
["Local energy plant sources"]
["Electricity",null,null,null,null,"Electricity",1,{"$f":"OFFSET($A$3,MATCH(F51,emissionSourcesRange,0)-1,3)/G51","v":123}]
["Sun",null,null,null,null,"Solar Thermal",1,{"$f":"OFFSET($A$3,MATCH(F52,emissionSourcesRange,0)-1,3)/G52","v":0}]
["Surplus Heat"]
["Waste Incineration",null,null,null,null,"Waste",1,{"$f":"OFFSET($A$3,MATCH(F54,emissionSourcesRange,0)-1,3)/G54","v":138}]
["Wood Chips",null,null,null,null,"Wood Chips",1,14]
["Pellets",null,null,null,null,"Pellets",1,25]
["Bio-oil",null,null,null,null,"Bio-oil",1,25]
["Bio-gas",null,null,null,null,"Bio-gas",1,10]
["Fossile Oil",null,null,null,null,"Fossile oil",1,315]
["LPG",null,null,null,null,"LPG",1,304]
[]
[]
[]
[]
["Heating"]
["Residential",0.95,0.9,0.85,0.8,0.75,0.7,0.65,0.6,0.55000000000000104,0.500000000000001,0.45000000000000101,0.40000000000000102,0.35000000000000098,0.30000000000000099,0.250000000000001,0.20000000000000101,0.15000000000000099,0.100000000000001,5.0000000000001002E-2,0]
["Regular",0.99995799639392602,0.99985011509029675,0.99938314654060978,0.99792364624673002,0.99489814206693672,0.98963574693443013,0.981243729129888,0.9685041020816777,0.94959302700248649,0.92187956073832777,0.88474623607828551,0.83656419158356066,0.77544083593402346,0.70032134650602096,0.61091652833033017,0.50849729060718729,0.3937472218974562,0.26823191369848065,0.13584628683139116,2.7345955691286553E-15]
["Efficient",0.99993435161284472,0.99978320935224585,0.99938386211552444,0.99834688203677746,0.99606292003878605,0.99185946551791671,0.98479145725975026,0.97453166998272422,0.95959946175565758,0.93831514886131218,0.90892075190429344,0.86871149501154199,0.81634956710889273,0.74979794227607888,0.66825989823047538,0.56886805729512113,0.44976248844447286,0.3125665810608721,0.16101061686059387,3.2758125436709076E-15]
["Service"]
["Regular",0.99996653196332819,0.99978336190539308,0.99940993430925129,0.99874890470209088,0.99745096055280114,0.99555007796261996,0.99285101618946558,0.98848275036455513,0.98163077920950303,0.97064190385246718,0.95381716420152085,0.92803275586602207,0.8880551928285213,0.83089596530594212,0.75117165465798597,0.6487223767579624,0.51968788468450322,0.36575271428776457,0.19225796275763529,4.0365210125151593E-15]
["Efficient",0.9999650997831927,0.99989222134428823,0.99963947436735867,0.99924130408302092,0.99842997957627488,0.9970781003587581,0.9950437006158781,0.99207135838470772,0.98701493004327512,0.97807871249207401,0.96216477579658599,0.93594824719453684,0.89282611140475987,0.83099949812704732,0.74610362672287944,0.63830593478077158,0.50842092775059577,0.35676404351623953,0.18573384830814038,3.8436273128991642E-15]
[]
["Hot water"]
["Residential",0.95,0.9,0.85,0.8,0.75,0.7,0.65,0.6,0.55000000000000104,0.500000000000001,0.45000000000000101,0.40000000000000102,0.35000000000000098,0.30000000000000099,0.250000000000001,0.20000000000000101,0.15000000000000099,0.100000000000001,5.0000000000001002E-2,0]
["Regular",0.9985987390685428,0.99682733374009058,0.99409383262152717,0.98444935936544509,0.96764630364039483,0.94105323367901694,0.90721158734996599,0.85796166361598158,0.8001281269066105,0.73980577587956853,0.6713910921293168,0.59682733374005859,0.52222391702255144,0.44762050030504441,0.37301708358753716,0.29841366687003007,0.2238102501525229,0.14920683343501581,7.4603416717508642E-2,1.490875757198672E-15]
["Efficient",0.99845825562520796,0.9963034327094954,0.99414860979378261,0.99062958018969327,0.98117050898301361,0.96447807446362033,0.9412555205953308,0.90868984422131271,0.8699645999607728,0.82184759446465538,0.75741519865760354,0.6870941027898525,0.61517154835989896,0.53820890012636979,0.45371436122389519,0.36300478349314058,0.27225358761985591,0.18150239174657121,9.0751195873286519E-2,1.8135732090741871E-15]
["Service"]
["Regular",0.99214783533301631,0.97756312316297023,0.96016361530052308,0.93854000336065124,0.91408314046537953,0.88769519610032188,0.85967612517509051,0.82702712050072036,0.78747752360221357,0.736730990505298,0.67231835436999421,0.60130804067623422,0.52614453559170515,0.45098103050717603,0.37581752542264696,0.30065402033811783,0.22549051525358876,0.15032701016905969,7.5163505084530596E-2,1.5020685712147364E-15]
["Efficient",0.99469366959153416,0.98521287840594418,0.96666282980911278,0.94290616900724167,0.91914950820537034,0.89481415638579542,0.86808791298369026,0.84095342418493446,0.81125759818259591,0.77986075089145712,0.74719534228888418,0.7091003808097035,0.6574358223424992,0.58811229001078746,0.49738402636639184,0.3986749973647386,0.29900624802355441,0.1993374986823703,9.966874934118615E-2,1.9917817263751694E-15]

{"sheet":"Testsheet","index":11,"n_rows":60,"n_cols":25,"rows_kept":60,"cut":false,"hidden":true,"merged":[]}
[]
[null,{"$f":"B3/$H$3","v":0.65976898167242271},{"$f":"C3/$H$3","v":0.67601071965738702},0.66856620371382625,0.70961357647026091,0.71373474269477033,0.81170421336652843,1,1.0887752494470173,1.2445468030350517,1.1605309793738412,1.143150500304261,1.0940019363151046,1.0474808593246778,1.0362397548876734,1.0005724807777518,1.0020110361443413,0.93934928842106069,0.8881406209603675,0.85499296188953788,0.8249829797394429,0.7495232400741253,0.6774443515201426,0.66428219834432023,0.70565729030003999]
[null,25.433706042903086,26.059815485769459,25.772833776413748,27.355185844366783,27.514054377474263,31.290719827747672,38.549411611367624,41.971645243202531,47.976546979809882,44.737786411625791,44.067779169969789,42.173130946644157,40.379770801136075,39.946432839227619,38.571480408508776,38.626935871461171,36.211362366188752,34.237298366176844,32.95947561270215,31.802608458348342,28.893679893903368,26.115081150545997,25.607687890079347,27.202673340338578]
[null,0.50790274442875682,0.50910704671572105,0.51816967924436086,0.53053812728003369,0.53834374781171845,0.58256799659830238,0.63232825455616171,0.70092512948352448,0.72999957634181101,0.73766952666343111,0.72317905445532438,0.7159279171554781,0.69573127508188393,0.69793236381930646,0.68612905554379477,0.67322606229701931,0.66510063132928277,0.61160543207326912,0.59172825667675011,0.56256156782597966,0.5444110937769655,0.51871281842991845,0.49692193680175534,0.49229494095516835]
[null,5.5973321395335871,5.4430735708143114,5.3996842701983079,5.3836666541351761,5.5172968701781393,5.983435718804115,7.8006453100024595,10.424968779846305,12.112525448047435,13.463219027066476,14.494553153911214,14.609804291936426,14.678671626960686,14.656165058531618,14.559014776333569,14.450196554617225,13.624669676846546,12.373648866456449,11.490859243063854,10.661035499708438,9.3317721130592588,7.8050037979725513,6.7064004867532629,6.0425765074056903]
[null,14.550307655835395,15.474222749736985,16.588580765879801,22.433887457143189,23.912423944748785,26.737172198305757,33.24287160963295,52.422680205316638,64.222575741087141,55.534583888517602,51.067345141227769,48.219603068665172,44.85783336244716,40.62761200549172,39.230001159590863,37.230627752658791,34.059523685899322,27.326042263074214,25.592506155515117,23.948003071848497,22.315211223437405,21.068801085031911,19.235586854063001,16.745456482782345]
[null,3.5828815062643402,3.4047333602073393,2.9695358183639229,2.4239023695934931,2.0222871899603931,2.4796787880604647,2.7014310055670223,4.9167230437186458,5.9164251143154161,6.1114592710252165,6.5364467585694106,6.3003054164903762,6.6170516550683853,6.1739609221696039,6.3846454583362746,6.2288856267548152,5.1806965295249423,4.5388991302522053,3.9942818687822572,3.8785547797044786,4.0363835598694848,3.9553470027736894,3.5704375919511055,3.4473387648271543]
[null,7.0310854578064479,6.3070082399527534,6.3131284369935097,6.3308243457631868,6.4009772879277875,6.4827718225847697,8.4098959839097791,17.001779394298598,22.545389671543049,27.632217563480644,28.479037147854893,28.117557371455224,27.869982078135987,28.252709449815654,27.580159171648198,24.557765848739805,21.592434918329683,16.073362078312396,15.052762048173751,12.918084737722719,12.53647775864494,11.841500745417957,10.54997132073944,8.4410175110696155]
[null,44.785654475883625,45.370834816162422,47.719339278141078,50.542811349496809,51.46900924456169,59.884765581077296,62.35060146274769,61.27111128010413,68.62239908287475,62.52039811555386,59.243845360100352,57.845552016653237,55.850237761647243,56.406174025674055,54.572511651742474,53.667937541754092,54.411578717474995,54.48827562420157,52.180533632324398,51.023021562313566,46.286582997962142,46.679702983454085,48.715576035111091,48.800396032907969]
[null,31.634346154710258,32.271527497395837,33.113736477727649,36.753324550961729,42.79586052408311,44.915946083449512,49.618316527863819,51.004554961613167,51.393702794321925,54.532175474520685,55.215654436807696,54.174718815068417,51.413663867590671,47.075266804844034,45.388174098885024,43.431096480728016,39.362504558532123,38.184981007323906,36.815493438855327,36.018176007026327,33.033366994625808,31.398079983133872,31.396711792489427,31.226324867199118]
[null,17.729144455476355,17.468451612429323,17.536907766805381,17.636072331904799,17.955605825430748,19.675485108087958,22.260352798918817,24.798836772017829,28.050696539475073,29.927833750035521,30.723220640673421,30.933046039938048,30.7630451686552,28.979731142568749,27.811545617307964,26.403396039387669,25.064970042908008,24.905173864971765,23.893345220924939,22.963933295097057,21.697387279483454,20.222644012203329,19.243236446770418,18.249296107568195]
[null,726.81897103409358,730.0579645277528,711.92485693647495,719.85152154114041,760.1024214172146,592.57813014322903,846.1656978273395,827.15878468909057,808.19457633321235,753.70984399463714,726.77626625172286,707.76935311347393,691.95872868651361,665.89895649057019,554.52159908436045,556.88678703104881,531.53000125259325,631.82711012521963,697.47750056211999,725.07135994015141,746.40075624271822,754.32742084738379,703.08168200246791,759.1859110878728]
[null,47.761923948575138,34.548505186089812,35.234899328859811,38.666870042709789,39.582062233069777,64.06345332519966,64.06345332519966,66.809029896279625,59.945088468579677,64.292251372789664,54.911531421599705,48.962782184259737,47.818791946309737,47.36119585112975,55.140329469189695,60.402684563759692,57.428309945089694,51.708358755339724,58.114704087859678,50.335570469799734,49.420378279439731,48.505186089079743,56.970713849909693,46.674801708359745]
[null,45.120411764238277,36.685438645107688,34.543223249772929,34.074613632043452,33.806836707626601,34.141557863147654,41.0368136668814,54.224827194410992,62.25813492691632,66.140900330960562,63.73090801120896,62.124246464707902,60.852306073727888,60.517584918206829,63.998684935625803,77.320586925363799,95.529417785709242,101.82217550950507,104.16522359815247,105.90577360686197,107.57937938446723,102.82633897606824,89.973046604059704,68.350059957399523]
[null,51.18360511529557,51.852382647042766,54.536387746446948,57.763212970853495,58.821724850927644,68.439732092659767,71.257830243140219,70.02412717726186,78.425598951856855,71.451883560632979,67.707251840114679,66.10920230474656,63.828843156168283,64.464198886484624,62.36858474484854,61.334785762004678,62.184661391399999,62.272314999087513,59.634895579799313,58.312024642644076,52.898951997671027,53.348231981090386,55.67494404012696,55.771881180466245]
[null,21.692123077515607,22.129047426785718,22.706562156156103,25.202279692088045,29.345732930799848,30.799505885793948,34.023988476249478,34.974551973677599,35.241396201820749,37.393491753957036,37.86216304238242,37.148378616046919,35.255083794919315,32.280182951893053,31.123319382092589,29.781323301070643,26.991431697279168,26.183986976450676,25.244909786643653,24.698177833389483,22.651451653457698,21.530111988434655,21.529173800564177,21.412337051793681]
[null,53.010168188127686,52.230696201192885,52.435380204197124,52.731882400759623,53.687288019800562,58.829729622997789,66.558487848140203,74.148558688545563,83.871624210969415,89.48426725157961,91.862475232976209,92.489853487639991,91.981550630642943,86.649439050611832,83.156562599380578,78.946193275183532,74.944297562791519,74.466506754019377,71.441137609265226,68.662194574088531,64.875220110978361,60.465735556934888,57.53730548526913,54.565422398502392]
[null,23.357013933551926,24.098322499873269,24.589521975009738,30.34283043515034,31.316053569622298,35.41495475948107,43.334300461346224,69.537312972759651,84.993877364786641,75.316241141610774,70.933923721318664,67.213063355133158,63.909580190459366,58.213564016331446,56.984654187646498,54.390619399905965,48.811306135131005,39.860749284086026,36.862647149078946,34.751681207296954,33.154489749601453,31.566743863603232,28.745573274182675,25.644460067709986]
[null,17.729144455476355,17.468451612429323,17.536907766805381,17.636072331904799,17.955605825430748,19.675485108087958,22.260352798918817,24.798836772017829,28.050696539475073,29.927833750035521,30.723220640673421,30.933046039938048,30.7630451686552,28.979731142568749,27.811545617307964,26.403396039387669,25.064970042908008,24.905173864971765,23.893345220924939,22.963933295097057,21.697387279483454,20.222644012203329,19.243236446770418,18.249296107568195]
[null,109.57505424949647,111.41612097105957,115.66869019847221,125.58536343376053,137.70500183757389,151.30184933902231,162.74896453714786,164.03719356300695,173.23927542421853,171.93099024467267,169.3965692476728,165.87804781598186,158.52442806555462,151.2329361807096,146.02996043292998,141.40632722694616,134.825016768285,132.76027497984333,127.59055654941348,124.79562990437528,113.86694163148232,111.33054944205682,113.67940169920118,113.46578089537196]
[null,524.25303491623526,493.1192732956182,492.15618616038444,497.58321784315996,498.88761193221109,541.27790769800129,548.17316350173508,566.07769006966862,562.31971520116394,573.67029291918129,555.14554771138262,543.31977457733944,540.08262041952446,538.9618137572694,555.80636738916633,578.16825270634547,591.26752777291983,587.73421666254058,601.08246184546408,589.45955823969553,589.56099300383278,583.23578158196574,584.92507108453628,545.61516053636103]
[null,0,0,0,0,0,0,0,0,0,0,0,0,0,0,0,0,0,0,0,0,0,0,0,0]
[null,53.010168188127686,52.230696201192885,52.435380204197124,52.731882400759623,53.687288019800562,58.829729622997789,66.558487848140203,74.148558688545563,83.871624210969415,89.48426725157961,91.862475232976209,92.489853487639991,91.981550630642943,86.649439050611832,83.156562599380578,78.946193275183532,74.944297562791519,74.466506754019377,71.441137609265226,68.662194574088531,64.875220110978361,60.465735556934888,57.53730548526913,54.565422398502392]
[null,39.668135245255662,40.467133762683268,41.523228286438638,46.087118155380082,53.66420329675929,56.322701129752666,62.219275247329165,63.957559749977321,64.445534711836643,68.381047022816617,69.238100801664871,67.932811454990343,64.470565055444581,59.030398200374982,56.914855135126523,54.460762382178778,49.358919788748388,47.882354941940378,46.165075317540143,45.16527290137789,41.422448345873924,39.371867435510673,39.370151782174268,39.156493767452417]
[]
[]
[]
[null,967.95142175550529,961.6781407436589,951.08490196370838,981.52353394563374,1036.1039204606518,921.77167192212141,1202.6059303436643,1211.2541335997485,1220.6683092442206,1151.0215433699234,1104.11146247695,1069.418954399204,1038.6757363068823,1000.931913141304,887.98677451309845,888.26428999353766,848.02517077531161,931.37887267919962,992.60602898127854,1005.6500583330519,1006.4811739368619,1007.4466759293581,966.27943579356452,1010.9594154575028]
[null,128.48814200518237,118.13466826949696,116.22832392796725,116.15705936460623,117.36800471096385,125.11298013562229,146.06619560785265,180.59897082911928,208.83837079695127,226.64843792312283,229.29019418662469,228.27450765567761,226.1455555781227,219.0556296197347,217.10596710029611,221.67813864329202,230.755789986585,229.64086707326507,226.04332771958025,221.11102171347869,216.02023664663324,203.16122308859696,184.00996034359196,155.64837248194542]
[]
[]
[]
[]
[]
[]
[]
[]
[]
[]
[null,607.62076515717933,574.56850292000752,573.84128683857875,579.66566357572276,582.44877993554837,632.24932997047586,653.20254544270631,692.4518337043769,708.89995107119898,734.17783051134347,720.70483388679838,709.47003576830912,705.37586992391925,697.49985845879723,708.91364955383665,722.5258044242737,726.49389997379558,715.55290822630059,722.96056596689175,704.66480634631228,698.00185026599877,683.57066569449444,678.96198482406851,632.91347306090688]
[null,202.90394133095077,207.01064950307932,212.49563274002637,234.57967748390024,255.44738519319259,280.24440590817591,313.98194384054148,347.28945903591978,379.42467648522802,368.64765075953403,361.78763523706124,351.04145895787985,334.81391500672868,315.88977669370382,305.7327468575819,296.10143946046452,276.03422074304444,261.16456400383953,249.76727903425052,242.47211064153316,222.81051535487182,213.37962866950929,212.27972645374615,210.58501930162137]
[]
[]
[]
["MaxPthermD",1170.7675661797653,null,3.7862163042382417]
["MaxPelectricD",163.31177192091519,null,3.7862163042382417]
["MaxPel",684.79497399029685,null,3.7862163042382417]
["MaxPdh",330.48154712679866]
[]
[null,0,0,0,0,0,0,0,0,0,0,0,0,0,0,0,0,0,0,0,0,0,0,0,0]
[null,0,0,0,0,0,0,0,0,0,0,0,0,0,0,0,0,0,0,0,0,0,0,0,0]
[null,1,1,1,1,1,1,1,1,1,1,1,1,1,1,1,1,1,1,1,1,1,1,1,1]
[null,{"$f":"SUM(B50:B52)","v":1},{"$f":"SUM(C50:C52)","v":1},1,1,1,1,1,1,1,1,1,1,1,1,1,1,1,1,1,1,1,1,1,1]
[]
[null,{"$f":"B$3*B50","v":0},{"$f":"C$3*C50","v":0},0,0,0,0,0,0,0,0,0,0,0,0,0,0,0,0,0,0,0,0,0,0]
[null,{"$f":"B$3*B51","v":0},0,0,0,0,0,0,0,0,0,0,0,0,0,0,0,0,0,0,0,0,0,0,0]
[null,25.433706042903086,26.059815485769459,25.772833776413748,27.355185844366783,27.514054377474263,31.290719827747672,38.549411611367624,41.971645243202531,47.976546979809882,44.737786411625791,44.067779169969789,42.173130946644157,40.379770801136075,39.946432839227619,38.571480408508776,38.626935871461171,36.211362366188752,34.237298366176844,32.95947561270215,31.802608458348342,28.893679893903368,26.115081150545997,25.607687890079347,27.202673340338578]
[]
[]
[null,47.599581887822509]

{"sheet":"Kontroll","index":12,"n_rows":247,"n_cols":37,"rows_kept":247,"cut":false,"hidden":true,"merged":[]}
[null,"PI-SEC Scenario Calculator","Initial Situation"]
[null,"Neighbourhood","Grønneberg"]
[null,"Buildings"]
[null,null,null,null,null,null,null,null,null,null,"Thermal Energy supply system"]
[null,null,null,null,null,null,null,null,null,"Heating",null,null,null,null,null,null,null,null,null,null,null,"Hot Water",null,null,null,null,null,null,null,null,null,null,null,null,"Cooling"]
[null,"Building","Category",null,"Area [m2]","Heating \n[kWh/m2]","Hot Water\n[kWh/m2]","Cooling\n[kWh/m2]","Electricity\n[kWh/m2]","Source 1","Coverage \n[%] ","Efficiency/COP\n[-]","Coverage share of peak power [%]","Source 2","Coverage \n[%]","Efficiency/COP\n[-]","Coverage share of peak power [%]","Source 3","Coverage \n[%]","Efficiency/COP\n[-]","Coverage share of peak power [%]","Source 1","Coverage \n[%]","Efficiency/ COP [%]","Coverage share of peak power [%]","Source 2","Coverage \n[%]","Efficiency/ COP [%]","Coverage share of peak power [%]","Source 3","Coverage \n[%]","Efficiency/COP\n[%]","Coverage share of peak power [%]","Source 1","Coverage \n[%]","Efficiency/COP\n[-]","Source 2"]
[null,"d","Residential apartment building",{"$f":"Initial!#REF!","v":{"$error":"#REF!"}},2000,{"$f":"Initial!#REF!","v":{"$error":"#REF!"}},{"$f":"Initial!#REF!","v":{"$error":"#REF!"}},{"$f":"Initial!#REF!","v":{"$error":"#REF!"}},{"$f":"Initial!#REF!","v":{"$error":"#REF!"}},{"$f":"Initial!#REF!","v":{"$error":"#REF!"}},{"$f":"Initial!#REF!","v":{"$error":"#REF!"}},{"$f":"Initial!#REF!","v":{"$error":"#REF!"}},{"$f":"Initial!#REF!","v":{"$error":"#REF!"}},{"$f":"Initial!#REF!","v":{"$error":"#REF!"}},{"$f":"Initial!#REF!","v":{"$error":"#REF!"}},{"$f":"Initial!#REF!","v":{"$error":"#REF!"}},{"$f":"Initial!#REF!","v":{"$error":"#REF!"}},{"$f":"Initial!#REF!","v":{"$error":"#REF!"}},{"$f":"Initial!#REF!","v":{"$error":"#REF!"}},{"$f":"Initial!#REF!","v":{"$error":"#REF!"}},{"$f":"Initial!#REF!","v":{"$error":"#REF!"}},{"$f":"Initial!#REF!","v":{"$error":"#REF!"}},{"$f":"Initial!#REF!","v":{"$error":"#REF!"}},{"$f":"Initial!#REF!","v":{"$error":"#REF!"}},{"$f":"Initial!#REF!","v":{"$error":"#REF!"}},{"$f":"Initial!#REF!","v":{"$error":"#REF!"}},{"$f":"Initial!#REF!","v":{"$error":"#REF!"}},{"$f":"Initial!#REF!","v":{"$error":"#REF!"}},{"$f":"Initial!#REF!","v":{"$error":"#REF!"}},{"$f":"Initial!#REF!","v":{"$error":"#REF!"}},{"$f":"Initial!#REF!","v":{"$error":"#REF!"}},{"$f":"Initial!#REF!","v":{"$error":"#REF!"}},{"$f":"Initial!#REF!","v":{"$error":"#REF!"}},{"$f":"Initial!#REF!","v":{"$error":"#REF!"}},{"$f":"Initial!#REF!","v":{"$error":"#REF!"}},{"$f":"Initial!#REF!","v":{"$error":"#REF!"}},{"$f":"Initial!#REF!","v":{"$error":"#REF!"}}]
[null,"a","Kindergarten",{"$f":"Initial!#REF!","v":{"$error":"#REF!"}},2000,{"$f":"Initial!#REF!","v":{"$error":"#REF!"}},{"$f":"Initial!#REF!","v":{"$error":"#REF!"}},{"$f":"Initial!#REF!","v":{"$error":"#REF!"}},{"$f":"Initial!#REF!","v":{"$error":"#REF!"}},{"$f":"Initial!#REF!","v":{"$error":"#REF!"}},{"$f":"Initial!#REF!","v":{"$error":"#REF!"}},{"$f":"Initial!#REF!","v":{"$error":"#REF!"}},{"$f":"Initial!#REF!","v":{"$error":"#REF!"}},{"$f":"Initial!#REF!","v":{"$error":"#REF!"}},{"$f":"Initial!#REF!","v":{"$error":"#REF!"}},{"$f":"Initial!#REF!","v":{"$error":"#REF!"}},{"$f":"Initial!#REF!","v":{"$error":"#REF!"}},{"$f":"Initial!#REF!","v":{"$error":"#REF!"}},{"$f":"Initial!#REF!","v":{"$error":"#REF!"}},{"$f":"Initial!#REF!","v":{"$error":"#REF!"}},{"$f":"Initial!#REF!","v":{"$error":"#REF!"}},{"$f":"Initial!#REF!","v":{"$error":"#REF!"}},{"$f":"Initial!#REF!","v":{"$error":"#REF!"}},{"$f":"Initial!#REF!","v":{"$error":"#REF!"}},{"$f":"Initial!#REF!","v":{"$error":"#REF!"}},{"$f":"Initial!#REF!","v":{"$error":"#REF!"}},{"$f":"Initial!#REF!","v":{"$error":"#REF!"}},{"$f":"Initial!#REF!","v":{"$error":"#REF!"}},{"$f":"Initial!#REF!","v":{"$error":"#REF!"}},{"$f":"Initial!#REF!","v":{"$error":"#REF!"}},{"$f":"Initial!#REF!","v":{"$error":"#REF!"}},{"$f":"Initial!#REF!","v":{"$error":"#REF!"}},{"$f":"Initial!#REF!","v":{"$error":"#REF!"}},{"$f":"Initial!#REF!","v":{"$error":"#REF!"}},{"$f":"Initial!#REF!","v":{"$error":"#REF!"}},{"$f":"Initial!#REF!","v":{"$error":"#REF!"}},{"$f":"Initial!#REF!","v":{"$error":"#REF!"}}]
[null,"a","Office building",{"$f":"Initial!#REF!","v":{"$error":"#REF!"}},2000,{"$f":"Initial!#REF!","v":{"$error":"#REF!"}},{"$f":"Initial!#REF!","v":{"$error":"#REF!"}},{"$f":"Initial!#REF!","v":{"$error":"#REF!"}},{"$f":"Initial!#REF!","v":{"$error":"#REF!"}},{"$f":"Initial!#REF!","v":{"$error":"#REF!"}},{"$f":"Initial!#REF!","v":{"$error":"#REF!"}},{"$f":"Initial!#REF!","v":{"$error":"#REF!"}},{"$f":"Initial!#REF!","v":{"$error":"#REF!"}},{"$f":"Initial!#REF!","v":{"$error":"#REF!"}},{"$f":"Initial!#REF!","v":{"$error":"#REF!"}},{"$f":"Initial!#REF!","v":{"$error":"#REF!"}},{"$f":"Initial!#REF!","v":{"$error":"#REF!"}},{"$f":"Initial!#REF!","v":{"$error":"#REF!"}},{"$f":"Initial!#REF!","v":{"$error":"#REF!"}},{"$f":"Initial!#REF!","v":{"$error":"#REF!"}},{"$f":"Initial!#REF!","v":{"$error":"#REF!"}},{"$f":"Initial!#REF!","v":{"$error":"#REF!"}},{"$f":"Initial!#REF!","v":{"$error":"#REF!"}},{"$f":"Initial!#REF!","v":{"$error":"#REF!"}},{"$f":"Initial!#REF!","v":{"$error":"#REF!"}},{"$f":"Initial!#REF!","v":{"$error":"#REF!"}},{"$f":"Initial!#REF!","v":{"$error":"#REF!"}},{"$f":"Initial!#REF!","v":{"$error":"#REF!"}},{"$f":"Initial!#REF!","v":{"$error":"#REF!"}},{"$f":"Initial!#REF!","v":{"$error":"#REF!"}},{"$f":"Initial!#REF!","v":{"$error":"#REF!"}},{"$f":"Initial!#REF!","v":{"$error":"#REF!"}},{"$f":"Initial!#REF!","v":{"$error":"#REF!"}},{"$f":"Initial!#REF!","v":{"$error":"#REF!"}},{"$f":"Initial!#REF!","v":{"$error":"#REF!"}},{"$f":"Initial!#REF!","v":{"$error":"#REF!"}},{"$f":"Initial!#REF!","v":{"$error":"#REF!"}}]
[]
[null,null,null,null,"Heating \n[kWh/m2]","Hot Water\n[kWh/m2]","Electric"]
[null,"Årlig energibehov","Residential apartment building",null,{"$f":"$E7*F7","v":{"$error":"#REF!"}},{"$f":"$E7*G7","v":{"$error":"#REF!"}},{"$f":"E7*I7","v":{"$error":"#REF!"}}]
[null,null,"Kindergarten",null,{"$f":"$E8*F8","v":{"$error":"#REF!"}},{"$error":"#REF!"},{"$f":"E8*I8","v":{"$error":"#REF!"}}]
[null,null,"Office building",null,{"$error":"#REF!"},{"$error":"#REF!"},{"$error":"#REF!"}]
[null,null,"Residential apartment building","Kindergarten","Office building"]
[null,"Heating \n[kWh/m2]",{"$f":"E12","v":{"$error":"#REF!"}},{"$f":"E13","v":{"$error":"#REF!"}},{"$f":"E14","v":{"$error":"#REF!"}}]
[null,"Hot Water\n[kWh/m2]",{"$f":"F12","v":{"$error":"#REF!"}},{"$f":"F13","v":{"$error":"#REF!"}},{"$f":"F14","v":{"$error":"#REF!"}}]
[null,"Electric",{"$f":"G12","v":{"$error":"#REF!"}},{"$f":"G13","v":{"$error":"#REF!"}},{"$f":"G14","v":{"$error":"#REF!"}}]
[]
[]
[]
[]
[]
[]
[]
[]
[]
[]
[]
[]
[]
[]
[]
[]
[]
[]
[]
[]
["Residential apartment building","Heating \n[kWh/m2]",{"$f":"C168","v":"Regular"},{"$f":"D168","v":4.3646040989702502E-4},4.3840545052507189E-4,4.275163792605511E-4,4.3227640262310342E-4,4.5644737910936696E-4,3.558477473563282E-4,5.0812904180124808E-4,4.9671524355187886E-4,4.853270898544008E-4,4.5260858695705584E-4,4.3643476534513414E-4,4.2502096709576493E-4,4.1552656492255133E-4,3.9987747029547811E-4,3.3299450630569862E-4,3.3441481994889708E-4,3.1918787409910768E-4,3.7941706320207021E-4,4.1884063009001426E-4,4.3541095592732873E-4,4.4821942326800525E-4]
[null,"Hot Water\n[kWh/m2]",{"$f":"C198","v":"Regular"},{"$f":"D198","v":1.0613760877461141E-4},7.6774455969088476E-5,7.8299776286355134E-5,8.5926377872688425E-5,8.7960138295710622E-5,1.4236322961155479E-4,1.4236322961155479E-4,1.484645108806214E-4,1.3321130770795484E-4,1.4287166971731037E-4,1.2202562538133268E-4,1.0880618263168831E-4,1.0626398210291053E-4,1.0524710189139944E-4,1.2253406548708821E-4,1.3422818791946597E-4,1.2761846654464376E-4,1.1490746390075494E-4,1.2914378686191039E-4,1.1185682326622163E-4,1.098230628431994E-4]
[null,"Electric",{"$f":"C225","v":"Regular"},{"$f":"D225","v":8.501375292960009E-5},6.9120974192019076E-5,6.5084712925331836E-5,6.4201780773243995E-5,6.3697248114908078E-5,6.4327913937827961E-5,7.7319629889977535E-5,1.021678633130209E-4,1.1730384306309805E-4,1.246195666089687E-4,1.2007877268394552E-4,1.1705157673393011E-4,1.1465504660683455E-4,1.1402438078391466E-4,1.2058330534228143E-4,1.4568380509449272E-4,1.7999202586133434E-4,1.9184854333222811E-4,1.9626320409266729E-4,1.9954266637185069E-4,2.0269599548645008E-4]
[]
["Kindergarten","Heating \n[kWh/m2]",{"$f":"C174","v":"Regular"},{"$f":"D174","v":3.1991602130981107E-4},3.2964681046463145E-4,3.3183764190470124E-4,3.4563441828422306E-4,3.5235738601410401E-4,3.5229117297380831E-4,4.5529505736361124E-4,5.9617014245682632E-4,6.4584279051192652E-4,5.8013973519912979E-4,5.1261758672186352E-4,5.1890850559771257E-4,4.8090825044323662E-4,4.310173671092259E-4,4.4265876732653918E-4,4.492154966167385E-4,4.0496106586057173E-4,3.0978860594124441E-4,3.1827394956586078E-4,3.2399776536046968E-4,3.2898595186869699E-4]
[null,"Hot Water\n[kWh/m2]",{"$f":"C202","v":"Regular"},{"$f":"D202","v":8.3880991330044817E-5},8.6978801426992064E-5,8.9897425660598183E-5,9.8375275619856642E-5,1.0440006180422334E-4,1.265544910250267E-4,1.5173107388205385E-4,1.6532612403057095E-4,1.9059942606593905E-4,2.0468313312899667E-4,2.1151882577869624E-4,1.7707273470973385E-4,1.9857468847038137E-4,1.9256690452402054E-4,1.6272807011437411E-4,1.7133101596388247E-4,1.4696592263933566E-4,1.1303603257693683E-4,9.0977224035969511E-5,7.745071926125132E-5,7.6420878079033207E-5]
[null,"Electric",{"$f":"C229","v":"Regular"},{"$f":"D229","v":6.2503700269718061E-5},6.2189171180740573E-5,6.1861176531954835E-5,6.1875355568390676E-5,6.2345721592832741E-5,6.542061830791334E-5,8.7679391959306671E-5,1.5819574952619545E-4,2.2332421751663299E-4,2.4291361017347447E-4,2.503298324868725E-4,2.4599415043621663E-4,2.4683379701157914E-4,2.426023822254376E-4,2.3840191973417032E-4,2.341569961074692E-4,1.8899149923455087E-4,1.171084666951701E-4,7.7135846825615733E-5,7.1376887760524682E-5,6.7832460470656041E-5]
[]
["Office building","Heating \n[kWh/m2]",{"$f":"C171","v":"Efficient"},{"$f":"D171","v":3.8197368408427672E-4},3.8533878273392985E-4,3.8246418838644149E-4,3.849481678216236E-4,3.8601968626772432E-4,4.1959094386338064E-4,4.6422573604883947E-4,6.0359784066830991E-4,6.9800433614080064E-4,6.3706972671167021E-4,5.8100223339958281E-4,5.5870693021717419E-4,5.3847429939715078E-4,5.2285900612123468E-4,5.1993128225070063E-4,5.1229882343994655E-4,4.9463229096811847E-4,4.7940015609218247E-4,4.4765959059976879E-4,4.3311091450067013E-4,4.1776676256776032E-4]
[null,"Hot Water\n[kWh/m2]",{"$f":"C199","v":"Efficient"},{"$f":"D199","v":7.2512212646358827E-5},7.0002584892460228E-5,7.5610760899688081E-5,7.8895502783624748E-5,9.2720804170355747E-5,1.0079881873335733E-4,1.3809669195196536E-4,2.1822243050283763E-4,2.2755422224013969E-4,2.00313805089957E-4,1.9652782206247614E-4,1.9785636109417097E-4,2.0699053712300877E-4,2.2308364849002181E-4,2.0454850605155977E-4,1.6150516253244686E-4,1.2029443406572975E-4,8.6079898012027885E-5,6.8983964906616481E-5,5.8287441288506746E-5,5.9734788278632948E-5]
[null,"Electric",{"$f":"C226","v":"Efficient"},{"$f":"D226","v":9.0543498839626728E-5},8.9619246873430183E-5,8.9556912219742284E-5,8.9641444335565891E-5,9.0782671376856005E-5,9.4488269350140899E-5,1.0859099129498623E-4,1.4499644518141324E-4,1.6601354653330647E-4,1.7224471874412184E-4,1.7097063089630598E-4,1.696592215164378E-4,1.674746267994472E-4,1.652308255118152E-4,1.600931587998111E-4,1.4845831354297633E-4,1.3027166948677093E-4,1.1283366458289059E-4,1.0432540181688559E-4,1.0032564168409387E-4,9.7698422831155179E-5]
[]
["Residential apartment building","Heating \n[kWh/m2]",{"$f":"C16","v":{"$error":"#REF!"}},{"$f":"D39*$C51","v":{"$error":"#REF!"}},{"$error":"#REF!"},{"$error":"#REF!"},{"$error":"#REF!"},{"$error":"#REF!"},{"$error":"#REF!"},{"$error":"#REF!"},{"$error":"#REF!"},{"$error":"#REF!"},{"$error":"#REF!"},{"$error":"#REF!"},{"$error":"#REF!"},{"$error":"#REF!"},{"$error":"#REF!"},{"$error":"#REF!"},{"$error":"#REF!"},{"$error":"#REF!"},{"$error":"#REF!"},{"$error":"#REF!"},{"$error":"#REF!"},{"$error":"#REF!"}]
[null,"Hot Water\n[kWh/m2]",{"$f":"C17","v":{"$error":"#REF!"}},{"$f":"D40*$C52","v":{"$error":"#REF!"}},{"$error":"#REF!"},{"$error":"#REF!"},{"$error":"#REF!"},{"$error":"#REF!"},{"$error":"#REF!"},{"$error":"#REF!"},{"$error":"#REF!"},{"$error":"#REF!"},{"$error":"#REF!"},{"$error":"#REF!"},{"$error":"#REF!"},{"$error":"#REF!"},{"$error":"#REF!"},{"$error":"#REF!"},{"$error":"#REF!"},{"$error":"#REF!"},{"$error":"#REF!"},{"$error":"#REF!"},{"$error":"#REF!"},{"$error":"#REF!"}]
[null,"Electric",{"$error":"#REF!"},{"$f":"D41*$C53","v":{"$error":"#REF!"}},{"$error":"#REF!"},{"$error":"#REF!"},{"$error":"#REF!"},{"$error":"#REF!"},{"$error":"#REF!"},{"$error":"#REF!"},{"$error":"#REF!"},{"$error":"#REF!"},{"$error":"#REF!"},{"$error":"#REF!"},{"$error":"#REF!"},{"$error":"#REF!"},{"$error":"#REF!"},{"$error":"#REF!"},{"$error":"#REF!"},{"$error":"#REF!"},{"$error":"#REF!"},{"$error":"#REF!"},{"$error":"#REF!"},{"$error":"#REF!"}]
[]
["Kindergarten","Heating \n[kWh/m2]",{"$f":"D16","v":{"$error":"#REF!"}},{"$f":"D43*$C55","v":{"$error":"#REF!"}},{"$error":"#REF!"},{"$error":"#REF!"},{"$error":"#REF!"},{"$error":"#REF!"},{"$error":"#REF!"},{"$error":"#REF!"},{"$error":"#REF!"},{"$error":"#REF!"},{"$error":"#REF!"},{"$error":"#REF!"},{"$error":"#REF!"},{"$error":"#REF!"},{"$error":"#REF!"},{"$error":"#REF!"},{"$error":"#REF!"},{"$error":"#REF!"},{"$error":"#REF!"},{"$error":"#REF!"},{"$error":"#REF!"},{"$error":"#REF!"}]
[null,"Hot Water\n[kWh/m2]",{"$f":"D17","v":{"$error":"#REF!"}},{"$f":"D44*$C56","v":{"$error":"#REF!"}},{"$error":"#REF!"},{"$error":"#REF!"},{"$error":"#REF!"},{"$error":"#REF!"},{"$error":"#REF!"},{"$error":"#REF!"},{"$error":"#REF!"},{"$error":"#REF!"},{"$error":"#REF!"},{"$error":"#REF!"},{"$error":"#REF!"},{"$error":"#REF!"},{"$error":"#REF!"},{"$error":"#REF!"},{"$error":"#REF!"},{"$error":"#REF!"},{"$error":"#REF!"},{"$error":"#REF!"},{"$error":"#REF!"},{"$error":"#REF!"}]
[null,"Electric",{"$error":"#REF!"},{"$f":"D45*$C57","v":{"$error":"#REF!"}},{"$error":"#REF!"},{"$error":"#REF!"},{"$error":"#REF!"},{"$error":"#REF!"},{"$error":"#REF!"},{"$error":"#REF!"},{"$error":"#REF!"},{"$error":"#REF!"},{"$error":"#REF!"},{"$error":"#REF!"},{"$error":"#REF!"},{"$error":"#REF!"},{"$error":"#REF!"},{"$error":"#REF!"},{"$error":"#REF!"},{"$error":"#REF!"},{"$error":"#REF!"},{"$error":"#REF!"},{"$error":"#REF!"},{"$error":"#REF!"}]
[]
["Office building","Heating \n[kWh/m2]",{"$f":"E16","v":{"$error":"#REF!"}},{"$f":"D47*$C59","v":{"$error":"#REF!"}},{"$error":"#REF!"},{"$error":"#REF!"},{"$error":"#REF!"},{"$error":"#REF!"},{"$error":"#REF!"},{"$error":"#REF!"},{"$error":"#REF!"},{"$error":"#REF!"},{"$error":"#REF!"},{"$error":"#REF!"},{"$error":"#REF!"},{"$error":"#REF!"},{"$error":"#REF!"},{"$error":"#REF!"},{"$error":"#REF!"},{"$error":"#REF!"},{"$error":"#REF!"},{"$error":"#REF!"},{"$error":"#REF!"},{"$error":"#REF!"}]
[null,"Hot Water\n[kWh/m2]",{"$f":"E17","v":{"$error":"#REF!"}},{"$f":"D48*$C60","v":{"$error":"#REF!"}},{"$error":"#REF!"},{"$error":"#REF!"},{"$error":"#REF!"},{"$error":"#REF!"},{"$error":"#REF!"},{"$error":"#REF!"},{"$error":"#REF!"},{"$error":"#REF!"},{"$error":"#REF!"},{"$error":"#REF!"},{"$error":"#REF!"},{"$error":"#REF!"},{"$error":"#REF!"},{"$error":"#REF!"},{"$error":"#REF!"},{"$error":"#REF!"},{"$error":"#REF!"},{"$error":"#REF!"},{"$error":"#REF!"},{"$error":"#REF!"}]
[null,"Electric",{"$error":"#REF!"},{"$f":"D49*$C61","v":{"$error":"#REF!"}},{"$error":"#REF!"},{"$error":"#REF!"},{"$error":"#REF!"},{"$error":"#REF!"},{"$error":"#REF!"},{"$error":"#REF!"},{"$error":"#REF!"},{"$error":"#REF!"},{"$error":"#REF!"},{"$error":"#REF!"},{"$error":"#REF!"},{"$error":"#REF!"},{"$error":"#REF!"},{"$error":"#REF!"},{"$error":"#REF!"},{"$error":"#REF!"},{"$error":"#REF!"},{"$error":"#REF!"},{"$error":"#REF!"},{"$error":"#REF!"}]
[]
[null,"Thermal",null,{"$f":"D51+D55+D59+D52+D56+D60","v":{"$error":"#REF!"}},{"$f":"E51+E55+E59+E52+E56+E60","v":{"$error":"#REF!"}},{"$error":"#REF!"},{"$error":"#REF!"},{"$error":"#REF!"},{"$error":"#REF!"},{"$error":"#REF!"},{"$error":"#REF!"},{"$error":"#REF!"},{"$error":"#REF!"},{"$error":"#REF!"},{"$error":"#REF!"},{"$error":"#REF!"},{"$error":"#REF!"},{"$error":"#REF!"},{"$error":"#REF!"},{"$error":"#REF!"},{"$error":"#REF!"},{"$error":"#REF!"},{"$error":"#REF!"},{"$error":"#REF!"}]
["OK","Electric",null,{"$f":"D53+D57+D61","v":{"$error":"#REF!"}},{"$f":"E53+E57+E61","v":{"$error":"#REF!"}},{"$error":"#REF!"},{"$error":"#REF!"},{"$error":"#REF!"},{"$error":"#REF!"},{"$error":"#REF!"},{"$error":"#REF!"},{"$error":"#REF!"},{"$error":"#REF!"},{"$error":"#REF!"},{"$error":"#REF!"},{"$error":"#REF!"},{"$error":"#REF!"},{"$error":"#REF!"},{"$error":"#REF!"},{"$error":"#REF!"},{"$error":"#REF!"},{"$error":"#REF!"},{"$error":"#REF!"},{"$error":"#REF!"}]
[]
[]
["Residential apartment building","Heating \n[kWh/m2]","Share","Efficiency","Corrected efficiency","Electricity","District heating"]
[null,"VP air",{"$f":"M7","v":{"$error":"#REF!"}},{"$f":"L7","v":{"$error":"#REF!"}},{"$f":"IFERROR(1/(D68/2),0)","v":0},1,0]
[null,"VP ground",{"$f":"Q7","v":{"$error":"#REF!"}},{"$f":"P7","v":{"$error":"#REF!"}},{"$f":"IFERROR(1/(D69),0)","v":0},1,0]
[null,"EL",null,null,{"$f":"IFERROR(1/(D70),0)","v":0},1,0]
[null,"DH",null,null,0,0,1]
[null,"Other",{"$f":"U7","v":{"$error":"#REF!"}},{"$f":"T7","v":{"$error":"#REF!"}},0,0,0]
[null,"Hot Water\n[kWh/m2]",null,null,0]
[null,"VP air",null,null,0,1,0]
[null,"VP ground",null,null,0,1,0]
[null,"EL",null,null,0,1,0]
[null,"DH",null,null,0,0,1]
[null,"Other",{"$f":"Y7","v":{"$error":"#REF!"}},{"$f":"T7","v":{"$error":"#REF!"}},0,0,0]
[null,"Electric",1,1,{"$f":"D79","v":1},1,0]
[null,"Electricity",null,null,null,null,null,{"$f":"D53+D52*SUMPRODUCT(C74:C78,E74:E78,F74:F78)+D51*SUMPRODUCT(C68:C72,E68:E72,F68:F72)","v":{"$error":"#REF!"}},{"$f":"E53+E52*SUMPRODUCT(D74:D78,F74:F78,G74:G78)+E51*SUMPRODUCT(D68:D72,F68:F72,G68:G72)","v":{"$error":"#REF!"}},{"$error":"#REF!"},{"$error":"#REF!"},{"$error":"#REF!"},{"$error":"#REF!"},{"$error":"#REF!"},{"$error":"#REF!"},{"$error":"#REF!"},{"$error":"#REF!"},{"$error":"#REF!"},{"$error":"#REF!"},{"$error":"#REF!"},{"$error":"#REF!"},{"$error":"#REF!"},{"$error":"#REF!"},{"$error":"#REF!"},{"$error":"#REF!"},{"$error":"#REF!"},{"$error":"#REF!"},{"$f":"X53+X52*SUMPRODUCT(W74:W78,Y74:Y78,Z74:Z78)+X51*SUMPRODUCT(W68:W72,Y68:Y72,Z68:Z72)","v":{"$error":"#REF!"}}]
[null,"DH",null,null,null,null,null,{"$f":"D51*SUMPRODUCT(C68:C72,E68:E72,G68:G72)+D52*SUMPRODUCT(C74:C78,E74:E78,G74:G78)","v":{"$error":"#REF!"}},{"$f":"E51*SUMPRODUCT(D68:D72,F68:F72,H68:H72)+E52*SUMPRODUCT(D74:D78,F74:F78,H74:H78)","v":{"$error":"#REF!"}},{"$error":"#REF!"},{"$error":"#REF!"},{"$error":"#REF!"},{"$error":"#REF!"},{"$error":"#REF!"},{"$error":"#REF!"},{"$error":"#REF!"},{"$error":"#REF!"},{"$error":"#REF!"},{"$error":"#REF!"},{"$error":"#REF!"},{"$error":"#REF!"},{"$error":"#REF!"},{"$error":"#REF!"},{"$error":"#REF!"},{"$error":"#REF!"},{"$error":"#REF!"},{"$error":"#REF!"},{"$f":"X51*SUMPRODUCT(W68:W72,Y68:Y72,AA68:AA72)+X52*SUMPRODUCT(W74:W78,Y74:Y78,AA74:AA78)","v":{"$error":"#REF!"}}]
[]
["Kindergarten","Heating \n[kWh/m2]"]
[null,"VP air",null,null,{"$f":"IFERROR(1/(D84/2),0)","v":0},1,0]
[null,"VP ground",null,null,{"$f":"IFERROR(1/(D85),0)","v":0},1,0]
[null,"EL",null,null,{"$f":"IFERROR(1/(D86),0)","v":0},1,0]
[null,"DH",null,null,0,0,1]
[null,"Other",{"$f":"M8","v":{"$error":"#REF!"}},null,0,0,0]
[null,"Hot Water\n[kWh/m2]",null,null,0]
[null,"VP air",null,null,0,1,0]
[null,"VP ground",null,null,0,1,0]
[null,"EL",1,0.54096,1.8485655131617864,1,0]
[null,"DH",null,null,0,0,1]
[null,"Other",null,null,0,0,0]
[null,"Electric",1,1,{"$f":"D95","v":1},1,0]
[null,"Electricity",null,null,null,null,null,{"$f":"D57+D56*SUMPRODUCT(C90:C94,E90:E94,F90:F94)+D55*SUMPRODUCT(C84:C88,E84:E88,F84:F88)","v":{"$error":"#REF!"}},{"$f":"E57+E56*SUMPRODUCT(D90:D94,F90:F94,G90:G94)+E55*SUMPRODUCT(D84:D88,F84:F88,G84:G88)","v":{"$error":"#REF!"}},{"$error":"#REF!"},{"$error":"#REF!"},{"$error":"#REF!"},{"$error":"#REF!"},{"$error":"#REF!"},{"$error":"#REF!"},{"$error":"#REF!"},{"$error":"#REF!"},{"$error":"#REF!"},{"$error":"#REF!"},{"$error":"#REF!"},{"$error":"#REF!"},{"$error":"#REF!"},{"$error":"#REF!"},{"$error":"#REF!"},{"$f":"U57+U56*SUMPRODUCT(T90:T94,V90:V94,W90:W94)+U55*SUMPRODUCT(T84:T88,V84:V88,W84:W88)","v":{"$error":"#REF!"}},{"$error":"#REF!"},{"$error":"#REF!"},{"$error":"#REF!"}]
[null,"DH",null,null,null,null,null,{"$f":"D55*SUMPRODUCT(C84:C88,E84:E88,G84:G88)+D56*SUMPRODUCT(C90:C94,E90:E94,G90:G94)","v":{"$error":"#REF!"}},{"$f":"E55*SUMPRODUCT(D84:D88,F84:F88,H84:H88)+E56*SUMPRODUCT(D90:D94,F90:F94,H90:H94)","v":{"$error":"#REF!"}},{"$error":"#REF!"},{"$error":"#REF!"},{"$error":"#REF!"},{"$error":"#REF!"},{"$error":"#REF!"},{"$error":"#REF!"},{"$error":"#REF!"},{"$error":"#REF!"},{"$error":"#REF!"},{"$error":"#REF!"},{"$error":"#REF!"},{"$error":"#REF!"},{"$error":"#REF!"},{"$error":"#REF!"},{"$error":"#REF!"},{"$error":"#REF!"},{"$error":"#REF!"},{"$error":"#REF!"},{"$error":"#REF!"}]
[]
["Office","Heating \n[kWh/m2]"]
[null,"VP air",null,null,{"$f":"IFERROR(1/(D100/2),0)","v":0},1,0]
[null,"VP ground",null,null,{"$f":"IFERROR(1/(D101),0)","v":0},1,0]
[null,"EL",null,null,{"$f":"IFERROR(1/(D102),0)","v":0},1,0]
[null,"DH",{"$f":"M9","v":{"$error":"#REF!"}},{"$f":"L9","v":{"$error":"#REF!"}},0,0,1]
[null,"Other",null,null,0,0,0]
[null,"Hot Water\n[kWh/m2]",null,null,0]
[null,"VP air",null,null,0,1,0]
[null,"VP ground",null,null,0,1,0]
[null,"EL",null,null,0,1,0]
[null,"DH",{"$f":"W9","v":{"$error":"#REF!"}},{"$f":"X9","v":{"$error":"#REF!"}},0,0,1]
[null,"Other",null,null,0,0,0]
[null,"Electric",null,null,null,1,0]
[null,"Electricity",null,null,null,null,null,{"$f":"D61+D60*SUMPRODUCT(C106:C110,E106:E110,F106:F110)+D59*SUMPRODUCT(C100:C104,E100:E104,F100:F104)","v":{"$error":"#REF!"}},{"$f":"E61+E60*SUMPRODUCT(D106:D110,F106:F110,G106:G110)+E59*SUMPRODUCT(D100:D104,F100:F104,G100:G104)","v":{"$error":"#REF!"}},{"$error":"#REF!"},{"$error":"#REF!"},{"$error":"#REF!"},{"$error":"#REF!"},{"$error":"#REF!"},{"$error":"#REF!"},{"$error":"#REF!"},{"$error":"#REF!"},{"$error":"#REF!"},{"$error":"#REF!"},{"$error":"#REF!"},{"$error":"#REF!"},{"$error":"#REF!"},{"$error":"#REF!"},{"$error":"#REF!"},{"$f":"U73+U72*SUMPRODUCT(T106:T110,V106:V110,W106:W110)+U71*SUMPRODUCT(T100:T104,V100:V104,W100:W104)","v":0},{"$f":"V73+V72*SUMPRODUCT(U106:U110,W106:W110,X106:X110)+V71*SUMPRODUCT(U100:U104,W100:W104,X100:X104)","v":0},{"$f":"W73+W72*SUMPRODUCT(V106:V110,X106:X110,Y106:Y110)+W71*SUMPRODUCT(V100:V104,X100:X104,Y100:Y104)","v":0},{"$f":"X73+X72*SUMPRODUCT(W106:W110,Y106:Y110,Z106:Z110)+X71*SUMPRODUCT(W100:W104,Y100:Y104,Z100:Z104)","v":0}]
[null,"DH",null,null,null,null,null,{"$f":"D59*E103+D60*E109","v":{"$error":"#REF!"}},{"$f":"E59*SUMPRODUCT(D100:D104,F100:F104,H100:H104)+E60*SUMPRODUCT(D106:D110,F106:F110,H106:H110)","v":{"$error":"#REF!"}},{"$error":"#REF!"},{"$error":"#REF!"},{"$error":"#REF!"},{"$error":"#REF!"},{"$error":"#REF!"},{"$error":"#REF!"},{"$error":"#REF!"},{"$error":"#REF!"},{"$error":"#REF!"},{"$error":"#REF!"},{"$error":"#REF!"},{"$error":"#REF!"},{"$error":"#REF!"},{"$error":"#REF!"},{"$error":"#REF!"},{"$f":"U71*SUMPRODUCT(T100:T104,V100:V104,X100:X104)+U72*SUMPRODUCT(T106:T110,V106:V110,X106:X110)","v":0},{"$f":"V71*SUMPRODUCT(U100:U104,W100:W104,Y100:Y104)+V72*SUMPRODUCT(U106:U110,W106:W110,Y106:Y110)","v":0},{"$f":"W71*SUMPRODUCT(V100:V104,X100:X104,Z100:Z104)+W72*SUMPRODUCT(V106:V110,X106:X110,Z106:Z110)","v":0},{"$f":"X71*SUMPRODUCT(W100:W104,Y100:Y104,AA100:AA104)+X72*SUMPRODUCT(W106:W110,Y106:Y110,AA106:AA110)","v":0}]
[]
[null,null,null,null,null,null,"EL",{"$f":"H80+H96+H112","v":{"$error":"#REF!"}}]
[null,null,null,null,null,null,"DH",{"$f":"H81+H97+H113","v":{"$error":"#REF!"}}]
[]
[]
[]
[]
[null,null,null,null,null,null,null,25.932690337317499,23.89139797056578,23.284911549632596,23.69335632786305,24.675793196299612,22.773500155637606,29.456140210140841,30.703288798649993,30.60469568931687,30.116082839800882,28.465480952930882,27.365079695017549,26.762653226319642,26.080808574617595,24.496384618169962,26.459152276136052,27.658096925340324,30.238871789106724,32.545936270190083,32.7583049469062,33.368722448599272,32.950321096185263,31.003005305463091,29.074205370848084]
[null,null,null,null,null,null,null,0,0,0,0,0,0,0,0,0,0,0,0,0,0,0,0,0,0,0,0,0,0,0,0]
[null,null,null,null,null,null,null,12.967845539464257,13.241446498416961,13.298443455567618,13.777946410956545,14.026330115008307,14.571125709151753,18.870409149157553,26.523000236774365,32.456888146341079,31.219987508572252,29.710598443471696,29.143609392851801,28.318620664523717,26.691645292712288,26.135345876312169,26.22417100277173,22.509314609606296,15.770507777458075,13.55029423078062,13.211711574349852,13.229093680738542,13.56726480108226,13.33404365012156,13.817519498610116]
[null,null,null,null,null,null,null,0,0,0,0,0,0,0,0,0,0,0,0,0,0,0,0,0,0,0,0,0,0,0,0]
[null,null,null,null,null,null,null,11.987082551922246,11.987082551922246,11.974065807213639,11.981745723145339,12.133521895954033,12.633948601884438,14.546034404603908,19.485570221717605,22.337078568396766,23.182306919955433,22.922097352486542,22.744081214517159,22.44411175046573,22.139569950526766,21.444675156984324,19.866911180973545,17.420555867153737,15.075392466645702,13.923053117732973,13.393733698091324,13.05054657371673,12.672901498937446,12.471667127059863,12.30628339857601]
[null,null,null,null,null,null,null,25.226876486223681,25.631012362684103,25.606010447578146,25.934630059862872,26.228951744476355,28.81082723561558,32.284502664891207,42.410299700811251,48.151394338926451,43.831113307504211,40.219625939098634,38.686419998100575,37.289453396011425,37.009062025709234,35.891354758740484,34.662876191647619,32.431984962941819,30.956667648209734,28.661450021110319,27.554582743269513,26.772660032613366,27.04087673517413,27.836182908436783,27.267726902812644]
[null,null,null,null,"OK"]
[]
[]
[]
[]
[]
[]
[]
[]
[]
[]
[]
[]
[]
[]
[]
[]
[]
[]
[]
[]
[]
[]
[]
[]
[]
[]
[]
[]
[]
[]
[]
[]
[]
[]
[]
[]
[]
[]
[null,{"$f":"PeakDayData!A30","v":"Heating"},{"$f":"PeakDayData!B30","v":0},{"$f":"PeakDayData!C30","v":3.4694469519536099E-17},{"$f":"PeakDayData!D30","v":4.1666666666666699E-2},{"$f":"PeakDayData!E30","v":8.3333333333333301E-2},{"$f":"PeakDayData!F30","v":0.125},{"$f":"PeakDayData!G30","v":0.16666666666666699},{"$f":"PeakDayData!H30","v":0.20833333333333301},{"$f":"PeakDayData!I30","v":0.25},{"$f":"PeakDayData!J30","v":0.29166666666666702},{"$f":"PeakDayData!K30","v":0.33333333333333298},{"$f":"PeakDayData!L30","v":0.375},{"$f":"PeakDayData!M30","v":0.41666666666666702},{"$f":"PeakDayData!N30","v":0.45833333333333298},{"$f":"PeakDayData!O30","v":0.5},{"$f":"PeakDayData!P30","v":0.54166666666666696},{"$f":"PeakDayData!Q30","v":0.58333333333333304},{"$f":"PeakDayData!R30","v":0.625},{"$f":"PeakDayData!S30","v":0.66666666666666696},{"$f":"PeakDayData!T30","v":0.70833333333333304},{"$f":"PeakDayData!U30","v":0.75},{"$f":"PeakDayData!V30","v":0.79166666666666696},{"$f":"PeakDayData!W30","v":0.83333333333333304},{"$f":"PeakDayData!X30","v":0.875},{"$f":"PeakDayData!Y30","v":0.91666666666666696},{"$f":"PeakDayData!Z30","v":0.95833333333333304}]
["Heating",{"$f":"PeakDayData!A31","v":"Residential individual housing"},{"$f":"PeakDayData!B31","v":"Efficient"},{"$f":"PeakDayData!C31","v":6.8331585834764588E-4},{"$f":"PeakDayData!D31","v":6.7258710042205467E-4},{"$f":"PeakDayData!E31","v":4.4003709863068798E-4},{"$f":"PeakDayData!F31","v":4.4160315005556161E-4},{"$f":"PeakDayData!G31","v":7.1397489888704198E-4},{"$f":"PeakDayData!H31","v":4.6488337014713747E-4},{"$f":"PeakDayData!I31","v":8.5576427106423092E-4},{"$f":"PeakDayData!J31","v":8.3583623111301128E-4},{"$f":"PeakDayData!K31","v":8.0747813241131502E-4},{"$f":"PeakDayData!L31","v":7.1857229723727093E-4},{"$f":"PeakDayData!M31","v":6.917459170981225E-4},{"$f":"PeakDayData!N31","v":6.7181787714690308E-4},{"$f":"PeakDayData!O31","v":6.4959113802056886E-4},{"$f":"PeakDayData!P31","v":6.0743748027430758E-4},{"$f":"PeakDayData!Q31","v":4.3345734899517471E-4},{"$f":"PeakDayData!R31","v":4.3805586867669635E-4},{"$f":"PeakDayData!S31","v":4.1429516832522899E-4},{"$f":"PeakDayData!T31","v":5.7524559984107096E-4},{"$f":"PeakDayData!U31","v":6.6032101727745264E-4},{"$f":"PeakDayData!V31","v":7.1397041356187157E-4},{"$f":"PeakDayData!W31","v":7.4692703194508968E-4},{"$f":"PeakDayData!X31","v":7.5382537213301848E-4},{"$f":"PeakDayData!Y31","v":6.5419077903338318E-4},{"$f":"PeakDayData!Z31","v":7.3773223524463145E-4}]
["Heating",{"$f":"PeakDayData!A32","v":0},{"$f":"PeakDayData!B32","v":"Regular"},{"$f":"PeakDayData!C32","v":4.3646040989702502E-4},{"$f":"PeakDayData!D32","v":4.3840545052507189E-4},{"$f":"PeakDayData!E32","v":4.275163792605511E-4},{"$f":"PeakDayData!F32","v":4.3227640262310342E-4},{"$f":"PeakDayData!G32","v":4.5644737910936696E-4},{"$f":"PeakDayData!H32","v":3.558477473563282E-4},{"$f":"PeakDayData!I32","v":5.0812904180124808E-4},{"$f":"PeakDayData!J32","v":4.9671524355187886E-4},{"$f":"PeakDayData!K32","v":4.853270898544008E-4},{"$f":"PeakDayData!L32","v":4.5260858695705584E-4},{"$f":"PeakDayData!M32","v":4.3643476534513414E-4},{"$f":"PeakDayData!N32","v":4.2502096709576493E-4},{"$f":"PeakDayData!O32","v":4.1552656492255133E-4},{"$f":"PeakDayData!P32","v":3.9987747029547811E-4},{"$f":"PeakDayData!Q32","v":3.3299450630569862E-4},{"$f":"PeakDayData!R32","v":3.3441481994889708E-4},{"$f":"PeakDayData!S32","v":3.1918787409910768E-4},{"$f":"PeakDayData!T32","v":3.7941706320207021E-4},{"$f":"PeakDayData!U32","v":4.1884063009001426E-4},{"$f":"PeakDayData!V32","v":4.3541095592732873E-4},{"$f":"PeakDayData!W32","v":4.4821942326800525E-4},{"$f":"PeakDayData!X32","v":4.5297944663055763E-4},{"$f":"PeakDayData!Y32","v":4.2220598436125927E-4},{"$f":"PeakDayData!Z32","v":4.5589700757262761E-4}]
["Heating",{"$f":"PeakDayData!A33","v":"Residential apartment building"},{"$f":"PeakDayData!B33","v":"Efficient"},{"$f":"PeakDayData!C33","v":3.8888353775210513E-4},{"$f":"PeakDayData!D33","v":4.1326279447600166E-4},{"$f":"PeakDayData!E33","v":4.3079084664228022E-4},{"$f":"PeakDayData!F33","v":4.5862857472022881E-4},{"$f":"PeakDayData!G33","v":4.6860606082759236E-4},{"$f":"PeakDayData!H33","v":5.3671995927069159E-4},{"$f":"PeakDayData!I33","v":5.1136503363705349E-4},{"$f":"PeakDayData!J33","v":5.2286143632491794E-4},{"$f":"PeakDayData!K33","v":5.1528360874705727E-4},{"$f":"PeakDayData!L33","v":5.2862285239559418E-4},{"$f":"PeakDayData!M33","v":4.6346013602662926E-4},{"$f":"PeakDayData!N33","v":4.3041752806265219E-4},{"$f":"PeakDayData!O33","v":3.9393334583960886E-4},{"$f":"PeakDayData!P33","v":3.7663139857835635E-4},{"$f":"PeakDayData!Q33","v":3.929572542279399E-4},{"$f":"PeakDayData!R33","v":4.172403013621647E-4},{"$f":"PeakDayData!S33","v":4.4991569749417001E-4},{"$f":"PeakDayData!T33","v":4.6312432369047929E-4},{"$f":"PeakDayData!U33","v":4.7160480986113885E-4},{"$f":"PeakDayData!V33","v":4.593184285430563E-4},{"$f":"PeakDayData!W33","v":4.5208056228705231E-4},{"$f":"PeakDayData!X33","v":3.9455537892553916E-4},{"$f":"PeakDayData!Y33","v":3.6040096074770349E-4},{"$f":"PeakDayData!Z33","v":4.130137521939979E-4}]
["Heating",{"$f":"PeakDayData!A34","v":0},{"$f":"PeakDayData!B34","v":"Regular"},{"$f":"PeakDayData!C34","v":4.364604098970241E-4},{"$f":"PeakDayData!D34","v":4.3840545052507065E-4},{"$f":"PeakDayData!E34","v":4.2751637926054974E-4},{"$f":"PeakDayData!F34","v":4.3227640262310211E-4},{"$f":"PeakDayData!G34","v":4.5644737910936572E-4},{"$f":"PeakDayData!H34","v":3.5584774735632722E-4},{"$f":"PeakDayData!I34","v":5.0812904180124667E-4},{"$f":"PeakDayData!J34","v":4.9671524355187745E-4},{"$f":"PeakDayData!K34","v":4.8532708985439934E-4},{"$f":"PeakDayData!L34","v":4.5260858695705448E-4},{"$f":"PeakDayData!M34","v":4.36434765345133E-4},{"$f":"PeakDayData!N34","v":4.2502096709576384E-4},{"$f":"PeakDayData!O34","v":4.1552656492255019E-4},{"$f":"PeakDayData!P34","v":3.9987747029547691E-4},{"$f":"PeakDayData!Q34","v":3.3299450630569776E-4},{"$f":"PeakDayData!R34","v":3.3441481994889605E-4},{"$f":"PeakDayData!S34","v":3.1918787409910675E-4},{"$f":"PeakDayData!T34","v":3.7941706320206912E-4},{"$f":"PeakDayData!U34","v":4.1884063009001306E-4},{"$f":"PeakDayData!V34","v":4.3541095592732743E-4},{"$f":"PeakDayData!W34","v":4.4821942326800401E-4},{"$f":"PeakDayData!X34","v":4.5297944663055638E-4},{"$f":"PeakDayData!Y34","v":4.2220598436125818E-4},{"$f":"PeakDayData!Z34","v":4.5589700757262637E-4}]
["Heating",{"$f":"PeakDayData!A35","v":"Office building"},{"$f":"PeakDayData!B35","v":"Efficient"},{"$f":"PeakDayData!C35","v":3.8197368408427672E-4},{"$f":"PeakDayData!D35","v":3.8533878273392985E-4},{"$f":"PeakDayData!E35","v":3.8246418838644149E-4},{"$f":"PeakDayData!F35","v":3.849481678216236E-4},{"$f":"PeakDayData!G35","v":3.8601968626772432E-4},{"$f":"PeakDayData!H35","v":4.1959094386338064E-4},{"$f":"PeakDayData!I35","v":4.6422573604883947E-4},{"$f":"PeakDayData!J35","v":6.0359784066830991E-4},{"$f":"PeakDayData!K35","v":6.9800433614080064E-4},{"$f":"PeakDayData!L35","v":6.3706972671167021E-4},{"$f":"PeakDayData!M35","v":5.8100223339958281E-4},{"$f":"PeakDayData!N35","v":5.5870693021717419E-4},{"$f":"PeakDayData!O35","v":5.3847429939715078E-4},{"$f":"PeakDayData!P35","v":5.2285900612123468E-4},{"$f":"PeakDayData!Q35","v":5.1993128225070063E-4},{"$f":"PeakDayData!R35","v":5.1229882343994655E-4},{"$f":"PeakDayData!S35","v":4.9463229096811847E-4},{"$f":"PeakDayData!T35","v":4.7940015609218247E-4},{"$f":"PeakDayData!U35","v":4.4765959059976879E-4},{"$f":"PeakDayData!V35","v":4.3311091450067013E-4},{"$f":"PeakDayData!W35","v":4.1776676256776032E-4},{"$f":"PeakDayData!X35","v":4.1402421917536571E-4},{"$f":"PeakDayData!Y35","v":4.2501095975148117E-4},{"$f":"PeakDayData!Z35","v":4.1890540134477964E-4}]
["Heating",{"$f":"PeakDayData!A36","v":0},{"$f":"PeakDayData!B36","v":"Regular"},{"$f":"PeakDayData!C36","v":2.8159736896277805E-4},{"$f":"PeakDayData!D36","v":2.8801422437603751E-4},{"$f":"PeakDayData!E36","v":2.9803970252374111E-4},{"$f":"PeakDayData!F36","v":3.1016703445404999E-4},{"$f":"PeakDayData!G36","v":3.5091861848468787E-4},{"$f":"PeakDayData!H36","v":4.3160309515249051E-4},{"$f":"PeakDayData!I36","v":5.4157305576819112E-4},{"$f":"PeakDayData!J36","v":6.2003705210517167E-4},{"$f":"PeakDayData!K36","v":6.6421405706589638E-4},{"$f":"PeakDayData!L36","v":6.1370392807470666E-4},{"$f":"PeakDayData!M36","v":5.89763524877328E-4},{"$f":"PeakDayData!N36","v":5.6538041316289039E-4},{"$f":"PeakDayData!O36","v":5.4253835823923392E-4},{"$f":"PeakDayData!P36","v":5.3202112756638306E-4},{"$f":"PeakDayData!Q36","v":5.1101755330822606E-4},{"$f":"PeakDayData!R36","v":4.9684276033507013E-4},{"$f":"PeakDayData!S36","v":4.765275676367549E-4},{"$f":"PeakDayData!T36","v":4.3733153592832017E-4},{"$f":"PeakDayData!U36","v":3.7935726317021233E-4},{"$f":"PeakDayData!V36","v":3.2619479996991721E-4},{"$f":"PeakDayData!W36","v":3.1711788874162403E-4},{"$f":"PeakDayData!X36","v":3.1102340213492145E-4},{"$f":"PeakDayData!Y36","v":3.033546567436055E-4},{"$f":"PeakDayData!Z36","v":3.0323719745105793E-4}]
["Heating",{"$f":"PeakDayData!A37","v":"Kindergarten"},{"$f":"PeakDayData!B37","v":"Efficient"},{"$f":"PeakDayData!C37","v":3.1991602130981107E-4},{"$f":"PeakDayData!D37","v":3.2964681046463145E-4},{"$f":"PeakDayData!E37","v":3.3183764190470124E-4},{"$f":"PeakDayData!F37","v":3.4563441828422306E-4},{"$f":"PeakDayData!G37","v":3.5235738601410401E-4},{"$f":"PeakDayData!H37","v":3.5229117297380831E-4},{"$f":"PeakDayData!I37","v":4.5529505736361124E-4},{"$f":"PeakDayData!J37","v":5.9617014245682632E-4},{"$f":"PeakDayData!K37","v":6.4584279051192652E-4},{"$f":"PeakDayData!L37","v":5.8013973519912979E-4},{"$f":"PeakDayData!M37","v":5.1261758672186352E-4},{"$f":"PeakDayData!N37","v":5.1890850559771257E-4},{"$f":"PeakDayData!O37","v":4.8090825044323662E-4},{"$f":"PeakDayData!P37","v":4.310173671092259E-4},{"$f":"PeakDayData!Q37","v":4.4265876732653918E-4},{"$f":"PeakDayData!R37","v":4.492154966167385E-4},{"$f":"PeakDayData!S37","v":4.0496106586057173E-4},{"$f":"PeakDayData!T37","v":3.0978860594124441E-4},{"$f":"PeakDayData!U37","v":3.1827394956586078E-4},{"$f":"PeakDayData!V37","v":3.2399776536046968E-4},{"$f":"PeakDayData!W37","v":3.2898595186869699E-4},{"$f":"PeakDayData!X37","v":3.4102524561397676E-4},{"$f":"PeakDayData!Y37","v":3.3050692401249846E-4},{"$f":"PeakDayData!Z37","v":3.4419408824952138E-4}]
["Heating",{"$f":"PeakDayData!A38","v":0},{"$f":"PeakDayData!B38","v":"Regular"},{"$f":"PeakDayData!C38","v":3.1991602130981107E-4},{"$f":"PeakDayData!D38","v":3.2964681046463145E-4},{"$f":"PeakDayData!E38","v":3.3183764190470124E-4},{"$f":"PeakDayData!F38","v":3.4563441828422306E-4},{"$f":"PeakDayData!G38","v":3.5235738601410401E-4},{"$f":"PeakDayData!H38","v":3.5229117297380831E-4},{"$f":"PeakDayData!I38","v":4.5529505736361124E-4},{"$f":"PeakDayData!J38","v":5.9617014245682632E-4},{"$f":"PeakDayData!K38","v":6.4584279051192652E-4},{"$f":"PeakDayData!L38","v":5.8013973519912979E-4},{"$f":"PeakDayData!M38","v":5.1261758672186352E-4},{"$f":"PeakDayData!N38","v":5.1890850559771257E-4},{"$f":"PeakDayData!O38","v":4.8090825044323662E-4},{"$f":"PeakDayData!P38","v":4.310173671092259E-4},{"$f":"PeakDayData!Q38","v":4.4265876732653918E-4},{"$f":"PeakDayData!R38","v":4.492154966167385E-4},{"$f":"PeakDayData!S38","v":4.0496106586057173E-4},{"$f":"PeakDayData!T38","v":3.0978860594124441E-4},{"$f":"PeakDayData!U38","v":3.1827394956586078E-4},{"$f":"PeakDayData!V38","v":3.2399776536046968E-4},{"$f":"PeakDayData!W38","v":3.2898595186869699E-4},{"$f":"PeakDayData!X38","v":3.4102524561397676E-4},{"$f":"PeakDayData!Y38","v":3.3050692401249846E-4},{"$f":"PeakDayData!Z38","v":3.4419408824952138E-4}]
["Heating",{"$f":"PeakDayData!A39","v":"School"},{"$f":"PeakDayData!B39","v":"Efficient"},{"$f":"PeakDayData!C39","v":2.0786153794050564E-4},{"$f":"PeakDayData!D39","v":2.2106032499624265E-4},{"$f":"PeakDayData!E39","v":2.369797252268543E-4},{"$f":"PeakDayData!F39","v":3.2048410653061701E-4},{"$f":"PeakDayData!G39","v":3.4160605635355409E-4},{"$f":"PeakDayData!H39","v":3.819596028329394E-4},{"$f":"PeakDayData!I39","v":4.7489816585189929E-4},{"$f":"PeakDayData!J39","v":7.4889543150452337E-4},{"$f":"PeakDayData!K39","v":9.1746536772981623E-4},{"$f":"PeakDayData!L39","v":7.9335119840739433E-4},{"$f":"PeakDayData!M39","v":7.295335020175395E-4},{"$f":"PeakDayData!N39","v":6.8885147240950245E-4},{"$f":"PeakDayData!O39","v":6.408261908921023E-4},{"$f":"PeakDayData!P39","v":5.8039445722131032E-4},{"$f":"PeakDayData!Q39","v":5.6042858799415518E-4},{"$f":"PeakDayData!R39","v":5.3186611075226845E-4},{"$f":"PeakDayData!S39","v":4.86564624084276E-4},{"$f":"PeakDayData!T39","v":3.9037203232963164E-4},{"$f":"PeakDayData!U39","v":3.6560723079307313E-4},{"$f":"PeakDayData!V39","v":3.4211432959783565E-4},{"$f":"PeakDayData!W39","v":3.187887317633915E-4},{"$f":"PeakDayData!X39","v":3.0098287264331301E-4},{"$f":"PeakDayData!Y39","v":2.7479409791518575E-4},{"$f":"PeakDayData!Z39","v":2.3922080689689064E-4}]
["Heating",{"$f":"PeakDayData!A40","v":0},{"$f":"PeakDayData!B40","v":"Regular"},{"$f":"PeakDayData!C40","v":2.5500319148944524E-4},{"$f":"PeakDayData!D40","v":2.6309627291978512E-4},{"$f":"PeakDayData!E40","v":2.749390136834652E-4},{"$f":"PeakDayData!F40","v":2.956440479821306E-4},{"$f":"PeakDayData!G40","v":3.1344632355193648E-4},{"$f":"PeakDayData!H40","v":3.6161623363175049E-4},{"$f":"PeakDayData!I40","v":4.8246072259278133E-4},{"$f":"PeakDayData!J40","v":5.8426288699806321E-4},{"$f":"PeakDayData!K40","v":6.921476432935231E-4},{"$f":"PeakDayData!L40","v":6.2078627910979877E-4},{"$f":"PeakDayData!M40","v":5.902065566532012E-4},{"$f":"PeakDayData!N40","v":5.5286051021502178E-4},{"$f":"PeakDayData!O40","v":5.424258881057965E-4},{"$f":"PeakDayData!P40","v":5.281689080576308E-4},{"$f":"PeakDayData!Q40","v":4.9164838459696996E-4},{"$f":"PeakDayData!R40","v":4.52641069601523E-4},{"$f":"PeakDayData!S40","v":3.7982615949928004E-4},{"$f":"PeakDayData!T40","v":3.4048274636495646E-4},{"$f":"PeakDayData!U40","v":3.2625955446501738E-4},{"$f":"PeakDayData!V40","v":3.1059415608159478E-4},{"$f":"PeakDayData!W40","v":2.8351889713649765E-4},{"$f":"PeakDayData!X40","v":2.7114865881148456E-4},{"$f":"PeakDayData!Y40","v":2.4587676445242938E-4},{"$f":"PeakDayData!Z40","v":2.6300888064268314E-4}]
["Heating",{"$f":"PeakDayData!A41","v":"University/Collage"},{"$f":"PeakDayData!B41","v":"Efficient"},{"$f":"PeakDayData!C41","v":3.8197368408427672E-4},{"$f":"PeakDayData!D41","v":3.8533878273392985E-4},{"$f":"PeakDayData!E41","v":3.8246418838644149E-4},{"$f":"PeakDayData!F41","v":3.849481678216236E-4},{"$f":"PeakDayData!G41","v":3.8601968626772432E-4},{"$f":"PeakDayData!H41","v":4.1959094386338064E-4},{"$f":"PeakDayData!I41","v":4.6422573604883947E-4},{"$f":"PeakDayData!J41","v":6.0359784066830991E-4},{"$f":"PeakDayData!K41","v":6.9800433614080064E-4},{"$f":"PeakDayData!L41","v":6.3706972671167021E-4},{"$f":"PeakDayData!M41","v":5.8100223339958281E-4},{"$f":"PeakDayData!N41","v":5.5870693021717419E-4},{"$f":"PeakDayData!O41","v":5.3847429939715078E-4},{"$f":"PeakDayData!P41","v":5.2285900612123468E-4},{"$f":"PeakDayData!Q41","v":5.1993128225070063E-4},{"$f":"PeakDayData!R41","v":5.1229882343994655E-4},{"$f":"PeakDayData!S41","v":4.9463229096811847E-4},{"$f":"PeakDayData!T41","v":4.7940015609218247E-4},{"$f":"PeakDayData!U41","v":4.4765959059976879E-4},{"$f":"PeakDayData!V41","v":4.3311091450067013E-4},{"$f":"PeakDayData!W41","v":4.1776676256776032E-4},{"$f":"PeakDayData!X41","v":4.1402421917536571E-4},{"$f":"PeakDayData!Y41","v":4.2501095975148117E-4},{"$f":"PeakDayData!Z41","v":4.1890540134477964E-4}]
["Heating",{"$f":"PeakDayData!A42","v":0},{"$f":"PeakDayData!B42","v":"Regular"},{"$f":"PeakDayData!C42","v":2.8159736896277805E-4},{"$f":"PeakDayData!D42","v":2.8801422437603751E-4},{"$f":"PeakDayData!E42","v":2.9803970252374111E-4},{"$f":"PeakDayData!F42","v":3.1016703445404999E-4},{"$f":"PeakDayData!G42","v":3.5091861848468787E-4},{"$f":"PeakDayData!H42","v":4.3160309515249051E-4},{"$f":"PeakDayData!I42","v":5.4157305576819112E-4},{"$f":"PeakDayData!J42","v":6.2003705210517167E-4},{"$f":"PeakDayData!K42","v":6.6421405706589638E-4},{"$f":"PeakDayData!L42","v":6.1370392807470666E-4},{"$f":"PeakDayData!M42","v":5.89763524877328E-4},{"$f":"PeakDayData!N42","v":5.6538041316289039E-4},{"$f":"PeakDayData!O42","v":5.4253835823923392E-4},{"$f":"PeakDayData!P42","v":5.3202112756638306E-4},{"$f":"PeakDayData!Q42","v":5.1101755330822606E-4},{"$f":"PeakDayData!R42","v":4.9684276033507013E-4},{"$f":"PeakDayData!S42","v":4.765275676367549E-4},{"$f":"PeakDayData!T42","v":4.3733153592832017E-4},{"$f":"PeakDayData!U42","v":3.7935726317021233E-4},{"$f":"PeakDayData!V42","v":3.2619479996991721E-4},{"$f":"PeakDayData!W42","v":3.1711788874162403E-4},{"$f":"PeakDayData!X42","v":3.1102340213492145E-4},{"$f":"PeakDayData!Y42","v":3.033546567436055E-4},{"$f":"PeakDayData!Z42","v":3.0323719745105793E-4}]
["Heating",{"$f":"PeakDayData!A43","v":"Hospital"},{"$f":"PeakDayData!B43","v":"Efficient"},{"$f":"PeakDayData!C43","v":3.7846898740545408E-4},{"$f":"PeakDayData!D43","v":3.8120085465892007E-4},{"$f":"PeakDayData!E43","v":3.8178129498412603E-4},{"$f":"PeakDayData!F43","v":3.941136892182154E-4},{"$f":"PeakDayData!G43","v":3.9331164839363439E-4},{"$f":"PeakDayData!H43","v":4.0939678340929622E-4},{"$f":"PeakDayData!I43","v":4.2094045041966507E-4},{"$f":"PeakDayData!J43","v":4.5333610682063858E-4},{"$f":"PeakDayData!K43","v":4.9744423965877827E-4},{"$f":"PeakDayData!L43","v":4.5756589021771064E-4},{"$f":"PeakDayData!M43","v":4.2894228078961587E-4},{"$f":"PeakDayData!N43","v":3.9639548401383391E-4},{"$f":"PeakDayData!O43","v":3.7618119763765245E-4},{"$f":"PeakDayData!P43","v":3.6483641975465888E-4},{"$f":"PeakDayData!Q43","v":3.5564878342495416E-4},{"$f":"PeakDayData!R43","v":3.6318586202870973E-4},{"$f":"PeakDayData!S43","v":3.7972681315423475E-4},{"$f":"PeakDayData!T43","v":4.0144948258664844E-4},{"$f":"PeakDayData!U43","v":4.085980615623135E-4},{"$f":"PeakDayData!V43","v":4.2166917702718865E-4},{"$f":"PeakDayData!W43","v":4.3646780347944753E-4},{"$f":"PeakDayData!X43","v":4.3547447069723313E-4},{"$f":"PeakDayData!Y43","v":4.1506223131039603E-4},{"$f":"PeakDayData!Z43","v":4.2020214689973603E-4}]
["Heating",{"$f":"PeakDayData!A44","v":0},{"$f":"PeakDayData!B44","v":"Regular"},{"$f":"PeakDayData!C44","v":3.7846898740545408E-4},{"$f":"PeakDayData!D44","v":3.8120085465892007E-4},{"$f":"PeakDayData!E44","v":3.8178129498412603E-4},{"$f":"PeakDayData!F44","v":3.941136892182154E-4},{"$f":"PeakDayData!G44","v":3.9331164839363439E-4},{"$f":"PeakDayData!H44","v":4.0939678340929622E-4},{"$f":"PeakDayData!I44","v":4.2094045041966507E-4},{"$f":"PeakDayData!J44","v":4.5333610682063858E-4},{"$f":"PeakDayData!K44","v":4.9744423965877827E-4},{"$f":"PeakDayData!L44","v":4.5756589021771064E-4},{"$f":"PeakDayData!M44","v":4.2894228078961587E-4},{"$f":"PeakDayData!N44","v":3.9639548401383391E-4},{"$f":"PeakDayData!O44","v":3.7618119763765245E-4},{"$f":"PeakDayData!P44","v":3.6483641975465888E-4},{"$f":"PeakDayData!Q44","v":3.5564878342495416E-4},{"$f":"PeakDayData!R44","v":3.6318586202870973E-4},{"$f":"PeakDayData!S44","v":3.7972681315423475E-4},{"$f":"PeakDayData!T44","v":4.0144948258664844E-4},{"$f":"PeakDayData!U44","v":4.085980615623135E-4},{"$f":"PeakDayData!V44","v":4.2166917702718865E-4},{"$f":"PeakDayData!W44","v":4.3646780347944753E-4},{"$f":"PeakDayData!X44","v":4.3547447069723313E-4},{"$f":"PeakDayData!Y44","v":4.1506223131039603E-4},{"$f":"PeakDayData!Z44","v":4.2020214689973603E-4}]
["Heating",{"$f":"PeakDayData!A45","v":"Nursing home"},{"$f":"PeakDayData!B45","v":"Efficient"},{"$f":"PeakDayData!C45","v":3.1989753197059732E-4},{"$f":"PeakDayData!D45","v":3.240773915440173E-4},{"$f":"PeakDayData!E45","v":3.4085242341529344E-4},{"$f":"PeakDayData!F45","v":3.6102008106783434E-4},{"$f":"PeakDayData!G45","v":3.6763578031829777E-4},{"$f":"PeakDayData!H45","v":4.2774832557912354E-4},{"$f":"PeakDayData!I45","v":4.4536143901962634E-4},{"$f":"PeakDayData!J45","v":4.3765079485788664E-4},{"$f":"PeakDayData!K45","v":4.9015999344910531E-4},{"$f":"PeakDayData!L45","v":4.4657427225395613E-4},{"$f":"PeakDayData!M45","v":4.2317032400071677E-4},{"$f":"PeakDayData!N45","v":4.13182514404666E-4},{"$f":"PeakDayData!O45","v":3.9893026972605175E-4},{"$f":"PeakDayData!P45","v":4.0290124304052894E-4},{"$f":"PeakDayData!Q45","v":3.8980365465530336E-4},{"$f":"PeakDayData!R45","v":3.8334241101252924E-4},{"$f":"PeakDayData!S45","v":3.8865413369624998E-4},{"$f":"PeakDayData!T45","v":3.8920196874429696E-4},{"$f":"PeakDayData!U45","v":3.727180973737457E-4},{"$f":"PeakDayData!V45","v":3.6445015401652549E-4},{"$f":"PeakDayData!W45","v":3.306184499854439E-4},{"$f":"PeakDayData!X45","v":3.3342644988181491E-4},{"$f":"PeakDayData!Y45","v":3.4796840025079349E-4},{"$f":"PeakDayData!Z45","v":3.4857425737791405E-4}]
["Heating",{"$f":"PeakDayData!A46","v":0},{"$f":"PeakDayData!B46","v":"Regular"},{"$f":"PeakDayData!C46","v":3.1989753197059732E-4},{"$f":"PeakDayData!D46","v":3.240773915440173E-4},{"$f":"PeakDayData!E46","v":3.4085242341529344E-4},{"$f":"PeakDayData!F46","v":3.6102008106783434E-4},{"$f":"PeakDayData!G46","v":3.6763578031829777E-4},{"$f":"PeakDayData!H46","v":4.2774832557912354E-4},{"$f":"PeakDayData!I46","v":4.4536143901962634E-4},{"$f":"PeakDayData!J46","v":4.3765079485788664E-4},{"$f":"PeakDayData!K46","v":4.9015999344910531E-4},{"$f":"PeakDayData!L46","v":4.4657427225395613E-4},{"$f":"PeakDayData!M46","v":4.2317032400071677E-4},{"$f":"PeakDayData!N46","v":4.13182514404666E-4},{"$f":"PeakDayData!O46","v":3.9893026972605175E-4},{"$f":"PeakDayData!P46","v":4.0290124304052894E-4},{"$f":"PeakDayData!Q46","v":3.8980365465530336E-4},{"$f":"PeakDayData!R46","v":3.8334241101252924E-4},{"$f":"PeakDayData!S46","v":3.8865413369624998E-4},{"$f":"PeakDayData!T46","v":3.8920196874429696E-4},{"$f":"PeakDayData!U46","v":3.727180973737457E-4},{"$f":"PeakDayData!V46","v":3.6445015401652549E-4},{"$f":"PeakDayData!W46","v":3.306184499854439E-4},{"$f":"PeakDayData!X46","v":3.3342644988181491E-4},{"$f":"PeakDayData!Y46","v":3.4796840025079349E-4},{"$f":"PeakDayData!Z46","v":3.4857425737791405E-4}]
["Heating",{"$f":"PeakDayData!A47","v":"Hotel"},{"$f":"PeakDayData!B47","v":"Efficient"},{"$f":"PeakDayData!C47","v":3.9717872203368711E-4},{"$f":"PeakDayData!D47","v":3.9938071511629866E-4},{"$f":"PeakDayData!E47","v":3.9856850404422397E-4},{"$f":"PeakDayData!F47","v":4.0528332194378244E-4},{"$f":"PeakDayData!G47","v":4.0437389489958664E-4},{"$f":"PeakDayData!H47","v":4.2203713597844432E-4},{"$f":"PeakDayData!I47","v":4.4344903397200728E-4},{"$f":"PeakDayData!J47","v":4.5326807901774753E-4},{"$f":"PeakDayData!K47","v":4.7691053387303051E-4},{"$f":"PeakDayData!L47","v":4.4711725416055227E-4},{"$f":"PeakDayData!M47","v":4.309839743997715E-4},{"$f":"PeakDayData!N47","v":4.2107047702487485E-4},{"$f":"PeakDayData!O47","v":4.0743894604251682E-4},{"$f":"PeakDayData!P47","v":4.1136283217144826E-4},{"$f":"PeakDayData!Q47","v":3.976740428461216E-4},{"$f":"PeakDayData!R47","v":4.0569966417981475E-4},{"$f":"PeakDayData!S47","v":4.2074607085665621E-4},{"$f":"PeakDayData!T47","v":4.395988605054395E-4},{"$f":"PeakDayData!U47","v":4.4021907085205534E-4},{"$f":"PeakDayData!V47","v":4.3530763709904617E-4},{"$f":"PeakDayData!W47","v":4.3901425847376745E-4},{"$f":"PeakDayData!X47","v":4.3819848203945213E-4},{"$f":"PeakDayData!Y47","v":4.3431443833166474E-4},{"$f":"PeakDayData!Z47","v":4.369820810030943E-4}]
["Heating",{"$f":"PeakDayData!A48","v":0},{"$f":"PeakDayData!B48","v":"Regular"},{"$f":"PeakDayData!C48","v":3.9717872203368711E-4},{"$f":"PeakDayData!D48","v":3.9938071511629866E-4},{"$f":"PeakDayData!E48","v":3.9856850404422397E-4},{"$f":"PeakDayData!F48","v":4.0528332194378244E-4},{"$f":"PeakDayData!G48","v":4.0437389489958664E-4},{"$f":"PeakDayData!H48","v":4.2203713597844432E-4},{"$f":"PeakDayData!I48","v":4.4344903397200728E-4},{"$f":"PeakDayData!J48","v":4.5326807901774753E-4},{"$f":"PeakDayData!K48","v":4.7691053387303051E-4},{"$f":"PeakDayData!L48","v":4.4711725416055227E-4},{"$f":"PeakDayData!M48","v":4.309839743997715E-4},{"$f":"PeakDayData!N48","v":4.2107047702487485E-4},{"$f":"PeakDayData!O48","v":4.0743894604251682E-4},{"$f":"PeakDayData!P48","v":4.1136283217144826E-4},{"$f":"PeakDayData!Q48","v":3.976740428461216E-4},{"$f":"PeakDayData!R48","v":4.0569966417981475E-4},{"$f":"PeakDayData!S48","v":4.2074607085665621E-4},{"$f":"PeakDayData!T48","v":4.395988605054395E-4},{"$f":"PeakDayData!U48","v":4.4021907085205534E-4},{"$f":"PeakDayData!V48","v":4.3530763709904617E-4},{"$f":"PeakDayData!W48","v":4.3901425847376745E-4},{"$f":"PeakDayData!X48","v":4.3819848203945213E-4},{"$f":"PeakDayData!Y48","v":4.3431443833166474E-4},{"$f":"PeakDayData!Z48","v":4.369820810030943E-4}]
["Heating",{"$f":"PeakDayData!A49","v":"Sports Facility"},{"$f":"PeakDayData!B49","v":"Efficient"},{"$f":"PeakDayData!C49","v":3.1989753197059732E-4},{"$f":"PeakDayData!D49","v":3.240773915440173E-4},{"$f":"PeakDayData!E49","v":3.4085242341529344E-4},{"$f":"PeakDayData!F49","v":3.6102008106783434E-4},{"$f":"PeakDayData!G49","v":3.6763578031829777E-4},{"$f":"PeakDayData!H49","v":4.2774832557912354E-4},{"$f":"PeakDayData!I49","v":4.4536143901962634E-4},{"$f":"PeakDayData!J49","v":4.3765079485788664E-4},{"$f":"PeakDayData!K49","v":4.9015999344910531E-4},{"$f":"PeakDayData!L49","v":4.4657427225395613E-4},{"$f":"PeakDayData!M49","v":4.2317032400071677E-4},{"$f":"PeakDayData!N49","v":4.13182514404666E-4},{"$f":"PeakDayData!O49","v":3.9893026972605175E-4},{"$f":"PeakDayData!P49","v":4.0290124304052894E-4},{"$f":"PeakDayData!Q49","v":3.8980365465530336E-4},{"$f":"PeakDayData!R49","v":3.8334241101252924E-4},{"$f":"PeakDayData!S49","v":3.8865413369624998E-4},{"$f":"PeakDayData!T49","v":3.8920196874429696E-4},{"$f":"PeakDayData!U49","v":3.727180973737457E-4},{"$f":"PeakDayData!V49","v":3.6445015401652549E-4},{"$f":"PeakDayData!W49","v":3.306184499854439E-4},{"$f":"PeakDayData!X49","v":3.3342644988181491E-4},{"$f":"PeakDayData!Y49","v":3.4796840025079349E-4},{"$f":"PeakDayData!Z49","v":3.4857425737791405E-4}]
["Heating",{"$f":"PeakDayData!A50","v":0},{"$f":"PeakDayData!B50","v":"Regular"},{"$f":"PeakDayData!C50","v":3.1989753197059732E-4},{"$f":"PeakDayData!D50","v":3.240773915440173E-4},{"$f":"PeakDayData!E50","v":3.4085242341529344E-4},{"$f":"PeakDayData!F50","v":3.6102008106783434E-4},{"$f":"PeakDayData!G50","v":3.6763578031829777E-4},{"$f":"PeakDayData!H50","v":4.2774832557912354E-4},{"$f":"PeakDayData!I50","v":4.4536143901962634E-4},{"$f":"PeakDayData!J50","v":4.3765079485788664E-4},{"$f":"PeakDayData!K50","v":4.9015999344910531E-4},{"$f":"PeakDayData!L50","v":4.4657427225395613E-4},{"$f":"PeakDayData!M50","v":4.2317032400071677E-4},{"$f":"PeakDayData!N50","v":4.13182514404666E-4},{"$f":"PeakDayData!O50","v":3.9893026972605175E-4},{"$f":"PeakDayData!P50","v":4.0290124304052894E-4},{"$f":"PeakDayData!Q50","v":3.8980365465530336E-4},{"$f":"PeakDayData!R50","v":3.8334241101252924E-4},{"$f":"PeakDayData!S50","v":3.8865413369624998E-4},{"$f":"PeakDayData!T50","v":3.8920196874429696E-4},{"$f":"PeakDayData!U50","v":3.727180973737457E-4},{"$f":"PeakDayData!V50","v":3.6445015401652549E-4},{"$f":"PeakDayData!W50","v":3.306184499854439E-4},{"$f":"PeakDayData!X50","v":3.3342644988181491E-4},{"$f":"PeakDayData!Y50","v":3.4796840025079349E-4},{"$f":"PeakDayData!Z50","v":3.4857425737791405E-4}]
["Heating",{"$f":"PeakDayData!A51","v":"Comercial building"},{"$f":"PeakDayData!B51","v":"Efficient"},{"$f":"PeakDayData!C51","v":3.617881371678959E-4},{"$f":"PeakDayData!D51","v":3.7069438813327815E-4},{"$f":"PeakDayData!E51","v":3.6661214475695224E-4},{"$f":"PeakDayData!F51","v":3.891207090237095E-4},{"$f":"PeakDayData!G51","v":3.9138057435952E-4},{"$f":"PeakDayData!H51","v":4.4510270025245613E-4},{"$f":"PeakDayData!I51","v":5.4835578394548529E-4},{"$f":"PeakDayData!J51","v":5.9703620545096051E-4},{"$f":"PeakDayData!K51","v":6.8245443783513336E-4},{"$f":"PeakDayData!L51","v":6.3638387498756441E-4},{"$f":"PeakDayData!M51","v":6.2685318876201678E-4},{"$f":"PeakDayData!N51","v":5.9990228942594808E-4},{"$f":"PeakDayData!O51","v":5.7439218778287439E-4},{"$f":"PeakDayData!P51","v":5.6822806314690767E-4},{"$f":"PeakDayData!Q51","v":5.4866970709116318E-4},{"$f":"PeakDayData!R51","v":5.4945854724695821E-4},{"$f":"PeakDayData!S51","v":5.1509761545076452E-4},{"$f":"PeakDayData!T51","v":4.8701704646055244E-4},{"$f":"PeakDayData!U51","v":4.6884033588480997E-4},{"$f":"PeakDayData!V51","v":4.5238418859670462E-4},{"$f":"PeakDayData!W51","v":4.1100540389620716E-4},{"$f":"PeakDayData!X51","v":3.7148052845726871E-4},{"$f":"PeakDayData!Y51","v":3.6426298563413005E-4},{"$f":"PeakDayData!Z51","v":3.8695125661932536E-4}]
["Heating",{"$f":"PeakDayData!A52","v":0},{"$f":"PeakDayData!B52","v":"Regular"},{"$f":"PeakDayData!C52","v":3.617881371678959E-4},{"$f":"PeakDayData!D52","v":3.7069438813327815E-4},{"$f":"PeakDayData!E52","v":3.6661214475695224E-4},{"$f":"PeakDayData!F52","v":3.891207090237095E-4},{"$f":"PeakDayData!G52","v":3.9138057435952E-4},{"$f":"PeakDayData!H52","v":4.4510270025245613E-4},{"$f":"PeakDayData!I52","v":5.4835578394548529E-4},{"$f":"PeakDayData!J52","v":5.9703620545096051E-4},{"$f":"PeakDayData!K52","v":6.8245443783513336E-4},{"$f":"PeakDayData!L52","v":6.3638387498756441E-4},{"$f":"PeakDayData!M52","v":6.2685318876201678E-4},{"$f":"PeakDayData!N52","v":5.9990228942594808E-4},{"$f":"PeakDayData!O52","v":5.7439218778287439E-4},{"$f":"PeakDayData!P52","v":5.6822806314690767E-4},{"$f":"PeakDayData!Q52","v":5.4866970709116318E-4},{"$f":"PeakDayData!R52","v":5.4945854724695821E-4},{"$f":"PeakDayData!S52","v":5.1509761545076452E-4},{"$f":"PeakDayData!T52","v":4.8701704646055244E-4},{"$f":"PeakDayData!U52","v":4.6884033588480997E-4},{"$f":"PeakDayData!V52","v":4.5238418859670462E-4},{"$f":"PeakDayData!W52","v":4.1100540389620716E-4},{"$f":"PeakDayData!X52","v":3.7148052845726871E-4},{"$f":"PeakDayData!Y52","v":3.6426298563413005E-4},{"$f":"PeakDayData!Z52","v":3.8695125661932536E-4}]
["Heating",{"$f":"PeakDayData!A53","v":"Cultural building"},{"$f":"PeakDayData!B53","v":"Efficient"},{"$f":"PeakDayData!C53","v":3.8197368408427672E-4},{"$f":"PeakDayData!D53","v":3.8533878273392985E-4},{"$f":"PeakDayData!E53","v":3.8246418838644149E-4},{"$f":"PeakDayData!F53","v":3.849481678216236E-4},{"$f":"PeakDayData!G53","v":3.8601968626772432E-4},{"$f":"PeakDayData!H53","v":4.1959094386338064E-4},{"$f":"PeakDayData!I53","v":4.6422573604883947E-4},{"$f":"PeakDayData!J53","v":6.0359784066830991E-4},{"$f":"PeakDayData!K53","v":6.9800433614080064E-4},{"$f":"PeakDayData!L53","v":6.3706972671167021E-4},{"$f":"PeakDayData!M53","v":5.8100223339958281E-4},{"$f":"PeakDayData!N53","v":5.5870693021717419E-4},{"$f":"PeakDayData!O53","v":5.3847429939715078E-4},{"$f":"PeakDayData!P53","v":5.2285900612123468E-4},{"$f":"PeakDayData!Q53","v":5.1993128225070063E-4},{"$f":"PeakDayData!R53","v":5.1229882343994655E-4},{"$f":"PeakDayData!S53","v":4.9463229096811847E-4},{"$f":"PeakDayData!T53","v":4.7940015609218247E-4},{"$f":"PeakDayData!U53","v":4.4765959059976879E-4},{"$f":"PeakDayData!V53","v":4.3311091450067013E-4},{"$f":"PeakDayData!W53","v":4.1776676256776032E-4},{"$f":"PeakDayData!X53","v":4.1402421917536571E-4},{"$f":"PeakDayData!Y53","v":4.2501095975148117E-4},{"$f":"PeakDayData!Z53","v":4.1890540134477964E-4}]
["Heating",{"$f":"PeakDayData!A54","v":0},{"$f":"PeakDayData!B54","v":"Regular"},{"$f":"PeakDayData!C54","v":2.8159736896277805E-4},{"$f":"PeakDayData!D54","v":2.8801422437603751E-4},{"$f":"PeakDayData!E54","v":2.9803970252374111E-4},{"$f":"PeakDayData!F54","v":3.1016703445404999E-4},{"$f":"PeakDayData!G54","v":3.5091861848468787E-4},{"$f":"PeakDayData!H54","v":4.3160309515249051E-4},{"$f":"PeakDayData!I54","v":5.4157305576819112E-4},{"$f":"PeakDayData!J54","v":6.2003705210517167E-4},{"$f":"PeakDayData!K54","v":6.6421405706589638E-4},{"$f":"PeakDayData!L54","v":6.1370392807470666E-4},{"$f":"PeakDayData!M54","v":5.89763524877328E-4},{"$f":"PeakDayData!N54","v":5.6538041316289039E-4},{"$f":"PeakDayData!O54","v":5.4253835823923392E-4},{"$f":"PeakDayData!P54","v":5.3202112756638306E-4},{"$f":"PeakDayData!Q54","v":5.1101755330822606E-4},{"$f":"PeakDayData!R54","v":4.9684276033507013E-4},{"$f":"PeakDayData!S54","v":4.765275676367549E-4},{"$f":"PeakDayData!T54","v":4.3733153592832017E-4},{"$f":"PeakDayData!U54","v":3.7935726317021233E-4},{"$f":"PeakDayData!V54","v":3.2619479996991721E-4},{"$f":"PeakDayData!W54","v":3.1711788874162403E-4},{"$f":"PeakDayData!X54","v":3.1102340213492145E-4},{"$f":"PeakDayData!Y54","v":3.033546567436055E-4},{"$f":"PeakDayData!Z54","v":3.0323719745105793E-4}]
["Heating",{"$f":"PeakDayData!A55","v":"Industry/Workshop"},{"$f":"PeakDayData!B55","v":"Efficient"},{"$f":"PeakDayData!C55","v":3.8197368408427672E-4},{"$f":"PeakDayData!D55","v":3.8533878273392985E-4},{"$f":"PeakDayData!E55","v":3.8246418838644149E-4},{"$f":"PeakDayData!F55","v":3.849481678216236E-4},{"$f":"PeakDayData!G55","v":3.8601968626772432E-4},{"$f":"PeakDayData!H55","v":4.1959094386338064E-4},{"$f":"PeakDayData!I55","v":4.6422573604883947E-4},{"$f":"PeakDayData!J55","v":6.0359784066830991E-4},{"$f":"PeakDayData!K55","v":6.9800433614080064E-4},{"$f":"PeakDayData!L55","v":6.3706972671167021E-4},{"$f":"PeakDayData!M55","v":5.8100223339958281E-4},{"$f":"PeakDayData!N55","v":5.5870693021717419E-4},{"$f":"PeakDayData!O55","v":5.3847429939715078E-4},{"$f":"PeakDayData!P55","v":5.2285900612123468E-4},{"$f":"PeakDayData!Q55","v":5.1993128225070063E-4},{"$f":"PeakDayData!R55","v":5.1229882343994655E-4},{"$f":"PeakDayData!S55","v":4.9463229096811847E-4},{"$f":"PeakDayData!T55","v":4.7940015609218247E-4},{"$f":"PeakDayData!U55","v":4.4765959059976879E-4},{"$f":"PeakDayData!V55","v":4.3311091450067013E-4},{"$f":"PeakDayData!W55","v":4.1776676256776032E-4},{"$f":"PeakDayData!X55","v":4.1402421917536571E-4},{"$f":"PeakDayData!Y55","v":4.2501095975148117E-4},{"$f":"PeakDayData!Z55","v":4.1890540134477964E-4}]
["Heating",{"$f":"PeakDayData!A56","v":0},{"$f":"PeakDayData!B56","v":"Regular"},{"$f":"PeakDayData!C56","v":2.8159736896277805E-4},{"$f":"PeakDayData!D56","v":2.8801422437603751E-4},{"$f":"PeakDayData!E56","v":2.9803970252374111E-4},{"$f":"PeakDayData!F56","v":3.1016703445404999E-4},{"$f":"PeakDayData!G56","v":3.5091861848468787E-4},{"$f":"PeakDayData!H56","v":4.3160309515249051E-4},{"$f":"PeakDayData!I56","v":5.4157305576819112E-4},{"$f":"PeakDayData!J56","v":6.2003705210517167E-4},{"$f":"PeakDayData!K56","v":6.6421405706589638E-4},{"$f":"PeakDayData!L56","v":6.1370392807470666E-4},{"$f":"PeakDayData!M56","v":5.89763524877328E-4},{"$f":"PeakDayData!N56","v":5.6538041316289039E-4},{"$f":"PeakDayData!O56","v":5.4253835823923392E-4},{"$f":"PeakDayData!P56","v":5.3202112756638306E-4},{"$f":"PeakDayData!Q56","v":5.1101755330822606E-4},{"$f":"PeakDayData!R56","v":4.9684276033507013E-4},{"$f":"PeakDayData!S56","v":4.765275676367549E-4},{"$f":"PeakDayData!T56","v":4.3733153592832017E-4},{"$f":"PeakDayData!U56","v":3.7935726317021233E-4},{"$f":"PeakDayData!V56","v":3.2619479996991721E-4},{"$f":"PeakDayData!W56","v":3.1711788874162403E-4},{"$f":"PeakDayData!X56","v":3.1102340213492145E-4},{"$f":"PeakDayData!Y56","v":3.033546567436055E-4},{"$f":"PeakDayData!Z56","v":3.0323719745105793E-4}]
["Heating",{"$f":"PeakDayData!A57","v":0},{"$f":"PeakDayData!B57","v":0},{"$f":"PeakDayData!C57","v":0},{"$f":"PeakDayData!D57","v":0},{"$f":"PeakDayData!E57","v":0},{"$f":"PeakDayData!F57","v":0},{"$f":"PeakDayData!G57","v":0},{"$f":"PeakDayData!H57","v":0},{"$f":"PeakDayData!I57","v":0},{"$f":"PeakDayData!J57","v":0},{"$f":"PeakDayData!K57","v":0},{"$f":"PeakDayData!L57","v":0},{"$f":"PeakDayData!M57","v":0},{"$f":"PeakDayData!N57","v":0},{"$f":"PeakDayData!O57","v":0},{"$f":"PeakDayData!P57","v":0},{"$f":"PeakDayData!Q57","v":0},{"$f":"PeakDayData!R57","v":0},{"$f":"PeakDayData!S57","v":0},{"$f":"PeakDayData!T57","v":0},{"$f":"PeakDayData!U57","v":0},{"$f":"PeakDayData!V57","v":0},{"$f":"PeakDayData!W57","v":0},{"$f":"PeakDayData!X57","v":0},{"$f":"PeakDayData!Y57","v":0},{"$f":"PeakDayData!Z57","v":0}]
[null,null,{"$f":"PeakDayData!B58","v":0},{"$f":"PeakDayData!C58","v":3.4694469519536099E-17},{"$f":"PeakDayData!D58","v":4.1666666666666699E-2},{"$f":"PeakDayData!E58","v":8.3333333333333301E-2},{"$f":"PeakDayData!F58","v":0.125},{"$f":"PeakDayData!G58","v":0.16666666666666699},{"$f":"PeakDayData!H58","v":0.20833333333333301},{"$f":"PeakDayData!I58","v":0.25},{"$f":"PeakDayData!J58","v":0.29166666666666702},{"$f":"PeakDayData!K58","v":0.33333333333333298},{"$f":"PeakDayData!L58","v":0.375},{"$f":"PeakDayData!M58","v":0.41666666666666702},{"$f":"PeakDayData!N58","v":0.45833333333333298},{"$f":"PeakDayData!O58","v":0.5},{"$f":"PeakDayData!P58","v":0.54166666666666696},{"$f":"PeakDayData!Q58","v":0.58333333333333304},{"$f":"PeakDayData!R58","v":0.625},{"$f":"PeakDayData!S58","v":0.66666666666666696},{"$f":"PeakDayData!T58","v":0.70833333333333304},{"$f":"PeakDayData!U58","v":0.75},{"$f":"PeakDayData!V58","v":0.79166666666666696},{"$f":"PeakDayData!W58","v":0.83333333333333304},{"$f":"PeakDayData!X58","v":0.875},{"$f":"PeakDayData!Y58","v":0.91666666666666696},{"$f":"PeakDayData!Z58","v":0.95833333333333304}]
["Hot water",{"$f":"PeakDayData!A59","v":"Residential individual housing"},{"$f":"PeakDayData!B59","v":"Efficient"},{"$f":"PeakDayData!C59","v":1.0613760877461141E-4},{"$f":"PeakDayData!D59","v":5.2240594187082276E-5},{"$f":"PeakDayData!E59","v":5.4767016745872693E-5},{"$f":"PeakDayData!F59","v":6.7399129539824854E-5},{"$f":"PeakDayData!G59","v":7.0767692951545397E-5},{"$f":"PeakDayData!H59","v":1.6087676421507074E-4},{"$f":"PeakDayData!I59","v":1.6087676421507074E-4},{"$f":"PeakDayData!J59","v":1.7098245445023243E-4},{"$f":"PeakDayData!K59","v":1.4571822886232815E-4},{"$f":"PeakDayData!L59","v":1.6171890506800092E-4},{"$f":"PeakDayData!M59","v":1.2719113009786501E-4},{"$f":"PeakDayData!N59","v":1.0529546792168129E-4},{"$f":"PeakDayData!O59","v":1.0108476365703057E-4},{"$f":"PeakDayData!P59","v":9.9400481951170288E-5},{"$f":"PeakDayData!Q59","v":1.2803327095079517E-4},{"$f":"PeakDayData!R59","v":1.4740251056818846E-4},{"$f":"PeakDayData!S59","v":1.3645467948009658E-4},{"$f":"PeakDayData!T59","v":1.1540115815684301E-4},{"$f":"PeakDayData!U59","v":1.3898110203888701E-4},{"$f":"PeakDayData!V59","v":1.1034831303926215E-4},{"$f":"PeakDayData!W59","v":1.0697974962754158E-4},{"$f":"PeakDayData!X59","v":1.0361118621582098E-4},{"$f":"PeakDayData!Y59","v":1.347703977742363E-4},{"$f":"PeakDayData!Z59","v":9.6874059392379843E-5}]
["Hot water",{"$f":"PeakDayData!A60","v":0},{"$f":"PeakDayData!B60","v":"Regular"},{"$f":"PeakDayData!C60","v":1.0931462273743838E-4},{"$f":"PeakDayData!D60","v":7.677445596908464E-5},{"$f":"PeakDayData!E60","v":7.8299776286351217E-5},{"$f":"PeakDayData!F60","v":8.5926377872684129E-5},{"$f":"PeakDayData!G60","v":8.7960138295706231E-5},{"$f":"PeakDayData!H60","v":1.4236322961154766E-4},{"$f":"PeakDayData!I60","v":1.4236322961154766E-4},{"$f":"PeakDayData!J60","v":1.48464510880614E-4},{"$f":"PeakDayData!K60","v":1.3321130770794817E-4},{"$f":"PeakDayData!L60","v":1.4287166971730322E-4},{"$f":"PeakDayData!M60","v":1.2202562538132658E-4},{"$f":"PeakDayData!N60","v":1.0880618263168286E-4},{"$f":"PeakDayData!O60","v":1.0626398210290522E-4},{"$f":"PeakDayData!P60","v":1.0524710189139417E-4},{"$f":"PeakDayData!Q60","v":1.2253406548708211E-4},{"$f":"PeakDayData!R60","v":1.3422818791945925E-4},{"$f":"PeakDayData!S60","v":1.2761846654463739E-4},{"$f":"PeakDayData!T60","v":1.149074639007492E-4},{"$f":"PeakDayData!U60","v":1.2914378686190397E-4},{"$f":"PeakDayData!V60","v":1.1185682326621603E-4},{"$f":"PeakDayData!W60","v":1.0982306284319391E-4},{"$f":"PeakDayData!X60","v":1.077893024201718E-4},{"$f":"PeakDayData!Y60","v":1.2660158633312631E-4},{"$f":"PeakDayData!Z60","v":1.0372178157412758E-4}]
["Hot water",{"$f":"PeakDayData!A61","v":"Residential apartment building"},{"$f":"PeakDayData!B61","v":"Efficient"},{"$f":"PeakDayData!C61","v":9.1419401422644203E-5},{"$f":"PeakDayData!D61","v":9.1194586783441181E-5},{"$f":"PeakDayData!E61","v":9.39902038620321E-5},{"$f":"PeakDayData!F61","v":9.8949385259171452E-5},{"$f":"PeakDayData!G61","v":1.0036861798646869E-4},{"$f":"PeakDayData!H61","v":1.1868724153243125E-4},{"$f":"PeakDayData!I61","v":1.5335012930469958E-4},{"$f":"PeakDayData!J61","v":1.5162114276710603E-4},{"$f":"PeakDayData!K61","v":1.5854159435463305E-4},{"$f":"PeakDayData!L61","v":1.5098030273593514E-4},{"$f":"PeakDayData!M61","v":1.3382937169234855E-4},{"$f":"PeakDayData!N61","v":1.1813902995176107E-4},{"$f":"PeakDayData!O61","v":1.0511737210704628E-4},{"$f":"PeakDayData!P61","v":1.038213247062283E-4},{"$f":"PeakDayData!Q61","v":1.0340125443290546E-4},{"$f":"PeakDayData!R61","v":1.1126540487437548E-4},{"$f":"PeakDayData!S61","v":1.1546956845080939E-4},{"$f":"PeakDayData!T61","v":1.1199398745975697E-4},{"$f":"PeakDayData!U61","v":1.1455755450081356E-4},{"$f":"PeakDayData!V61","v":1.1172763602736598E-4},{"$f":"PeakDayData!W61","v":1.091931874597599E-4},{"$f":"PeakDayData!X61","v":1.0662135711322898E-4},{"$f":"PeakDayData!Y61","v":1.0931456727401719E-4},{"$f":"PeakDayData!Z61","v":9.8755764931870069E-5}]
["Hot water",{"$f":"PeakDayData!A62","v":0},{"$f":"PeakDayData!B62","v":"Regular"},{"$f":"PeakDayData!C62","v":1.0613760877461141E-4},{"$f":"PeakDayData!D62","v":7.6774455969088476E-5},{"$f":"PeakDayData!E62","v":7.8299776286355134E-5},{"$f":"PeakDayData!F62","v":8.5926377872688425E-5},{"$f":"PeakDayData!G62","v":8.7960138295710622E-5},{"$f":"PeakDayData!H62","v":1.4236322961155479E-4},{"$f":"PeakDayData!I62","v":1.4236322961155479E-4},{"$f":"PeakDayData!J62","v":1.484645108806214E-4},{"$f":"PeakDayData!K62","v":1.3321130770795484E-4},{"$f":"PeakDayData!L62","v":1.4287166971731037E-4},{"$f":"PeakDayData!M62","v":1.2202562538133268E-4},{"$f":"PeakDayData!N62","v":1.0880618263168831E-4},{"$f":"PeakDayData!O62","v":1.0626398210291053E-4},{"$f":"PeakDayData!P62","v":1.0524710189139944E-4},{"$f":"PeakDayData!Q62","v":1.2253406548708821E-4},{"$f":"PeakDayData!R62","v":1.3422818791946597E-4},{"$f":"PeakDayData!S62","v":1.2761846654464376E-4},{"$f":"PeakDayData!T62","v":1.1490746390075494E-4},{"$f":"PeakDayData!U62","v":1.2914378686191039E-4},{"$f":"PeakDayData!V62","v":1.1185682326622163E-4},{"$f":"PeakDayData!W62","v":1.098230628431994E-4},{"$f":"PeakDayData!X62","v":1.0778930242017721E-4},{"$f":"PeakDayData!Y62","v":1.2660158633313266E-4},{"$f":"PeakDayData!Z62","v":1.0372178157413277E-4}]
["Hot water",{"$f":"PeakDayData!A63","v":"Office building"},{"$f":"PeakDayData!B63","v":"Efficient"},{"$f":"PeakDayData!C63","v":7.2512212646358827E-5},{"$f":"PeakDayData!D63","v":7.0002584892460228E-5},{"$f":"PeakDayData!E63","v":7.5610760899688081E-5},{"$f":"PeakDayData!F63","v":7.8895502783624748E-5},{"$f":"PeakDayData!G63","v":9.2720804170355747E-5},{"$f":"PeakDayData!H63","v":1.0079881873335733E-4},{"$f":"PeakDayData!I63","v":1.3809669195196536E-4},{"$f":"PeakDayData!J63","v":2.1822243050283763E-4},{"$f":"PeakDayData!K63","v":2.2755422224013969E-4},{"$f":"PeakDayData!L63","v":2.00313805089957E-4},{"$f":"PeakDayData!M63","v":1.9652782206247614E-4},{"$f":"PeakDayData!N63","v":1.9785636109417097E-4},{"$f":"PeakDayData!O63","v":2.0699053712300877E-4},{"$f":"PeakDayData!P63","v":2.2308364849002181E-4},{"$f":"PeakDayData!Q63","v":2.0454850605155977E-4},{"$f":"PeakDayData!R63","v":1.6150516253244686E-4},{"$f":"PeakDayData!S63","v":1.2029443406572975E-4},{"$f":"PeakDayData!T63","v":8.6079898012027885E-5},{"$f":"PeakDayData!U63","v":6.8983964906616481E-5},{"$f":"PeakDayData!V63","v":5.8287441288506746E-5},{"$f":"PeakDayData!W63","v":5.9734788278632948E-5},{"$f":"PeakDayData!X63","v":6.8664724711285467E-5},{"$f":"PeakDayData!Y63","v":7.8965475625242886E-5},{"$f":"PeakDayData!Z63","v":7.317316104398598E-5}]
["Hot water",{"$f":"PeakDayData!A64","v":0},{"$f":"PeakDayData!B64","v":"Regular"},{"$f":"PeakDayData!C64","v":8.4595709579131576E-5},{"$f":"PeakDayData!D64","v":8.4715175108055014E-5},{"$f":"PeakDayData!E64","v":8.365257172010853E-5},{"$f":"PeakDayData!F64","v":9.1748417518395443E-5},{"$f":"PeakDayData!G64","v":9.9388545792490567E-5},{"$f":"PeakDayData!H64","v":1.1019501853134024E-4},{"$f":"PeakDayData!I64","v":1.429112494894349E-4},{"$f":"PeakDayData!J64","v":1.4819376511158251E-4},{"$f":"PeakDayData!K64","v":1.6973033275030785E-4},{"$f":"PeakDayData!L64","v":1.6895541857128111E-4},{"$f":"PeakDayData!M64","v":1.6431262473892878E-4},{"$f":"PeakDayData!N64","v":1.7160617599207463E-4},{"$f":"PeakDayData!O64","v":1.6860630180891612E-4},{"$f":"PeakDayData!P64","v":1.6502927138892622E-4},{"$f":"PeakDayData!Q64","v":1.588438288521393E-4},{"$f":"PeakDayData!R64","v":1.5013935355993307E-4},{"$f":"PeakDayData!S64","v":1.3660599953545699E-4},{"$f":"PeakDayData!T64","v":1.2684416151403422E-4},{"$f":"PeakDayData!U64","v":1.1593307096530965E-4},{"$f":"PeakDayData!V64","v":1.0928035019676914E-4},{"$f":"PeakDayData!W64","v":1.0103629095037466E-4},{"$f":"PeakDayData!X64","v":9.2670060373624874E-5},{"$f":"PeakDayData!Y64","v":8.9849169582654275E-5},{"$f":"PeakDayData!Z64","v":8.2697443351130139E-5}]
["Hot water",{"$f":"PeakDayData!A65","v":"Kindergarten"},{"$f":"PeakDayData!B65","v":"Efficient"},{"$f":"PeakDayData!C65","v":8.3880991330044817E-5},{"$f":"PeakDayData!D65","v":8.6978801426992064E-5},{"$f":"PeakDayData!E65","v":8.9897425660598183E-5},{"$f":"PeakDayData!F65","v":9.8375275619856642E-5},{"$f":"PeakDayData!G65","v":1.0440006180422334E-4},{"$f":"PeakDayData!H65","v":1.265544910250267E-4},{"$f":"PeakDayData!I65","v":1.5173107388205385E-4},{"$f":"PeakDayData!J65","v":1.6532612403057095E-4},{"$f":"PeakDayData!K65","v":1.9059942606593905E-4},{"$f":"PeakDayData!L65","v":2.0468313312899667E-4},{"$f":"PeakDayData!M65","v":2.1151882577869624E-4},{"$f":"PeakDayData!N65","v":1.7707273470973385E-4},{"$f":"PeakDayData!O65","v":1.9857468847038137E-4},{"$f":"PeakDayData!P65","v":1.9256690452402054E-4},{"$f":"PeakDayData!Q65","v":1.6272807011437411E-4},{"$f":"PeakDayData!R65","v":1.7133101596388247E-4},{"$f":"PeakDayData!S65","v":1.4696592263933566E-4},{"$f":"PeakDayData!T65","v":1.1303603257693683E-4},{"$f":"PeakDayData!U65","v":9.0977224035969511E-5},{"$f":"PeakDayData!V65","v":7.745071926125132E-5},{"$f":"PeakDayData!W65","v":7.6420878079033207E-5},{"$f":"PeakDayData!X65","v":7.8328281962827123E-5},{"$f":"PeakDayData!Y65","v":7.8802439163556563E-5},{"$f":"PeakDayData!Z65","v":8.0408954744554635E-5}]
["Hot water",{"$f":"PeakDayData!A66","v":0},{"$f":"PeakDayData!B66","v":"Regular"},{"$f":"PeakDayData!C66","v":8.3880991330044817E-5},{"$f":"PeakDayData!D66","v":8.6978801426992064E-5},{"$f":"PeakDayData!E66","v":8.9897425660598183E-5},{"$f":"PeakDayData!F66","v":9.8375275619856642E-5},{"$f":"PeakDayData!G66","v":1.0440006180422334E-4},{"$f":"PeakDayData!H66","v":1.265544910250267E-4},{"$f":"PeakDayData!I66","v":1.5173107388205385E-4},{"$f":"PeakDayData!J66","v":1.6532612403057095E-4},{"$f":"PeakDayData!K66","v":1.9059942606593905E-4},{"$f":"PeakDayData!L66","v":2.0468313312899667E-4},{"$f":"PeakDayData!M66","v":2.1151882577869624E-4},{"$f":"PeakDayData!N66","v":1.7707273470973385E-4},{"$f":"PeakDayData!O66","v":1.9857468847038137E-4},{"$f":"PeakDayData!P66","v":1.9256690452402054E-4},{"$f":"PeakDayData!Q66","v":1.6272807011437411E-4},{"$f":"PeakDayData!R66","v":1.7133101596388247E-4},{"$f":"PeakDayData!S66","v":1.4696592263933566E-4},{"$f":"PeakDayData!T66","v":1.1303603257693683E-4},{"$f":"PeakDayData!U66","v":9.0977224035969511E-5},{"$f":"PeakDayData!V66","v":7.745071926125132E-5},{"$f":"PeakDayData!W66","v":7.6420878079033207E-5},{"$f":"PeakDayData!X66","v":7.8328281962827123E-5},{"$f":"PeakDayData!Y66","v":7.8802439163556563E-5},{"$f":"PeakDayData!Z66","v":8.0408954744554635E-5}]
["Hot water",{"$f":"PeakDayData!A67","v":"School"},{"$f":"PeakDayData!B67","v":"Efficient"},{"$f":"PeakDayData!C67","v":1.02368043036124E-4},{"$f":"PeakDayData!D67","v":9.7278096005923981E-5},{"$f":"PeakDayData!E67","v":8.4843880524683508E-5},{"$f":"PeakDayData!F67","v":6.9254353416956953E-5},{"$f":"PeakDayData!G67","v":5.7779633998868375E-5},{"$f":"PeakDayData!H67","v":7.0847965373156137E-5},{"$f":"PeakDayData!I67","v":7.7183743016200632E-5},{"$f":"PeakDayData!J67","v":1.4047780124910416E-4},{"$f":"PeakDayData!K67","v":1.6904071755186902E-4},{"$f":"PeakDayData!L67","v":1.7461312202929189E-4},{"$f":"PeakDayData!M67","v":1.8675562167341173E-4},{"$f":"PeakDayData!N67","v":1.8000872618543931E-4},{"$f":"PeakDayData!O67","v":1.8905861871623957E-4},{"$f":"PeakDayData!P67","v":1.7639888349056012E-4},{"$f":"PeakDayData!Q67","v":1.824184416667507E-4},{"$f":"PeakDayData!R67","v":1.7796816076442329E-4},{"$f":"PeakDayData!S67","v":1.4801990084356979E-4},{"$f":"PeakDayData!T67","v":1.2968283229292015E-4},{"$f":"PeakDayData!U67","v":1.1412233910806449E-4},{"$f":"PeakDayData!V67","v":1.1081585084869939E-4},{"$f":"PeakDayData!W67","v":1.1532524456769956E-4},{"$f":"PeakDayData!X67","v":1.1300991436496256E-4},{"$f":"PeakDayData!Y67","v":1.0201250262717444E-4},{"$f":"PeakDayData!Z67","v":9.8495393280775836E-5}]
["Hot water",{"$f":"PeakDayData!A68","v":0},{"$f":"PeakDayData!B68","v":"Regular"},{"$f":"PeakDayData!C68","v":8.5792043404255689E-5},{"$f":"PeakDayData!D68","v":8.8875542336861271E-5},{"$f":"PeakDayData!E68","v":9.3594228975103267E-5},{"$f":"PeakDayData!F68","v":9.8665151481084978E-5},{"$f":"PeakDayData!G68","v":1.0331032448275214E-4},{"$f":"PeakDayData!H68","v":1.3416257192197504E-4},{"$f":"PeakDayData!I68","v":1.80227883155764E-4},{"$f":"PeakDayData!J68","v":1.928808206686446E-4},{"$f":"PeakDayData!K68","v":1.9451137905207894E-4},{"$f":"PeakDayData!L68","v":1.9015637196606109E-4},{"$f":"PeakDayData!M68","v":1.8952845070252132E-4},{"$f":"PeakDayData!N68","v":1.8160431026757284E-4},{"$f":"PeakDayData!O68","v":1.7557085908925858E-4},{"$f":"PeakDayData!P68","v":1.7088894778659284E-4},{"$f":"PeakDayData!Q68","v":1.6075684286854334E-4},{"$f":"PeakDayData!R68","v":1.4716056059453715E-4},{"$f":"PeakDayData!S68","v":1.2577920272454393E-4},{"$f":"PeakDayData!T68","v":1.1376063049170891E-4},{"$f":"PeakDayData!U68","v":1.0750874937459443E-4},{"$f":"PeakDayData!V68","v":1.0155355225879032E-4},{"$f":"PeakDayData!W68","v":9.6778387889678467E-5},{"$f":"PeakDayData!X68","v":9.223772646605374E-5},{"$f":"PeakDayData!Y68","v":8.5464324426900499E-5},{"$f":"PeakDayData!Z68","v":8.4741446506344167E-5}]
["Hot water",{"$f":"PeakDayData!A69","v":"University/Collage"},{"$f":"PeakDayData!B69","v":"Efficient"},{"$f":"PeakDayData!C69","v":7.2512212646358827E-5},{"$f":"PeakDayData!D69","v":7.0002584892460228E-5},{"$f":"PeakDayData!E69","v":7.5610760899688081E-5},{"$f":"PeakDayData!F69","v":7.8895502783624748E-5},{"$f":"PeakDayData!G69","v":9.2720804170355747E-5},{"$f":"PeakDayData!H69","v":1.0079881873335733E-4},{"$f":"PeakDayData!I69","v":1.3809669195196536E-4},{"$f":"PeakDayData!J69","v":2.1822243050283763E-4},{"$f":"PeakDayData!K69","v":2.2755422224013969E-4},{"$f":"PeakDayData!L69","v":2.00313805089957E-4},{"$f":"PeakDayData!M69","v":1.9652782206247614E-4},{"$f":"PeakDayData!N69","v":1.9785636109417097E-4},{"$f":"PeakDayData!O69","v":2.0699053712300877E-4},{"$f":"PeakDayData!P69","v":2.2308364849002181E-4},{"$f":"PeakDayData!Q69","v":2.0454850605155977E-4},{"$f":"PeakDayData!R69","v":1.6150516253244686E-4},{"$f":"PeakDayData!S69","v":1.2029443406572975E-4},{"$f":"PeakDayData!T69","v":8.6079898012027885E-5},{"$f":"PeakDayData!U69","v":6.8983964906616481E-5},{"$f":"PeakDayData!V69","v":5.8287441288506746E-5},{"$f":"PeakDayData!W69","v":5.9734788278632948E-5},{"$f":"PeakDayData!X69","v":6.8664724711285467E-5},{"$f":"PeakDayData!Y69","v":7.8965475625242886E-5},{"$f":"PeakDayData!Z69","v":7.317316104398598E-5}]
["Hot water",{"$f":"PeakDayData!A70","v":0},{"$f":"PeakDayData!B70","v":"Regular"},{"$f":"PeakDayData!C70","v":8.4595709579131576E-5},{"$f":"PeakDayData!D70","v":8.4715175108055014E-5},{"$f":"PeakDayData!E70","v":8.365257172010853E-5},{"$f":"PeakDayData!F70","v":9.1748417518395443E-5},{"$f":"PeakDayData!G70","v":9.9388545792490567E-5},{"$f":"PeakDayData!H70","v":1.1019501853134024E-4},{"$f":"PeakDayData!I70","v":1.429112494894349E-4},{"$f":"PeakDayData!J70","v":1.4819376511158251E-4},{"$f":"PeakDayData!K70","v":1.6973033275030785E-4},{"$f":"PeakDayData!L70","v":1.6895541857128111E-4},{"$f":"PeakDayData!M70","v":1.6431262473892878E-4},{"$f":"PeakDayData!N70","v":1.7160617599207463E-4},{"$f":"PeakDayData!O70","v":1.6860630180891612E-4},{"$f":"PeakDayData!P70","v":1.6502927138892622E-4},{"$f":"PeakDayData!Q70","v":1.588438288521393E-4},{"$f":"PeakDayData!R70","v":1.5013935355993307E-4},{"$f":"PeakDayData!S70","v":1.3660599953545699E-4},{"$f":"PeakDayData!T70","v":1.2684416151403422E-4},{"$f":"PeakDayData!U70","v":1.1593307096530965E-4},{"$f":"PeakDayData!V70","v":1.0928035019676914E-4},{"$f":"PeakDayData!W70","v":1.0103629095037466E-4},{"$f":"PeakDayData!X70","v":9.2670060373624874E-5},{"$f":"PeakDayData!Y70","v":8.9849169582654275E-5},{"$f":"PeakDayData!Z70","v":8.2697443351130139E-5}]
["Hot water",{"$f":"PeakDayData!A71","v":"Hospital"},{"$f":"PeakDayData!B71","v":"Efficient"},{"$f":"PeakDayData!C71","v":1.03193907343687E-4},{"$f":"PeakDayData!D71","v":1.0777127381210844E-4},{"$f":"PeakDayData!E71","v":1.0968504565350029E-4},{"$f":"PeakDayData!F71","v":1.1324138181977349E-4},{"$f":"PeakDayData!G71","v":1.1697136622234327E-4},{"$f":"PeakDayData!H71","v":1.2260981665634387E-4},{"$f":"PeakDayData!I71","v":1.2998047099380683E-4},{"$f":"PeakDayData!J71","v":1.2778623247734519E-4},{"$f":"PeakDayData!K71","v":1.2906707840991115E-4},{"$f":"PeakDayData!L71","v":1.4100466965798013E-4},{"$f":"PeakDayData!M71","v":1.3905696924259759E-4},{"$f":"PeakDayData!N71","v":1.3479142314487324E-4},{"$f":"PeakDayData!O71","v":1.3178430333174245E-4},{"$f":"PeakDayData!P71","v":1.2811425637552115E-4},{"$f":"PeakDayData!Q71","v":1.2999212296862313E-4},{"$f":"PeakDayData!R71","v":1.2396677755386479E-4},{"$f":"PeakDayData!S71","v":1.219139102631037E-4},{"$f":"PeakDayData!T71","v":1.1574766178234727E-4},{"$f":"PeakDayData!U71","v":1.0788581688597198E-4},{"$f":"PeakDayData!V71","v":1.0727603887354451E-4},{"$f":"PeakDayData!W71","v":1.0735505382776736E-4},{"$f":"PeakDayData!X71","v":1.1177189353599678E-4},{"$f":"PeakDayData!Y71","v":1.1380775102423587E-4},{"$f":"PeakDayData!Z71","v":1.0890450638960799E-4}]
["Hot water",{"$f":"PeakDayData!A72","v":0},{"$f":"PeakDayData!B72","v":"Regular"},{"$f":"PeakDayData!C72","v":1.03193907343687E-4},{"$f":"PeakDayData!D72","v":1.0777127381210844E-4},{"$f":"PeakDayData!E72","v":1.0968504565350029E-4},{"$f":"PeakDayData!F72","v":1.1324138181977349E-4},{"$f":"PeakDayData!G72","v":1.1697136622234327E-4},{"$f":"PeakDayData!H72","v":1.2260981665634387E-4},{"$f":"PeakDayData!I72","v":1.2998047099380683E-4},{"$f":"PeakDayData!J72","v":1.2778623247734519E-4},{"$f":"PeakDayData!K72","v":1.2906707840991115E-4},{"$f":"PeakDayData!L72","v":1.4100466965798013E-4},{"$f":"PeakDayData!M72","v":1.3905696924259759E-4},{"$f":"PeakDayData!N72","v":1.3479142314487324E-4},{"$f":"PeakDayData!O72","v":1.3178430333174245E-4},{"$f":"PeakDayData!P72","v":1.2811425637552115E-4},{"$f":"PeakDayData!Q72","v":1.2999212296862313E-4},{"$f":"PeakDayData!R72","v":1.2396677755386479E-4},{"$f":"PeakDayData!S72","v":1.219139102631037E-4},{"$f":"PeakDayData!T72","v":1.1574766178234727E-4},{"$f":"PeakDayData!U72","v":1.0788581688597198E-4},{"$f":"PeakDayData!V72","v":1.0727603887354451E-4},{"$f":"PeakDayData!W72","v":1.0735505382776736E-4},{"$f":"PeakDayData!X72","v":1.1177189353599678E-4},{"$f":"PeakDayData!Y72","v":1.1380775102423587E-4},{"$f":"PeakDayData!Z72","v":1.0890450638960799E-4}]
["Hot water",{"$f":"PeakDayData!A73","v":"Nursing home"},{"$f":"PeakDayData!B73","v":"Efficient"},{"$f":"PeakDayData!C73","v":9.0383846156315024E-5},{"$f":"PeakDayData!D73","v":9.2204364278273819E-5},{"$f":"PeakDayData!E73","v":9.4610675650650422E-5},{"$f":"PeakDayData!F73","v":1.0500949871703351E-4},{"$f":"PeakDayData!G73","v":1.2227388721166603E-4},{"$f":"PeakDayData!H73","v":1.2833127452414146E-4},{"$f":"PeakDayData!I73","v":1.4176661865103948E-4},{"$f":"PeakDayData!J73","v":1.4572729989032333E-4},{"$f":"PeakDayData!K73","v":1.4683915084091979E-4},{"$f":"PeakDayData!L73","v":1.5580621564148766E-4},{"$f":"PeakDayData!M73","v":1.5775901267659341E-4},{"$f":"PeakDayData!N73","v":1.5478491090019548E-4},{"$f":"PeakDayData!O73","v":1.4689618247883048E-4},{"$f":"PeakDayData!P73","v":1.3450076229955439E-4},{"$f":"PeakDayData!Q73","v":1.2968049742538579E-4},{"$f":"PeakDayData!R73","v":1.2408884708779434E-4},{"$f":"PeakDayData!S73","v":1.124642987386632E-4},{"$f":"PeakDayData!T73","v":1.0909994573521115E-4},{"$f":"PeakDayData!U73","v":1.0518712411101523E-4},{"$f":"PeakDayData!V73","v":1.0290907430578951E-4},{"$f":"PeakDayData!W73","v":9.4381048556073743E-5},{"$f":"PeakDayData!X73","v":8.9708799951811066E-5},{"$f":"PeakDayData!Y73","v":8.9704890835684076E-5},{"$f":"PeakDayData!Z73","v":8.9218071049140338E-5}]
["Hot water",{"$f":"PeakDayData!A74","v":0},{"$f":"PeakDayData!B74","v":"Regular"},{"$f":"PeakDayData!C74","v":9.0383846156315024E-5},{"$f":"PeakDayData!D74","v":9.2204364278273819E-5},{"$f":"PeakDayData!E74","v":9.4610675650650422E-5},{"$f":"PeakDayData!F74","v":1.0500949871703351E-4},{"$f":"PeakDayData!G74","v":1.2227388721166603E-4},{"$f":"PeakDayData!H74","v":1.2833127452414146E-4},{"$f":"PeakDayData!I74","v":1.4176661865103948E-4},{"$f":"PeakDayData!J74","v":1.4572729989032333E-4},{"$f":"PeakDayData!K74","v":1.4683915084091979E-4},{"$f":"PeakDayData!L74","v":1.5580621564148766E-4},{"$f":"PeakDayData!M74","v":1.5775901267659341E-4},{"$f":"PeakDayData!N74","v":1.5478491090019548E-4},{"$f":"PeakDayData!O74","v":1.4689618247883048E-4},{"$f":"PeakDayData!P74","v":1.3450076229955439E-4},{"$f":"PeakDayData!Q74","v":1.2968049742538579E-4},{"$f":"PeakDayData!R74","v":1.2408884708779434E-4},{"$f":"PeakDayData!S74","v":1.124642987386632E-4},{"$f":"PeakDayData!T74","v":1.0909994573521115E-4},{"$f":"PeakDayData!U74","v":1.0518712411101523E-4},{"$f":"PeakDayData!V74","v":1.0290907430578951E-4},{"$f":"PeakDayData!W74","v":9.4381048556073743E-5},{"$f":"PeakDayData!X74","v":8.9708799951811066E-5},{"$f":"PeakDayData!Y74","v":8.9704890835684076E-5},{"$f":"PeakDayData!Z74","v":8.9218071049140338E-5}]
["Hot water",{"$f":"PeakDayData!A75","v":"Hotel"},{"$f":"PeakDayData!B75","v":"Efficient"},{"$f":"PeakDayData!C75","v":8.2027093870787505E-5},{"$f":"PeakDayData!D75","v":6.1207434639978019E-5},{"$f":"PeakDayData!E75","v":5.2207266091855286E-5},{"$f":"PeakDayData!F75","v":5.8214294017832272E-5},{"$f":"PeakDayData!G75","v":6.1927845993992164E-5},{"$f":"PeakDayData!H75","v":7.3365073344118552E-5},{"$f":"PeakDayData!I75","v":1.4030791461013329E-4},{"$f":"PeakDayData!J75","v":2.0431429926695224E-4},{"$f":"PeakDayData!K75","v":2.2019549912868561E-4},{"$f":"PeakDayData!L75","v":1.7795789797384897E-4},{"$f":"PeakDayData!M75","v":1.5351832775743602E-4},{"$f":"PeakDayData!N75","v":1.2714215781077127E-4},{"$f":"PeakDayData!O75","v":1.1024830346804936E-4},{"$f":"PeakDayData!P75","v":1.0438822946991913E-4},{"$f":"PeakDayData!Q75","v":9.9320193859934701E-5},{"$f":"PeakDayData!R75","v":9.7151988746373071E-5},{"$f":"PeakDayData!S75","v":9.8817672605479951E-5},{"$f":"PeakDayData!T75","v":1.0362865537274319E-4},{"$f":"PeakDayData!U75","v":1.1623491765808504E-4},{"$f":"PeakDayData!V75","v":1.1517968774005935E-4},{"$f":"PeakDayData!W75","v":1.1283712310208144E-4},{"$f":"PeakDayData!X75","v":1.2784854382531094E-4},{"$f":"PeakDayData!Y75","v":1.3214306531599175E-4},{"$f":"PeakDayData!Z75","v":1.0954254172678026E-4}]
["Hot water",{"$f":"PeakDayData!A76","v":0},{"$f":"PeakDayData!B76","v":"Regular"},{"$f":"PeakDayData!C76","v":8.2027093870787505E-5},{"$f":"PeakDayData!D76","v":6.1207434639978019E-5},{"$f":"PeakDayData!E76","v":5.2207266091855286E-5},{"$f":"PeakDayData!F76","v":5.8214294017832272E-5},{"$f":"PeakDayData!G76","v":6.1927845993992164E-5},{"$f":"PeakDayData!H76","v":7.3365073344118552E-5},{"$f":"PeakDayData!I76","v":1.4030791461013329E-4},{"$f":"PeakDayData!J76","v":2.0431429926695224E-4},{"$f":"PeakDayData!K76","v":2.2019549912868561E-4},{"$f":"PeakDayData!L76","v":1.7795789797384897E-4},{"$f":"PeakDayData!M76","v":1.5351832775743602E-4},{"$f":"PeakDayData!N76","v":1.2714215781077127E-4},{"$f":"PeakDayData!O76","v":1.1024830346804936E-4},{"$f":"PeakDayData!P76","v":1.0438822946991913E-4},{"$f":"PeakDayData!Q76","v":9.9320193859934701E-5},{"$f":"PeakDayData!R76","v":9.7151988746373071E-5},{"$f":"PeakDayData!S76","v":9.8817672605479951E-5},{"$f":"PeakDayData!T76","v":1.0362865537274319E-4},{"$f":"PeakDayData!U76","v":1.1623491765808504E-4},{"$f":"PeakDayData!V76","v":1.1517968774005935E-4},{"$f":"PeakDayData!W76","v":1.1283712310208144E-4},{"$f":"PeakDayData!X76","v":1.2784854382531094E-4},{"$f":"PeakDayData!Y76","v":1.3214306531599175E-4},{"$f":"PeakDayData!Z76","v":1.0954254172678026E-4}]
["Hot water",{"$f":"PeakDayData!A77","v":"Sports Facility"},{"$f":"PeakDayData!B77","v":"Efficient"},{"$f":"PeakDayData!C77","v":9.0383846156315024E-5},{"$f":"PeakDayData!D77","v":9.2204364278273819E-5},{"$f":"PeakDayData!E77","v":9.4610675650650422E-5},{"$f":"PeakDayData!F77","v":1.0500949871703351E-4},{"$f":"PeakDayData!G77","v":1.2227388721166603E-4},{"$f":"PeakDayData!H77","v":1.2833127452414146E-4},{"$f":"PeakDayData!I77","v":1.4176661865103948E-4},{"$f":"PeakDayData!J77","v":1.4572729989032333E-4},{"$f":"PeakDayData!K77","v":1.4683915084091979E-4},{"$f":"PeakDayData!L77","v":1.5580621564148766E-4},{"$f":"PeakDayData!M77","v":1.5775901267659341E-4},{"$f":"PeakDayData!N77","v":1.5478491090019548E-4},{"$f":"PeakDayData!O77","v":1.4689618247883048E-4},{"$f":"PeakDayData!P77","v":1.3450076229955439E-4},{"$f":"PeakDayData!Q77","v":1.2968049742538579E-4},{"$f":"PeakDayData!R77","v":1.2408884708779434E-4},{"$f":"PeakDayData!S77","v":1.124642987386632E-4},{"$f":"PeakDayData!T77","v":1.0909994573521115E-4},{"$f":"PeakDayData!U77","v":1.0518712411101523E-4},{"$f":"PeakDayData!V77","v":1.0290907430578951E-4},{"$f":"PeakDayData!W77","v":9.4381048556073743E-5},{"$f":"PeakDayData!X77","v":8.9708799951811066E-5},{"$f":"PeakDayData!Y77","v":8.9704890835684076E-5},{"$f":"PeakDayData!Z77","v":8.9218071049140338E-5}]
["Hot water",{"$f":"PeakDayData!A78","v":0},{"$f":"PeakDayData!B78","v":"Regular"},{"$f":"PeakDayData!C78","v":9.0383846156315024E-5},{"$f":"PeakDayData!D78","v":9.2204364278273819E-5},{"$f":"PeakDayData!E78","v":9.4610675650650422E-5},{"$f":"PeakDayData!F78","v":1.0500949871703351E-4},{"$f":"PeakDayData!G78","v":1.2227388721166603E-4},{"$f":"PeakDayData!H78","v":1.2833127452414146E-4},{"$f":"PeakDayData!I78","v":1.4176661865103948E-4},{"$f":"PeakDayData!J78","v":1.4572729989032333E-4},{"$f":"PeakDayData!K78","v":1.4683915084091979E-4},{"$f":"PeakDayData!L78","v":1.5580621564148766E-4},{"$f":"PeakDayData!M78","v":1.5775901267659341E-4},{"$f":"PeakDayData!N78","v":1.5478491090019548E-4},{"$f":"PeakDayData!O78","v":1.4689618247883048E-4},{"$f":"PeakDayData!P78","v":1.3450076229955439E-4},{"$f":"PeakDayData!Q78","v":1.2968049742538579E-4},{"$f":"PeakDayData!R78","v":1.2408884708779434E-4},{"$f":"PeakDayData!S78","v":1.124642987386632E-4},{"$f":"PeakDayData!T78","v":1.0909994573521115E-4},{"$f":"PeakDayData!U78","v":1.0518712411101523E-4},{"$f":"PeakDayData!V78","v":1.0290907430578951E-4},{"$f":"PeakDayData!W78","v":9.4381048556073743E-5},{"$f":"PeakDayData!X78","v":8.9708799951811066E-5},{"$f":"PeakDayData!Y78","v":8.9704890835684076E-5},{"$f":"PeakDayData!Z78","v":8.9218071049140338E-5}]
["Hot water",{"$f":"PeakDayData!A79","v":"Comercial building"},{"$f":"PeakDayData!B79","v":"Efficient"},{"$f":"PeakDayData!C79","v":1.0158054888575136E-4},{"$f":"PeakDayData!D79","v":1.0182140934314421E-4},{"$f":"PeakDayData!E79","v":1.0363393584887217E-4},{"$f":"PeakDayData!F79","v":1.0610762545600675E-4},{"$f":"PeakDayData!G79","v":1.0766874956234368E-4},{"$f":"PeakDayData!H79","v":1.1651359931966047E-4},{"$f":"PeakDayData!I79","v":1.2646565091123233E-4},{"$f":"PeakDayData!J79","v":1.4018502589670489E-4},{"$f":"PeakDayData!K79","v":1.4599991526836219E-4},{"$f":"PeakDayData!L79","v":1.4753390533268622E-4},{"$f":"PeakDayData!M79","v":1.4463581089106488E-4},{"$f":"PeakDayData!N79","v":1.4318558343109561E-4},{"$f":"PeakDayData!O79","v":1.3914625501637679E-4},{"$f":"PeakDayData!P79","v":1.3958647276386129E-4},{"$f":"PeakDayData!Q79","v":1.3722581110875895E-4},{"$f":"PeakDayData!R79","v":1.3464521245940385E-4},{"$f":"PeakDayData!S79","v":1.3302012626585655E-4},{"$f":"PeakDayData!T79","v":1.2232108641465383E-4},{"$f":"PeakDayData!U79","v":1.1834565133535001E-4},{"$f":"PeakDayData!V79","v":1.1251231356519593E-4},{"$f":"PeakDayData!W79","v":1.0888221875539309E-4},{"$f":"PeakDayData!X79","v":1.037425636859837E-4},{"$f":"PeakDayData!Y79","v":9.9384387360351066E-5},{"$f":"PeakDayData!Z79","v":9.8458988191033666E-5}]
["Hot water",{"$f":"PeakDayData!A80","v":0},{"$f":"PeakDayData!B80","v":"Regular"},{"$f":"PeakDayData!C80","v":1.0158054888575136E-4},{"$f":"PeakDayData!D80","v":1.0182140934314421E-4},{"$f":"PeakDayData!E80","v":1.0363393584887217E-4},{"$f":"PeakDayData!F80","v":1.0610762545600675E-4},{"$f":"PeakDayData!G80","v":1.0766874956234368E-4},{"$f":"PeakDayData!H80","v":1.1651359931966047E-4},{"$f":"PeakDayData!I80","v":1.2646565091123233E-4},{"$f":"PeakDayData!J80","v":1.4018502589670489E-4},{"$f":"PeakDayData!K80","v":1.4599991526836219E-4},{"$f":"PeakDayData!L80","v":1.4753390533268622E-4},{"$f":"PeakDayData!M80","v":1.4463581089106488E-4},{"$f":"PeakDayData!N80","v":1.4318558343109561E-4},{"$f":"PeakDayData!O80","v":1.3914625501637679E-4},{"$f":"PeakDayData!P80","v":1.3958647276386129E-4},{"$f":"PeakDayData!Q80","v":1.3722581110875895E-4},{"$f":"PeakDayData!R80","v":1.3464521245940385E-4},{"$f":"PeakDayData!S80","v":1.3302012626585655E-4},{"$f":"PeakDayData!T80","v":1.2232108641465383E-4},{"$f":"PeakDayData!U80","v":1.1834565133535001E-4},{"$f":"PeakDayData!V80","v":1.1251231356519593E-4},{"$f":"PeakDayData!W80","v":1.0888221875539309E-4},{"$f":"PeakDayData!X80","v":1.037425636859837E-4},{"$f":"PeakDayData!Y80","v":9.9384387360351066E-5},{"$f":"PeakDayData!Z80","v":9.8458988191033666E-5}]
["Hot water",{"$f":"PeakDayData!A81","v":"Cultural building"},{"$f":"PeakDayData!B81","v":"Efficient"},{"$f":"PeakDayData!C81","v":7.2512212646358827E-5},{"$f":"PeakDayData!D81","v":7.0002584892460228E-5},{"$f":"PeakDayData!E81","v":7.5610760899688081E-5},{"$f":"PeakDayData!F81","v":7.8895502783624748E-5},{"$f":"PeakDayData!G81","v":9.2720804170355747E-5},{"$f":"PeakDayData!H81","v":1.0079881873335733E-4},{"$f":"PeakDayData!I81","v":1.3809669195196536E-4},{"$f":"PeakDayData!J81","v":2.1822243050283763E-4},{"$f":"PeakDayData!K81","v":2.2755422224013969E-4},{"$f":"PeakDayData!L81","v":2.00313805089957E-4},{"$f":"PeakDayData!M81","v":1.9652782206247614E-4},{"$f":"PeakDayData!N81","v":1.9785636109417097E-4},{"$f":"PeakDayData!O81","v":2.0699053712300877E-4},{"$f":"PeakDayData!P81","v":2.2308364849002181E-4},{"$f":"PeakDayData!Q81","v":2.0454850605155977E-4},{"$f":"PeakDayData!R81","v":1.6150516253244686E-4},{"$f":"PeakDayData!S81","v":1.2029443406572975E-4},{"$f":"PeakDayData!T81","v":8.6079898012027885E-5},{"$f":"PeakDayData!U81","v":6.8983964906616481E-5},{"$f":"PeakDayData!V81","v":5.8287441288506746E-5},{"$f":"PeakDayData!W81","v":5.9734788278632948E-5},{"$f":"PeakDayData!X81","v":6.8664724711285467E-5},{"$f":"PeakDayData!Y81","v":7.8965475625242886E-5},{"$f":"PeakDayData!Z81","v":7.317316104398598E-5}]
["Hot water",{"$f":"PeakDayData!A82","v":0},{"$f":"PeakDayData!B82","v":"Regular"},{"$f":"PeakDayData!C82","v":8.4595709579131576E-5},{"$f":"PeakDayData!D82","v":8.4715175108055014E-5},{"$f":"PeakDayData!E82","v":8.365257172010853E-5},{"$f":"PeakDayData!F82","v":9.1748417518395443E-5},{"$f":"PeakDayData!G82","v":9.9388545792490567E-5},{"$f":"PeakDayData!H82","v":1.1019501853134024E-4},{"$f":"PeakDayData!I82","v":1.429112494894349E-4},{"$f":"PeakDayData!J82","v":1.4819376511158251E-4},{"$f":"PeakDayData!K82","v":1.6973033275030785E-4},{"$f":"PeakDayData!L82","v":1.6895541857128111E-4},{"$f":"PeakDayData!M82","v":1.6431262473892878E-4},{"$f":"PeakDayData!N82","v":1.7160617599207463E-4},{"$f":"PeakDayData!O82","v":1.6860630180891612E-4},{"$f":"PeakDayData!P82","v":1.6502927138892622E-4},{"$f":"PeakDayData!Q82","v":1.588438288521393E-4},{"$f":"PeakDayData!R82","v":1.5013935355993307E-4},{"$f":"PeakDayData!S82","v":1.3660599953545699E-4},{"$f":"PeakDayData!T82","v":1.2684416151403422E-4},{"$f":"PeakDayData!U82","v":1.1593307096530965E-4},{"$f":"PeakDayData!V82","v":1.0928035019676914E-4},{"$f":"PeakDayData!W82","v":1.0103629095037466E-4},{"$f":"PeakDayData!X82","v":9.2670060373624874E-5},{"$f":"PeakDayData!Y82","v":8.9849169582654275E-5},{"$f":"PeakDayData!Z82","v":8.2697443351130139E-5}]
["Hot water",{"$f":"PeakDayData!A83","v":"Industry/Workshop"},{"$f":"PeakDayData!B83","v":"Efficient"},{"$f":"PeakDayData!C83","v":7.2512212646358827E-5},{"$f":"PeakDayData!D83","v":7.0002584892460228E-5},{"$f":"PeakDayData!E83","v":7.5610760899688081E-5},{"$f":"PeakDayData!F83","v":7.8895502783624748E-5},{"$f":"PeakDayData!G83","v":9.2720804170355747E-5},{"$f":"PeakDayData!H83","v":1.0079881873335733E-4},{"$f":"PeakDayData!I83","v":1.3809669195196536E-4},{"$f":"PeakDayData!J83","v":2.1822243050283763E-4},{"$f":"PeakDayData!K83","v":2.2755422224013969E-4},{"$f":"PeakDayData!L83","v":2.00313805089957E-4},{"$f":"PeakDayData!M83","v":1.9652782206247614E-4},{"$f":"PeakDayData!N83","v":1.9785636109417097E-4},{"$f":"PeakDayData!O83","v":2.0699053712300877E-4},{"$f":"PeakDayData!P83","v":2.2308364849002181E-4},{"$f":"PeakDayData!Q83","v":2.0454850605155977E-4},{"$f":"PeakDayData!R83","v":1.6150516253244686E-4},{"$f":"PeakDayData!S83","v":1.2029443406572975E-4},{"$f":"PeakDayData!T83","v":8.6079898012027885E-5},{"$f":"PeakDayData!U83","v":6.8983964906616481E-5},{"$f":"PeakDayData!V83","v":5.8287441288506746E-5},{"$f":"PeakDayData!W83","v":5.9734788278632948E-5},{"$f":"PeakDayData!X83","v":6.8664724711285467E-5},{"$f":"PeakDayData!Y83","v":7.8965475625242886E-5},{"$f":"PeakDayData!Z83","v":7.317316104398598E-5}]
[null,{"$f":"PeakDayData!A84","v":0},{"$f":"PeakDayData!B84","v":"Regular"},{"$f":"PeakDayData!C84","v":8.4595709579131576E-5},{"$f":"PeakDayData!D84","v":8.4715175108055014E-5},{"$f":"PeakDayData!E84","v":8.365257172010853E-5},{"$f":"PeakDayData!F84","v":9.1748417518395443E-5},{"$f":"PeakDayData!G84","v":9.9388545792490567E-5},{"$f":"PeakDayData!H84","v":1.1019501853134024E-4},{"$f":"PeakDayData!I84","v":1.429112494894349E-4},{"$f":"PeakDayData!J84","v":1.4819376511158251E-4},{"$f":"PeakDayData!K84","v":1.6973033275030785E-4},{"$f":"PeakDayData!L84","v":1.6895541857128111E-4},{"$f":"PeakDayData!M84","v":1.6431262473892878E-4},{"$f":"PeakDayData!N84","v":1.7160617599207463E-4},{"$f":"PeakDayData!O84","v":1.6860630180891612E-4},{"$f":"PeakDayData!P84","v":1.6502927138892622E-4},{"$f":"PeakDayData!Q84","v":1.588438288521393E-4},{"$f":"PeakDayData!R84","v":1.5013935355993307E-4},{"$f":"PeakDayData!S84","v":1.3660599953545699E-4},{"$f":"PeakDayData!T84","v":1.2684416151403422E-4},{"$f":"PeakDayData!U84","v":1.1593307096530965E-4},{"$f":"PeakDayData!V84","v":1.0928035019676914E-4},{"$f":"PeakDayData!W84","v":1.0103629095037466E-4},{"$f":"PeakDayData!X84","v":9.2670060373624874E-5},{"$f":"PeakDayData!Y84","v":8.9849169582654275E-5},{"$f":"PeakDayData!Z84","v":8.2697443351130139E-5}]
["Electric (only elspesific, not cooling since it is the coldest day)",{"$f":"PeakDayData!A2","v":"Electric (only elspesific, not cooling since it is the coldest day)"},{"$f":"PeakDayData!B2","v":0},{"$f":"PeakDayData!C2","v":3.4694469519536099E-17},{"$f":"PeakDayData!D2","v":4.1666666666666699E-2},{"$f":"PeakDayData!E2","v":8.3333333333333301E-2},{"$f":"PeakDayData!F2","v":0.125},{"$f":"PeakDayData!G2","v":0.16666666666666699},{"$f":"PeakDayData!H2","v":0.20833333333333301},{"$f":"PeakDayData!I2","v":0.25},{"$f":"PeakDayData!J2","v":0.29166666666666702},{"$f":"PeakDayData!K2","v":0.33333333333333298},{"$f":"PeakDayData!L2","v":0.375},{"$f":"PeakDayData!M2","v":0.41666666666666702},{"$f":"PeakDayData!N2","v":0.45833333333333298},{"$f":"PeakDayData!O2","v":0.5},{"$f":"PeakDayData!P2","v":0.54166666666666696},{"$f":"PeakDayData!Q2","v":0.58333333333333304},{"$f":"PeakDayData!R2","v":0.625},{"$f":"PeakDayData!S2","v":0.66666666666666696},{"$f":"PeakDayData!T2","v":0.70833333333333304},{"$f":"PeakDayData!U2","v":0.75},{"$f":"PeakDayData!V2","v":0.79166666666666696},{"$f":"PeakDayData!W2","v":0.83333333333333304},{"$f":"PeakDayData!X2","v":0.875},{"$f":"PeakDayData!Y2","v":0.91666666666666696},{"$f":"PeakDayData!Z2","v":0.95833333333333304}]
["Electric (only elspesific, not cooling since it is the coldest day)",{"$f":"PeakDayData!A3","v":"Residential individual housing"},{"$f":"PeakDayData!B3","v":"Efficient"},{"$f":"PeakDayData!C3","v":8.501375292960192E-5},{"$f":"PeakDayData!D3","v":6.9120974192020567E-5},{"$f":"PeakDayData!E3","v":6.5084712925333218E-5},{"$f":"PeakDayData!F3","v":6.4201780773245377E-5},{"$f":"PeakDayData!G3","v":6.3697248114909447E-5},{"$f":"PeakDayData!H3","v":6.4327913937829343E-5},{"$f":"PeakDayData!I3","v":7.7319629889979188E-5},{"$f":"PeakDayData!J3","v":1.0216786331302309E-4},{"$f":"PeakDayData!K3","v":1.1730384306310057E-4},{"$f":"PeakDayData!L3","v":1.2461956660897138E-4},{"$f":"PeakDayData!M3","v":1.2007877268394811E-4},{"$f":"PeakDayData!N3","v":1.170515767339326E-4},{"$f":"PeakDayData!O3","v":1.1465504660683702E-4},{"$f":"PeakDayData!P3","v":1.1402438078391712E-4},{"$f":"PeakDayData!Q3","v":1.2058330534228402E-4},{"$f":"PeakDayData!R3","v":1.4568380509449587E-4},{"$f":"PeakDayData!S3","v":1.7999202586133821E-4},{"$f":"PeakDayData!T3","v":1.918485433322322E-4},{"$f":"PeakDayData!U3","v":1.9626320409267149E-4},{"$f":"PeakDayData!V3","v":1.9954266637185498E-4},{"$f":"PeakDayData!W3","v":2.0269599548645441E-4},{"$f":"PeakDayData!X3","v":1.937405408009919E-4},{"$f":"PeakDayData!Y3","v":1.6952297320086792E-4},{"$f":"PeakDayData!Z3","v":1.2878196104024265E-4}]
["Electric (only elspesific, not cooling since it is the coldest day)",{"$f":"PeakDayData!A4","v":0},{"$f":"PeakDayData!B4","v":"Regular"},{"$f":"PeakDayData!C4","v":8.501375292960192E-5},{"$f":"PeakDayData!D4","v":6.9120974192020567E-5},{"$f":"PeakDayData!E4","v":6.5084712925333218E-5},{"$f":"PeakDayData!F4","v":6.4201780773245377E-5},{"$f":"PeakDayData!G4","v":6.3697248114909447E-5},{"$f":"PeakDayData!H4","v":6.4327913937829343E-5},{"$f":"PeakDayData!I4","v":7.7319629889979188E-5},{"$f":"PeakDayData!J4","v":1.0216786331302309E-4},{"$f":"PeakDayData!K4","v":1.1730384306310057E-4},{"$f":"PeakDayData!L4","v":1.2461956660897138E-4},{"$f":"PeakDayData!M4","v":1.2007877268394811E-4},{"$f":"PeakDayData!N4","v":1.170515767339326E-4},{"$f":"PeakDayData!O4","v":1.1465504660683702E-4},{"$f":"PeakDayData!P4","v":1.1402438078391712E-4},{"$f":"PeakDayData!Q4","v":1.2058330534228402E-4},{"$f":"PeakDayData!R4","v":1.4568380509449587E-4},{"$f":"PeakDayData!S4","v":1.7999202586133821E-4},{"$f":"PeakDayData!T4","v":1.918485433322322E-4},{"$f":"PeakDayData!U4","v":1.9626320409267149E-4},{"$f":"PeakDayData!V4","v":1.9954266637185498E-4},{"$f":"PeakDayData!W4","v":2.0269599548645441E-4},{"$f":"PeakDayData!X4","v":1.937405408009919E-4},{"$f":"PeakDayData!Y4","v":1.6952297320086792E-4},{"$f":"PeakDayData!Z4","v":1.2878196104024265E-4}]
["Electric (only elspesific, not cooling since it is the coldest day)",{"$f":"PeakDayData!A5","v":"Residential apartment building"},{"$f":"PeakDayData!B5","v":"Efficient"},{"$f":"PeakDayData!C5","v":8.501375292960009E-5},{"$f":"PeakDayData!D5","v":6.9120974192019076E-5},{"$f":"PeakDayData!E5","v":6.5084712925331836E-5},{"$f":"PeakDayData!F5","v":6.4201780773243995E-5},{"$f":"PeakDayData!G5","v":6.3697248114908078E-5},{"$f":"PeakDayData!H5","v":6.4327913937827961E-5},{"$f":"PeakDayData!I5","v":7.7319629889977535E-5},{"$f":"PeakDayData!J5","v":1.021678633130209E-4},{"$f":"PeakDayData!K5","v":1.1730384306309805E-4},{"$f":"PeakDayData!L5","v":1.246195666089687E-4},{"$f":"PeakDayData!M5","v":1.2007877268394552E-4},{"$f":"PeakDayData!N5","v":1.1705157673393011E-4},{"$f":"PeakDayData!O5","v":1.1465504660683455E-4},{"$f":"PeakDayData!P5","v":1.1402438078391466E-4},{"$f":"PeakDayData!Q5","v":1.2058330534228143E-4},{"$f":"PeakDayData!R5","v":1.4568380509449272E-4},{"$f":"PeakDayData!S5","v":1.7999202586133434E-4},{"$f":"PeakDayData!T5","v":1.9184854333222811E-4},{"$f":"PeakDayData!U5","v":1.9626320409266729E-4},{"$f":"PeakDayData!V5","v":1.9954266637185069E-4},{"$f":"PeakDayData!W5","v":2.0269599548645008E-4},{"$f":"PeakDayData!X5","v":1.9374054080098776E-4},{"$f":"PeakDayData!Y5","v":1.6952297320086426E-4},{"$f":"PeakDayData!Z5","v":1.2878196104023989E-4}]
["Electric (only elspesific, not cooling since it is the coldest day)",{"$f":"PeakDayData!A6","v":0},{"$f":"PeakDayData!B6","v":"Regular"},{"$f":"PeakDayData!C6","v":8.501375292960009E-5},{"$f":"PeakDayData!D6","v":6.9120974192019076E-5},{"$f":"PeakDayData!E6","v":6.5084712925331836E-5},{"$f":"PeakDayData!F6","v":6.4201780773243995E-5},{"$f":"PeakDayData!G6","v":6.3697248114908078E-5},{"$f":"PeakDayData!H6","v":6.4327913937827961E-5},{"$f":"PeakDayData!I6","v":7.7319629889977535E-5},{"$f":"PeakDayData!J6","v":1.021678633130209E-4},{"$f":"PeakDayData!K6","v":1.1730384306309805E-4},{"$f":"PeakDayData!L6","v":1.246195666089687E-4},{"$f":"PeakDayData!M6","v":1.2007877268394552E-4},{"$f":"PeakDayData!N6","v":1.1705157673393011E-4},{"$f":"PeakDayData!O6","v":1.1465504660683455E-4},{"$f":"PeakDayData!P6","v":1.1402438078391466E-4},{"$f":"PeakDayData!Q6","v":1.2058330534228143E-4},{"$f":"PeakDayData!R6","v":1.4568380509449272E-4},{"$f":"PeakDayData!S6","v":1.7999202586133434E-4},{"$f":"PeakDayData!T6","v":1.9184854333222811E-4},{"$f":"PeakDayData!U6","v":1.9626320409266729E-4},{"$f":"PeakDayData!V6","v":1.9954266637185069E-4},{"$f":"PeakDayData!W6","v":2.0269599548645008E-4},{"$f":"PeakDayData!X6","v":1.9374054080098776E-4},{"$f":"PeakDayData!Y6","v":1.6952297320086426E-4},{"$f":"PeakDayData!Z6","v":1.2878196104023989E-4}]
["Electric (only elspesific, not cooling since it is the coldest day)",{"$f":"PeakDayData!A7","v":"Office building"},{"$f":"PeakDayData!B7","v":"Efficient"},{"$f":"PeakDayData!C7","v":9.0543498839626728E-5},{"$f":"PeakDayData!D7","v":8.9619246873430183E-5},{"$f":"PeakDayData!E7","v":8.9556912219742284E-5},{"$f":"PeakDayData!F7","v":8.9641444335565891E-5},{"$f":"PeakDayData!G7","v":9.0782671376856005E-5},{"$f":"PeakDayData!H7","v":9.4488269350140899E-5},{"$f":"PeakDayData!I7","v":1.0859099129498623E-4},{"$f":"PeakDayData!J7","v":1.4499644518141324E-4},{"$f":"PeakDayData!K7","v":1.6601354653330647E-4},{"$f":"PeakDayData!L7","v":1.7224471874412184E-4},{"$f":"PeakDayData!M7","v":1.7097063089630598E-4},{"$f":"PeakDayData!N7","v":1.696592215164378E-4},{"$f":"PeakDayData!O7","v":1.674746267994472E-4},{"$f":"PeakDayData!P7","v":1.652308255118152E-4},{"$f":"PeakDayData!Q7","v":1.600931587998111E-4},{"$f":"PeakDayData!R7","v":1.4845831354297633E-4},{"$f":"PeakDayData!S7","v":1.3027166948677093E-4},{"$f":"PeakDayData!T7","v":1.1283366458289059E-4},{"$f":"PeakDayData!U7","v":1.0432540181688559E-4},{"$f":"PeakDayData!V7","v":1.0032564168409387E-4},{"$f":"PeakDayData!W7","v":9.7698422831155179E-5},{"$f":"PeakDayData!X7","v":9.4816257899462035E-5},{"$f":"PeakDayData!Y7","v":9.3230678389008326E-5},{"$f":"PeakDayData!Z7","v":9.1903783266644853E-5}]
["Electric (only elspesific, not cooling since it is the coldest day)",{"$f":"PeakDayData!A8","v":0},{"$f":"PeakDayData!B8","v":"Regular"},{"$f":"PeakDayData!C8","v":8.102429180472779E-5},{"$f":"PeakDayData!D8","v":8.0269038428526095E-5},{"$f":"PeakDayData!E8","v":8.0084765299507605E-5},{"$f":"PeakDayData!F8","v":8.0145137888581019E-5},{"$f":"PeakDayData!G8","v":8.0911399971501095E-5},{"$f":"PeakDayData!H8","v":8.7334068792711708E-5},{"$f":"PeakDayData!I8","v":1.1167515376494699E-4},{"$f":"PeakDayData!J8","v":1.4182747557295593E-4},{"$f":"PeakDayData!K8","v":1.6409714966761368E-4},{"$f":"PeakDayData!L8","v":1.7450652696603157E-4},{"$f":"PeakDayData!M8","v":1.7758045939415278E-4},{"$f":"PeakDayData!N8","v":1.7922984413717036E-4},{"$f":"PeakDayData!O8","v":1.7908277622971094E-4},{"$f":"PeakDayData!P8","v":1.7719616437478493E-4},{"$f":"PeakDayData!Q8","v":1.7367549582326583E-4},{"$f":"PeakDayData!R8","v":1.6617280275383109E-4},{"$f":"PeakDayData!S8","v":1.5115084605718019E-4},{"$f":"PeakDayData!T8","v":1.3309618979800471E-4},{"$f":"PeakDayData!U8","v":1.1713058499243356E-4},{"$f":"PeakDayData!V8","v":1.0682077688853862E-4},{"$f":"PeakDayData!W8","v":9.7794619047582285E-5},{"$f":"PeakDayData!X8","v":9.1127690163610666E-5},{"$f":"PeakDayData!Y8","v":8.6572469633337939E-5},{"$f":"PeakDayData!Z8","v":8.3183050108796296E-5}]
["Electric (only elspesific, not cooling since it is the coldest day)",{"$f":"PeakDayData!A9","v":"Kindergarten"},{"$f":"PeakDayData!B9","v":"Efficient"},{"$f":"PeakDayData!C9","v":6.2503700269718061E-5},{"$f":"PeakDayData!D9","v":6.2189171180740573E-5},{"$f":"PeakDayData!E9","v":6.1861176531954835E-5},{"$f":"PeakDayData!F9","v":6.1875355568390676E-5},{"$f":"PeakDayData!G9","v":6.2345721592832741E-5},{"$f":"PeakDayData!H9","v":6.542061830791334E-5},{"$f":"PeakDayData!I9","v":8.7679391959306671E-5},{"$f":"PeakDayData!J9","v":1.5819574952619545E-4},{"$f":"PeakDayData!K9","v":2.2332421751663299E-4},{"$f":"PeakDayData!L9","v":2.4291361017347447E-4},{"$f":"PeakDayData!M9","v":2.503298324868725E-4},{"$f":"PeakDayData!N9","v":2.4599415043621663E-4},{"$f":"PeakDayData!O9","v":2.4683379701157914E-4},{"$f":"PeakDayData!P9","v":2.426023822254376E-4},{"$f":"PeakDayData!Q9","v":2.3840191973417032E-4},{"$f":"PeakDayData!R9","v":2.341569961074692E-4},{"$f":"PeakDayData!S9","v":1.8899149923455087E-4},{"$f":"PeakDayData!T9","v":1.171084666951701E-4},{"$f":"PeakDayData!U9","v":7.7135846825615733E-5},{"$f":"PeakDayData!V9","v":7.1376887760524682E-5},{"$f":"PeakDayData!W9","v":6.7832460470656041E-5},{"$f":"PeakDayData!X9","v":6.6517843061221257E-5},{"$f":"PeakDayData!Y9","v":6.5869724302698116E-5},{"$f":"PeakDayData!Z9","v":6.5309630723106468E-5}]
["Electric (only elspesific, not cooling since it is the coldest day)",{"$f":"PeakDayData!A10","v":0},{"$f":"PeakDayData!B10","v":"Regular"},{"$f":"PeakDayData!C10","v":6.2503700269718061E-5},{"$f":"PeakDayData!D10","v":6.2189171180740573E-5},{"$f":"PeakDayData!E10","v":6.1861176531954835E-5},{"$f":"PeakDayData!F10","v":6.1875355568390676E-5},{"$f":"PeakDayData!G10","v":6.2345721592832741E-5},{"$f":"PeakDayData!H10","v":6.542061830791334E-5},{"$f":"PeakDayData!I10","v":8.7679391959306671E-5},{"$f":"PeakDayData!J10","v":1.5819574952619545E-4},{"$f":"PeakDayData!K10","v":2.2332421751663299E-4},{"$f":"PeakDayData!L10","v":2.4291361017347447E-4},{"$f":"PeakDayData!M10","v":2.503298324868725E-4},{"$f":"PeakDayData!N10","v":2.4599415043621663E-4},{"$f":"PeakDayData!O10","v":2.4683379701157914E-4},{"$f":"PeakDayData!P10","v":2.426023822254376E-4},{"$f":"PeakDayData!Q10","v":2.3840191973417032E-4},{"$f":"PeakDayData!R10","v":2.341569961074692E-4},{"$f":"PeakDayData!S10","v":1.8899149923455087E-4},{"$f":"PeakDayData!T10","v":1.171084666951701E-4},{"$f":"PeakDayData!U10","v":7.7135846825615733E-5},{"$f":"PeakDayData!V10","v":7.1376887760524682E-5},{"$f":"PeakDayData!W10","v":6.7832460470656041E-5},{"$f":"PeakDayData!X10","v":6.6517843061221257E-5},{"$f":"PeakDayData!Y10","v":6.5869724302698116E-5},{"$f":"PeakDayData!Z10","v":6.5309630723106468E-5}]
["Electric (only elspesific, not cooling since it is the coldest day)",{"$f":"PeakDayData!A11","v":"School"},{"$f":"PeakDayData!B11","v":"Efficient"},{"$f":"PeakDayData!C11","v":5.7881025036866281E-5},{"$f":"PeakDayData!D11","v":5.1920305056044238E-5},{"$f":"PeakDayData!E11","v":5.1970687501297163E-5},{"$f":"PeakDayData!F11","v":5.2116363065147771E-5},{"$f":"PeakDayData!G11","v":5.2693873355160074E-5},{"$f":"PeakDayData!H11","v":5.3367219104798662E-5},{"$f":"PeakDayData!I11","v":6.9231614794508015E-5},{"$f":"PeakDayData!J11","v":1.399613793201835E-4},{"$f":"PeakDayData!K11","v":1.8559726970686073E-4},{"$f":"PeakDayData!L11","v":2.2747285411532075E-4},{"$f":"PeakDayData!M11","v":2.3444400897597667E-4},{"$f":"PeakDayData!N11","v":2.3146824938470616E-4},{"$f":"PeakDayData!O11","v":2.2943016979697905E-4},{"$f":"PeakDayData!P11","v":2.3258084300603374E-4},{"$f":"PeakDayData!Q11","v":2.2704430107054336E-4},{"$f":"PeakDayData!R11","v":2.0216347368701509E-4},{"$f":"PeakDayData!S11","v":1.7775239308564104E-4},{"$f":"PeakDayData!T11","v":1.3231849882417221E-4},{"$f":"PeakDayData!U11","v":1.2391675541604828E-4},{"$f":"PeakDayData!V11","v":1.0634374885919241E-4},{"$f":"PeakDayData!W11","v":1.0320229890202823E-4},{"$f":"PeakDayData!X11","v":9.7481136480659047E-5},{"$f":"PeakDayData!Y11","v":8.6849058771709011E-5},{"$f":"PeakDayData!Z11","v":6.9487812205780273E-5}]
["Electric (only elspesific, not cooling since it is the coldest day)",{"$f":"PeakDayData!A12","v":0},{"$f":"PeakDayData!B12","v":"Regular"},{"$f":"PeakDayData!C12","v":8.9467439001791166E-5},{"$f":"PeakDayData!D12","v":9.103432745424625E-5},{"$f":"PeakDayData!E12","v":9.1221474539036416E-5},{"$f":"PeakDayData!F12","v":9.3624970716097507E-5},{"$f":"PeakDayData!G12","v":9.5901496411322207E-5},{"$f":"PeakDayData!H12","v":1.0619131772694527E-4},{"$f":"PeakDayData!I12","v":1.4077546942121297E-4},{"$f":"PeakDayData!J12","v":1.9408171659463403E-4},{"$f":"PeakDayData!K12","v":2.7554472380401977E-4},{"$f":"PeakDayData!L12","v":2.8429887396637241E-4},{"$f":"PeakDayData!M12","v":2.8518159457602553E-4},{"$f":"PeakDayData!N12","v":2.7377045308677161E-4},{"$f":"PeakDayData!O12","v":2.7875433610560053E-4},{"$f":"PeakDayData!P12","v":2.7212871543188643E-4},{"$f":"PeakDayData!Q12","v":2.3712152328213314E-4},{"$f":"PeakDayData!R12","v":2.0321371186156882E-4},{"$f":"PeakDayData!S12","v":1.5877404925838045E-4},{"$f":"PeakDayData!T12","v":1.312389911565719E-4},{"$f":"PeakDayData!U12","v":1.2732611380974481E-4},{"$f":"PeakDayData!V12","v":1.1933122195658304E-4},{"$f":"PeakDayData!W12","v":1.085524442658126E-4},{"$f":"PeakDayData!X12","v":9.9896692766064736E-5},{"$f":"PeakDayData!Y12","v":9.1295940707120652E-5},{"$f":"PeakDayData!Z12","v":9.1611863780041377E-5}]
["Electric (only elspesific, not cooling since it is the coldest day)",{"$f":"PeakDayData!A13","v":"University/Collage"},{"$f":"PeakDayData!B13","v":"Efficient"},{"$f":"PeakDayData!C13","v":9.0543498839626728E-5},{"$f":"PeakDayData!D13","v":8.9619246873430183E-5},{"$f":"PeakDayData!E13","v":8.9556912219742284E-5},{"$f":"PeakDayData!F13","v":8.9641444335565891E-5},{"$f":"PeakDayData!G13","v":9.0782671376856005E-5},{"$f":"PeakDayData!H13","v":9.4488269350140899E-5},{"$f":"PeakDayData!I13","v":1.0859099129498623E-4},{"$f":"PeakDayData!J13","v":1.4499644518141324E-4},{"$f":"PeakDayData!K13","v":1.6601354653330647E-4},{"$f":"PeakDayData!L13","v":1.7224471874412184E-4},{"$f":"PeakDayData!M13","v":1.7097063089630598E-4},{"$f":"PeakDayData!N13","v":1.696592215164378E-4},{"$f":"PeakDayData!O13","v":1.674746267994472E-4},{"$f":"PeakDayData!P13","v":1.652308255118152E-4},{"$f":"PeakDayData!Q13","v":1.600931587998111E-4},{"$f":"PeakDayData!R13","v":1.4845831354297633E-4},{"$f":"PeakDayData!S13","v":1.3027166948677093E-4},{"$f":"PeakDayData!T13","v":1.1283366458289059E-4},{"$f":"PeakDayData!U13","v":1.0432540181688559E-4},{"$f":"PeakDayData!V13","v":1.0032564168409387E-4},{"$f":"PeakDayData!W13","v":9.7698422831155179E-5},{"$f":"PeakDayData!X13","v":9.4816257899462035E-5},{"$f":"PeakDayData!Y13","v":9.3230678389008326E-5},{"$f":"PeakDayData!Z13","v":9.1903783266644853E-5}]
["Electric (only elspesific, not cooling since it is the coldest day)",{"$f":"PeakDayData!A14","v":0},{"$f":"PeakDayData!B14","v":"Regular"},{"$f":"PeakDayData!C14","v":8.102429180472779E-5},{"$f":"PeakDayData!D14","v":8.0269038428526095E-5},{"$f":"PeakDayData!E14","v":8.0084765299507605E-5},{"$f":"PeakDayData!F14","v":8.0145137888581019E-5},{"$f":"PeakDayData!G14","v":8.0911399971501095E-5},{"$f":"PeakDayData!H14","v":8.7334068792711708E-5},{"$f":"PeakDayData!I14","v":1.1167515376494699E-4},{"$f":"PeakDayData!J14","v":1.4182747557295593E-4},{"$f":"PeakDayData!K14","v":1.6409714966761368E-4},{"$f":"PeakDayData!L14","v":1.7450652696603157E-4},{"$f":"PeakDayData!M14","v":1.7758045939415278E-4},{"$f":"PeakDayData!N14","v":1.7922984413717036E-4},{"$f":"PeakDayData!O14","v":1.7908277622971094E-4},{"$f":"PeakDayData!P14","v":1.7719616437478493E-4},{"$f":"PeakDayData!Q14","v":1.7367549582326583E-4},{"$f":"PeakDayData!R14","v":1.6617280275383109E-4},{"$f":"PeakDayData!S14","v":1.5115084605718019E-4},{"$f":"PeakDayData!T14","v":1.3309618979800471E-4},{"$f":"PeakDayData!U14","v":1.1713058499243356E-4},{"$f":"PeakDayData!V14","v":1.0682077688853862E-4},{"$f":"PeakDayData!W14","v":9.7794619047582285E-5},{"$f":"PeakDayData!X14","v":9.1127690163610666E-5},{"$f":"PeakDayData!Y14","v":8.6572469633337939E-5},{"$f":"PeakDayData!Z14","v":8.3183050108796296E-5}]
["Electric (only elspesific, not cooling since it is the coldest day)",{"$f":"PeakDayData!A15","v":"Hospital"},{"$f":"PeakDayData!B15","v":"Efficient"},{"$f":"PeakDayData!C15","v":9.8862648212564777E-5},{"$f":"PeakDayData!D15","v":9.7787077534824797E-5},{"$f":"PeakDayData!E15","v":9.6904824787294349E-5},{"$f":"PeakDayData!F15","v":9.6555060532978274E-5},{"$f":"PeakDayData!G15","v":9.6828604933529649E-5},{"$f":"PeakDayData!H15","v":9.7536042858727115E-5},{"$f":"PeakDayData!I15","v":1.0181990032425345E-4},{"$f":"PeakDayData!J15","v":1.1526632067308832E-4},{"$f":"PeakDayData!K15","v":1.3150295399799836E-4},{"$f":"PeakDayData!L15","v":1.4120731103625878E-4},{"$f":"PeakDayData!M15","v":1.4440395145009837E-4},{"$f":"PeakDayData!N15","v":1.451303156677495E-4},{"$f":"PeakDayData!O15","v":1.4517281008600598E-4},{"$f":"PeakDayData!P15","v":1.4565938437206651E-4},{"$f":"PeakDayData!Q15","v":1.4443434859607644E-4},{"$f":"PeakDayData!R15","v":1.3924989319953526E-4},{"$f":"PeakDayData!S15","v":1.3020775404279594E-4},{"$f":"PeakDayData!T15","v":1.2202840114293861E-4},{"$f":"PeakDayData!U15","v":1.1719136181018828E-4},{"$f":"PeakDayData!V15","v":1.1363166685875762E-4},{"$f":"PeakDayData!W15","v":1.1065638453256503E-4},{"$f":"PeakDayData!X15","v":1.0793730923619541E-4},{"$f":"PeakDayData!Y15","v":1.0477989037858464E-4},{"$f":"PeakDayData!Z15","v":1.0122551910675878E-4}]
["Electric (only elspesific, not cooling since it is the coldest day)",{"$f":"PeakDayData!A16","v":0},{"$f":"PeakDayData!B16","v":"Regular"},{"$f":"PeakDayData!C16","v":9.8862648212564777E-5},{"$f":"PeakDayData!D16","v":9.7787077534824797E-5},{"$f":"PeakDayData!E16","v":9.6904824787294349E-5},{"$f":"PeakDayData!F16","v":9.6555060532978274E-5},{"$f":"PeakDayData!G16","v":9.6828604933529649E-5},{"$f":"PeakDayData!H16","v":9.7536042858727115E-5},{"$f":"PeakDayData!I16","v":1.0181990032425345E-4},{"$f":"PeakDayData!J16","v":1.1526632067308832E-4},{"$f":"PeakDayData!K16","v":1.3150295399799836E-4},{"$f":"PeakDayData!L16","v":1.4120731103625878E-4},{"$f":"PeakDayData!M16","v":1.4440395145009837E-4},{"$f":"PeakDayData!N16","v":1.451303156677495E-4},{"$f":"PeakDayData!O16","v":1.4517281008600598E-4},{"$f":"PeakDayData!P16","v":1.4565938437206651E-4},{"$f":"PeakDayData!Q16","v":1.4443434859607644E-4},{"$f":"PeakDayData!R16","v":1.3924989319953526E-4},{"$f":"PeakDayData!S16","v":1.3020775404279594E-4},{"$f":"PeakDayData!T16","v":1.2202840114293861E-4},{"$f":"PeakDayData!U16","v":1.1719136181018828E-4},{"$f":"PeakDayData!V16","v":1.1363166685875762E-4},{"$f":"PeakDayData!W16","v":1.1065638453256503E-4},{"$f":"PeakDayData!X16","v":1.0793730923619541E-4},{"$f":"PeakDayData!Y16","v":1.0477989037858464E-4},{"$f":"PeakDayData!Z16","v":1.0122551910675878E-4}]
["Electric (only elspesific, not cooling since it is the coldest day)",{"$f":"PeakDayData!A17","v":"Nursing home"},{"$f":"PeakDayData!B17","v":"Efficient"},{"$f":"PeakDayData!C17","v":8.7859244756739033E-5},{"$f":"PeakDayData!D17","v":8.6567345062361822E-5},{"$f":"PeakDayData!E17","v":8.6906589070302287E-5},{"$f":"PeakDayData!F17","v":8.7398012884809816E-5},{"$f":"PeakDayData!G17","v":8.8981505618267721E-5},{"$f":"PeakDayData!H17","v":9.7504606957224261E-5},{"$f":"PeakDayData!I17","v":1.1031427883297825E-4},{"$f":"PeakDayData!J17","v":1.2289408973494616E-4},{"$f":"PeakDayData!K17","v":1.3900913374855433E-4},{"$f":"PeakDayData!L17","v":1.4831154865293904E-4},{"$f":"PeakDayData!M17","v":1.5225319917512603E-4},{"$f":"PeakDayData!N17","v":1.5329301816675687E-4},{"$f":"PeakDayData!O17","v":1.5245055517050751E-4},{"$f":"PeakDayData!P17","v":1.4361309412496572E-4},{"$f":"PeakDayData!Q17","v":1.3782398804356856E-4},{"$f":"PeakDayData!R17","v":1.3084570667577349E-4},{"$f":"PeakDayData!S17","v":1.2421295022727123E-4},{"$f":"PeakDayData!T17","v":1.2342105801026383E-4},{"$f":"PeakDayData!U17","v":1.1840680023192362E-4},{"$f":"PeakDayData!V17","v":1.1380096998014738E-4},{"$f":"PeakDayData!W17","v":1.0752442478864516E-4},{"$f":"PeakDayData!X17","v":1.0021612911771137E-4},{"$f":"PeakDayData!Y17","v":9.5362538510219204E-5},{"$f":"PeakDayData!Z17","v":9.0436928718112748E-5}]
["Electric (only elspesific, not cooling since it is the coldest day)",{"$f":"PeakDayData!A18","v":0},{"$f":"PeakDayData!B18","v":"Regular"},{"$f":"PeakDayData!C18","v":8.7859244756739033E-5},{"$f":"PeakDayData!D18","v":8.6567345062361822E-5},{"$f":"PeakDayData!E18","v":8.6906589070302287E-5},{"$f":"PeakDayData!F18","v":8.7398012884809816E-5},{"$f":"PeakDayData!G18","v":8.8981505618267721E-5},{"$f":"PeakDayData!H18","v":9.7504606957224261E-5},{"$f":"PeakDayData!I18","v":1.1031427883297825E-4},{"$f":"PeakDayData!J18","v":1.2289408973494616E-4},{"$f":"PeakDayData!K18","v":1.3900913374855433E-4},{"$f":"PeakDayData!L18","v":1.4831154865293904E-4},{"$f":"PeakDayData!M18","v":1.5225319917512603E-4},{"$f":"PeakDayData!N18","v":1.5329301816675687E-4},{"$f":"PeakDayData!O18","v":1.5245055517050751E-4},{"$f":"PeakDayData!P18","v":1.4361309412496572E-4},{"$f":"PeakDayData!Q18","v":1.3782398804356856E-4},{"$f":"PeakDayData!R18","v":1.3084570667577349E-4},{"$f":"PeakDayData!S18","v":1.2421295022727123E-4},{"$f":"PeakDayData!T18","v":1.2342105801026383E-4},{"$f":"PeakDayData!U18","v":1.1840680023192362E-4},{"$f":"PeakDayData!V18","v":1.1380096998014738E-4},{"$f":"PeakDayData!W18","v":1.0752442478864516E-4},{"$f":"PeakDayData!X18","v":1.0021612911771137E-4},{"$f":"PeakDayData!Y18","v":9.5362538510219204E-5},{"$f":"PeakDayData!Z18","v":9.0436928718112748E-5}]
["Electric (only elspesific, not cooling since it is the coldest day)",{"$f":"PeakDayData!A19","v":"Hotel"},{"$f":"PeakDayData!B19","v":"Efficient"},{"$f":"PeakDayData!C19","v":9.7683953707528308E-5},{"$f":"PeakDayData!D19","v":9.2900262145808663E-5},{"$f":"PeakDayData!E19","v":9.0575032406445792E-5},{"$f":"PeakDayData!F19","v":8.9174418623686833E-5},{"$f":"PeakDayData!G19","v":9.3229426744234538E-5},{"$f":"PeakDayData!H19","v":9.7443179654049811E-5},{"$f":"PeakDayData!I19","v":1.0701057967332106E-4},{"$f":"PeakDayData!J19","v":1.2336661346536561E-4},{"$f":"PeakDayData!K19","v":1.3187914080104886E-4},{"$f":"PeakDayData!L19","v":1.2919544064270936E-4},{"$f":"PeakDayData!M19","v":1.2730131650395913E-4},{"$f":"PeakDayData!N19","v":1.240427069399499E-4},{"$f":"PeakDayData!O19","v":1.2258829767299229E-4},{"$f":"PeakDayData!P19","v":1.2042407507479765E-4},{"$f":"PeakDayData!Q19","v":1.21059741892229E-4},{"$f":"PeakDayData!R19","v":1.2002607601213725E-4},{"$f":"PeakDayData!S19","v":1.1919243143881404E-4},{"$f":"PeakDayData!T19","v":1.1958328018538504E-4},{"$f":"PeakDayData!U19","v":1.2110184123674689E-4},{"$f":"PeakDayData!V19","v":1.2129581130129563E-4},{"$f":"PeakDayData!W19","v":1.2117624710157329E-4},{"$f":"PeakDayData!X19","v":1.1694926897928406E-4},{"$f":"PeakDayData!Y19","v":1.1449399286604508E-4},{"$f":"PeakDayData!Z19","v":1.0737587600841329E-4}]
["Electric (only elspesific, not cooling since it is the coldest day)",{"$f":"PeakDayData!A20","v":0},{"$f":"PeakDayData!B20","v":"Regular"},{"$f":"PeakDayData!C20","v":9.7683953707528308E-5},{"$f":"PeakDayData!D20","v":9.2900262145808663E-5},{"$f":"PeakDayData!E20","v":9.0575032406445792E-5},{"$f":"PeakDayData!F20","v":8.9174418623686833E-5},{"$f":"PeakDayData!G20","v":9.3229426744234538E-5},{"$f":"PeakDayData!H20","v":9.7443179654049811E-5},{"$f":"PeakDayData!I20","v":1.0701057967332106E-4},{"$f":"PeakDayData!J20","v":1.2336661346536561E-4},{"$f":"PeakDayData!K20","v":1.3187914080104886E-4},{"$f":"PeakDayData!L20","v":1.2919544064270936E-4},{"$f":"PeakDayData!M20","v":1.2730131650395913E-4},{"$f":"PeakDayData!N20","v":1.240427069399499E-4},{"$f":"PeakDayData!O20","v":1.2258829767299229E-4},{"$f":"PeakDayData!P20","v":1.2042407507479765E-4},{"$f":"PeakDayData!Q20","v":1.21059741892229E-4},{"$f":"PeakDayData!R20","v":1.2002607601213725E-4},{"$f":"PeakDayData!S20","v":1.1919243143881404E-4},{"$f":"PeakDayData!T20","v":1.1958328018538504E-4},{"$f":"PeakDayData!U20","v":1.2110184123674689E-4},{"$f":"PeakDayData!V20","v":1.2129581130129563E-4},{"$f":"PeakDayData!W20","v":1.2117624710157329E-4},{"$f":"PeakDayData!X20","v":1.1694926897928406E-4},{"$f":"PeakDayData!Y20","v":1.1449399286604508E-4},{"$f":"PeakDayData!Z20","v":1.0737587600841329E-4}]
["Electric (only elspesific, not cooling since it is the coldest day)",{"$f":"PeakDayData!A21","v":"Sports Facility"},{"$f":"PeakDayData!B21","v":"Efficient"},{"$f":"PeakDayData!C21","v":8.7859244756739033E-5},{"$f":"PeakDayData!D21","v":8.6567345062361822E-5},{"$f":"PeakDayData!E21","v":8.6906589070302287E-5},{"$f":"PeakDayData!F21","v":8.7398012884809816E-5},{"$f":"PeakDayData!G21","v":8.8981505618267721E-5},{"$f":"PeakDayData!H21","v":9.7504606957224261E-5},{"$f":"PeakDayData!I21","v":1.1031427883297825E-4},{"$f":"PeakDayData!J21","v":1.2289408973494616E-4},{"$f":"PeakDayData!K21","v":1.3900913374855433E-4},{"$f":"PeakDayData!L21","v":1.4831154865293904E-4},{"$f":"PeakDayData!M21","v":1.5225319917512603E-4},{"$f":"PeakDayData!N21","v":1.5329301816675687E-4},{"$f":"PeakDayData!O21","v":1.5245055517050751E-4},{"$f":"PeakDayData!P21","v":1.4361309412496572E-4},{"$f":"PeakDayData!Q21","v":1.3782398804356856E-4},{"$f":"PeakDayData!R21","v":1.3084570667577349E-4},{"$f":"PeakDayData!S21","v":1.2421295022727123E-4},{"$f":"PeakDayData!T21","v":1.2342105801026383E-4},{"$f":"PeakDayData!U21","v":1.1840680023192362E-4},{"$f":"PeakDayData!V21","v":1.1380096998014738E-4},{"$f":"PeakDayData!W21","v":1.0752442478864516E-4},{"$f":"PeakDayData!X21","v":1.0021612911771137E-4},{"$f":"PeakDayData!Y21","v":9.5362538510219204E-5},{"$f":"PeakDayData!Z21","v":9.0436928718112748E-5}]
["Electric (only elspesific, not cooling since it is the coldest day)",{"$f":"PeakDayData!A22","v":0},{"$f":"PeakDayData!B22","v":"Regular"},{"$f":"PeakDayData!C22","v":8.7859244756739033E-5},{"$f":"PeakDayData!D22","v":8.6567345062361822E-5},{"$f":"PeakDayData!E22","v":8.6906589070302287E-5},{"$f":"PeakDayData!F22","v":8.7398012884809816E-5},{"$f":"PeakDayData!G22","v":8.8981505618267721E-5},{"$f":"PeakDayData!H22","v":9.7504606957224261E-5},{"$f":"PeakDayData!I22","v":1.1031427883297825E-4},{"$f":"PeakDayData!J22","v":1.2289408973494616E-4},{"$f":"PeakDayData!K22","v":1.3900913374855433E-4},{"$f":"PeakDayData!L22","v":1.4831154865293904E-4},{"$f":"PeakDayData!M22","v":1.5225319917512603E-4},{"$f":"PeakDayData!N22","v":1.5329301816675687E-4},{"$f":"PeakDayData!O22","v":1.5245055517050751E-4},{"$f":"PeakDayData!P22","v":1.4361309412496572E-4},{"$f":"PeakDayData!Q22","v":1.3782398804356856E-4},{"$f":"PeakDayData!R22","v":1.3084570667577349E-4},{"$f":"PeakDayData!S22","v":1.2421295022727123E-4},{"$f":"PeakDayData!T22","v":1.2342105801026383E-4},{"$f":"PeakDayData!U22","v":1.1840680023192362E-4},{"$f":"PeakDayData!V22","v":1.1380096998014738E-4},{"$f":"PeakDayData!W22","v":1.0752442478864516E-4},{"$f":"PeakDayData!X22","v":1.0021612911771137E-4},{"$f":"PeakDayData!Y22","v":9.5362538510219204E-5},{"$f":"PeakDayData!Z22","v":9.0436928718112748E-5}]
["Electric (only elspesific, not cooling since it is the coldest day)",{"$f":"PeakDayData!A23","v":"Comercial building"},{"$f":"PeakDayData!B23","v":"Efficient"},{"$f":"PeakDayData!C23","v":6.966188101473039E-5},{"$f":"PeakDayData!D23","v":6.7742048174415821E-5},{"$f":"PeakDayData!E23","v":6.7202044433084109E-5},{"$f":"PeakDayData!F23","v":6.7002696380027082E-5},{"$f":"PeakDayData!G23","v":6.8665798010928924E-5},{"$f":"PeakDayData!H23","v":7.4467152692023837E-5},{"$f":"PeakDayData!I23","v":9.7083326820192401E-5},{"$f":"PeakDayData!J23","v":1.2974447765832364E-4},{"$f":"PeakDayData!K23","v":1.5074704975790213E-4},{"$f":"PeakDayData!L23","v":1.6755717519684475E-4},{"$f":"PeakDayData!M23","v":1.8039269637723976E-4},{"$f":"PeakDayData!N23","v":1.8182706026056536E-4},{"$f":"PeakDayData!O23","v":1.826841521712593E-4},{"$f":"PeakDayData!P23","v":1.824040455324408E-4},{"$f":"PeakDayData!Q23","v":1.8119495676830827E-4},{"$f":"PeakDayData!R23","v":1.7984065407115402E-4},{"$f":"PeakDayData!S23","v":1.6956651744675228E-4},{"$f":"PeakDayData!T23","v":1.5399687450474734E-4},{"$f":"PeakDayData!U23","v":1.4301007147559245E-4},{"$f":"PeakDayData!V23","v":1.326824579926377E-4},{"$f":"PeakDayData!W23","v":1.1613904309967963E-4},{"$f":"PeakDayData!X23","v":9.71375706032676E-5},{"$f":"PeakDayData!Y23","v":8.3464847377140799E-5},{"$f":"PeakDayData!Z23","v":7.5203192375926446E-5}]
["Electric (only elspesific, not cooling since it is the coldest day)",{"$f":"PeakDayData!A24","v":0},{"$f":"PeakDayData!B24","v":"Regular"},{"$f":"PeakDayData!C24","v":6.966188101473039E-5},{"$f":"PeakDayData!D24","v":6.7742048174415821E-5},{"$f":"PeakDayData!E24","v":6.7202044433084109E-5},{"$f":"PeakDayData!F24","v":6.7002696380027082E-5},{"$f":"PeakDayData!G24","v":6.8665798010928924E-5},{"$f":"PeakDayData!H24","v":7.4467152692023837E-5},{"$f":"PeakDayData!I24","v":9.7083326820192401E-5},{"$f":"PeakDayData!J24","v":1.2974447765832364E-4},{"$f":"PeakDayData!K24","v":1.5074704975790213E-4},{"$f":"PeakDayData!L24","v":1.6755717519684475E-4},{"$f":"PeakDayData!M24","v":1.8039269637723976E-4},{"$f":"PeakDayData!N24","v":1.8182706026056536E-4},{"$f":"PeakDayData!O24","v":1.826841521712593E-4},{"$f":"PeakDayData!P24","v":1.824040455324408E-4},{"$f":"PeakDayData!Q24","v":1.8119495676830827E-4},{"$f":"PeakDayData!R24","v":1.7984065407115402E-4},{"$f":"PeakDayData!S24","v":1.6956651744675228E-4},{"$f":"PeakDayData!T24","v":1.5399687450474734E-4},{"$f":"PeakDayData!U24","v":1.4301007147559245E-4},{"$f":"PeakDayData!V24","v":1.326824579926377E-4},{"$f":"PeakDayData!W24","v":1.1613904309967963E-4},{"$f":"PeakDayData!X24","v":9.71375706032676E-5},{"$f":"PeakDayData!Y24","v":8.3464847377140799E-5},{"$f":"PeakDayData!Z24","v":7.5203192375926446E-5}]
["Electric (only elspesific, not cooling since it is the coldest day)",{"$f":"PeakDayData!A25","v":"Cultural building"},{"$f":"PeakDayData!B25","v":"Efficient"},{"$f":"PeakDayData!C25","v":9.0543498839626728E-5},{"$f":"PeakDayData!D25","v":8.9619246873430183E-5},{"$f":"PeakDayData!E25","v":8.9556912219742284E-5},{"$f":"PeakDayData!F25","v":8.9641444335565891E-5},{"$f":"PeakDayData!G25","v":9.0782671376856005E-5},{"$f":"PeakDayData!H25","v":9.4488269350140899E-5},{"$f":"PeakDayData!I25","v":1.0859099129498623E-4},{"$f":"PeakDayData!J25","v":1.4499644518141324E-4},{"$f":"PeakDayData!K25","v":1.6601354653330647E-4},{"$f":"PeakDayData!L25","v":1.7224471874412184E-4},{"$f":"PeakDayData!M25","v":1.7097063089630598E-4},{"$f":"PeakDayData!N25","v":1.696592215164378E-4},{"$f":"PeakDayData!O25","v":1.674746267994472E-4},{"$f":"PeakDayData!P25","v":1.652308255118152E-4},{"$f":"PeakDayData!Q25","v":1.600931587998111E-4},{"$f":"PeakDayData!R25","v":1.4845831354297633E-4},{"$f":"PeakDayData!S25","v":1.3027166948677093E-4},{"$f":"PeakDayData!T25","v":1.1283366458289059E-4},{"$f":"PeakDayData!U25","v":1.0432540181688559E-4},{"$f":"PeakDayData!V25","v":1.0032564168409387E-4},{"$f":"PeakDayData!W25","v":9.7698422831155179E-5},{"$f":"PeakDayData!X25","v":9.4816257899462035E-5},{"$f":"PeakDayData!Y25","v":9.3230678389008326E-5},{"$f":"PeakDayData!Z25","v":9.1903783266644853E-5}]
["Electric (only elspesific, not cooling since it is the coldest day)",{"$f":"PeakDayData!A26","v":0},{"$f":"PeakDayData!B26","v":"Regular"},{"$f":"PeakDayData!C26","v":8.102429180472779E-5},{"$f":"PeakDayData!D26","v":8.0269038428526095E-5},{"$f":"PeakDayData!E26","v":8.0084765299507605E-5},{"$f":"PeakDayData!F26","v":8.0145137888581019E-5},{"$f":"PeakDayData!G26","v":8.0911399971501095E-5},{"$f":"PeakDayData!H26","v":8.7334068792711708E-5},{"$f":"PeakDayData!I26","v":1.1167515376494699E-4},{"$f":"PeakDayData!J26","v":1.4182747557295593E-4},{"$f":"PeakDayData!K26","v":1.6409714966761368E-4},{"$f":"PeakDayData!L26","v":1.7450652696603157E-4},{"$f":"PeakDayData!M26","v":1.7758045939415278E-4},{"$f":"PeakDayData!N26","v":1.7922984413717036E-4},{"$f":"PeakDayData!O26","v":1.7908277622971094E-4},{"$f":"PeakDayData!P26","v":1.7719616437478493E-4},{"$f":"PeakDayData!Q26","v":1.7367549582326583E-4},{"$f":"PeakDayData!R26","v":1.6617280275383109E-4},{"$f":"PeakDayData!S26","v":1.5115084605718019E-4},{"$f":"PeakDayData!T26","v":1.3309618979800471E-4},{"$f":"PeakDayData!U26","v":1.1713058499243356E-4},{"$f":"PeakDayData!V26","v":1.0682077688853862E-4},{"$f":"PeakDayData!W26","v":9.7794619047582285E-5},{"$f":"PeakDayData!X26","v":9.1127690163610666E-5},{"$f":"PeakDayData!Y26","v":8.6572469633337939E-5},{"$f":"PeakDayData!Z26","v":8.3183050108796296E-5}]
["Electric (only elspesific, not cooling since it is the coldest day)",{"$f":"PeakDayData!A27","v":"Industry/Workshop"},{"$f":"PeakDayData!B27","v":"Efficient"},{"$f":"PeakDayData!C27","v":9.0543498839626728E-5},{"$f":"PeakDayData!D27","v":8.9619246873430183E-5},{"$f":"PeakDayData!E27","v":8.9556912219742284E-5},{"$f":"PeakDayData!F27","v":8.9641444335565891E-5},{"$f":"PeakDayData!G27","v":9.0782671376856005E-5},{"$f":"PeakDayData!H27","v":9.4488269350140899E-5},{"$f":"PeakDayData!I27","v":1.0859099129498623E-4},{"$f":"PeakDayData!J27","v":1.4499644518141324E-4},{"$f":"PeakDayData!K27","v":1.6601354653330647E-4},{"$f":"PeakDayData!L27","v":1.7224471874412184E-4},{"$f":"PeakDayData!M27","v":1.7097063089630598E-4},{"$f":"PeakDayData!N27","v":1.696592215164378E-4},{"$f":"PeakDayData!O27","v":1.674746267994472E-4},{"$f":"PeakDayData!P27","v":1.652308255118152E-4},{"$f":"PeakDayData!Q27","v":1.600931587998111E-4},{"$f":"PeakDayData!R27","v":1.4845831354297633E-4},{"$f":"PeakDayData!S27","v":1.3027166948677093E-4},{"$f":"PeakDayData!T27","v":1.1283366458289059E-4},{"$f":"PeakDayData!U27","v":1.0432540181688559E-4},{"$f":"PeakDayData!V27","v":1.0032564168409387E-4},{"$f":"PeakDayData!W27","v":9.7698422831155179E-5},{"$f":"PeakDayData!X27","v":9.4816257899462035E-5},{"$f":"PeakDayData!Y27","v":9.3230678389008326E-5},{"$f":"PeakDayData!Z27","v":9.1903783266644853E-5}]
["Electric (only elspesific, not cooling since it is the coldest day)",{"$f":"PeakDayData!A28","v":0},{"$f":"PeakDayData!B28","v":"Regular"},{"$f":"PeakDayData!C28","v":8.102429180472779E-5},{"$f":"PeakDayData!D28","v":8.0269038428526095E-5},{"$f":"PeakDayData!E28","v":8.0084765299507605E-5},{"$f":"PeakDayData!F28","v":8.0145137888581019E-5},{"$f":"PeakDayData!G28","v":8.0911399971501095E-5},{"$f":"PeakDayData!H28","v":8.7334068792711708E-5},{"$f":"PeakDayData!I28","v":1.1167515376494699E-4},{"$f":"PeakDayData!J28","v":1.4182747557295593E-4},{"$f":"PeakDayData!K28","v":1.6409714966761368E-4},{"$f":"PeakDayData!L28","v":1.7450652696603157E-4},{"$f":"PeakDayData!M28","v":1.7758045939415278E-4},{"$f":"PeakDayData!N28","v":1.7922984413717036E-4},{"$f":"PeakDayData!O28","v":1.7908277622971094E-4},{"$f":"PeakDayData!P28","v":1.7719616437478493E-4},{"$f":"PeakDayData!Q28","v":1.7367549582326583E-4},{"$f":"PeakDayData!R28","v":1.6617280275383109E-4},{"$f":"PeakDayData!S28","v":1.5115084605718019E-4},{"$f":"PeakDayData!T28","v":1.3309618979800471E-4},{"$f":"PeakDayData!U28","v":1.1713058499243356E-4},{"$f":"PeakDayData!V28","v":1.0682077688853862E-4},{"$f":"PeakDayData!W28","v":9.7794619047582285E-5},{"$f":"PeakDayData!X28","v":9.1127690163610666E-5},{"$f":"PeakDayData!Y28","v":8.6572469633337939E-5},{"$f":"PeakDayData!Z28","v":8.3183050108796296E-5}]

{"sheet":"Lists","index":13,"n_rows":49,"n_cols":8,"rows_kept":49,"cut":false,"hidden":true,"merged":[]}
["Building Categories","Building performance data","Energy Certificates","Ownership","PV input","Energy technology","Building performance coverage data","Building sector list"]
["Residential individual housing","Passivhouse","A","Public","Auto","Fossile","Regular","Residential"]
["Residential apartment building","Low energy","B","Private","Manual","Renewable/electric","Efficient","Service"]
["Office building","TEK 17","C","Housing cooperative"]
["Kindergarten","TEK 10","D"]
["School","TEK 07","E"]
["University/Collage","TEK 97","F"]
["Hospital","TEK 87","G"]
["Nursing home","TEK 69"]
["Hotel","TEK 49"]
["Sports Facility","Older"]
["Comercial building","Simulation"]
["Cultural building","Measurements"]
["Industry/Workshop"]
[]
[]
["Local energy plant list"]
["CHP"]
["Solar PV"]
["Solar Thermal"]
["Boiler"]
["Heat Pump"]
["Direct connection"]
[]
["Goal Catergory List","Unit List","Comparison"]
["Energy Consumption","Absolute","Absolute"]
["Energy Generation","/m2 BRA","% Increase"]
["Mismatch","/inhabitant","% Reduction"]
[null,"/person"]
["Mobility"]
["Carbon Emission"]
[]
["Goal List","# KPIs","CO2-reduction","Increased use of renewable energy","Increased energy efficiency","Increased use of local energy sources","Green mobility","Grid interaction"]
["CO2-reduction",null,{"$f":"COUNTA(C35:C44)","v":3},{"$f":"COUNTA(D35:D42)","v":6},{"$f":"COUNTA(E35:E43)","v":4},{"$f":"COUNTA(F35:F43)","v":4},{"$f":"COUNTA(G35:G42)","v":2},{"$f":"COUNTA(H35:H42)","v":2}]
["Increased use of renewable energy",null,"CO2 emissions","% of energy sources delivering to district heating system","Energy Use","Installed capacity of RES","Modal Split","Peak energy use"]
["Increased energy efficiency",null,"# fossil free construction sites","# fossil free construction sites","% of buildings with Energy Certificate at each of the grades","Generated energy by RES","Energy Use","Peak energy demand"]
["Increased use of local energy sources",null,"# of registered oil tanks","Installed capacity of RES","% of buildings with measurement values for energy performance","# of buildings with installed solar energy system"]
["Green mobility",null,null,"Generated energy by RES","Net energy demand in buildings","# of buildings connected to a district thermal energy system"]
["Grid interaction",null,null,"# of buildings with installed solar energy system"]
[null,null,null,"# of buildings connected to a district thermal energy system"]
[]
[]
[]
[]
[]
["Location List"]
["Oslo og Akershus"]
["Bergen, Trondheim og Stavanger area"]
["Other Cities"]

{"sheet":"KPIs summary list","index":14,"n_rows":83,"n_cols":6,"rows_kept":83,"cut":false,"hidden":true,"merged":[[0,2,0,3]]}
["KPI","Goal s","Sub-categories",null,"Sectors","Unit"]
["Name","Name",1,2]
["CO2 emissions","CO2-reduction","Stationary Energy","Electricity","Public buildings","Tonnes CO2 eqv."]
[null,null,null,"Biofuel","Residential buildings"]
[null,null,null,"Fossile fuel","Private buildings"]
[null,null,null,"District heating","Infrastructure"]
[null,null,"Mobility",null,"Private cars"]
[null,null,null,null,"Taxi"]
[null,null,null,null,"Public transport"]
[null,null,null,null,"Goods transport"]
[null,null,null,null,"Freight transportation"]
[null,null,null,null,"Construction machines"]
[null,null,"Materials",null,"Public buildings"]
[null,null,null,null,"Residential buildings"]
[null,null,null,null,"Private buildings"]
["Energy Use","Increased energy efficiency","Electric","Buildings","Public buildings","MWh"]
[null,null,null,null,"Residential buildings"]
[null,null,null,null,"Private buildings"]
[null,null,null,"Infrastructure","Outdoor lighting"]
[null,null,null,null,"Transport"]
[null,null,null,null,"Other"]
[null,null,"Thermal","Solar","Public buildings"]
[null,null,null,"Biofuel","Residential buildings"]
[null,null,null,"Oil","Private buildings"]
[null,null,null,"Gas","Infrastructure"]
[null,null,null,"District heating"]
["District Heating share of renewables","Increased use of renewable energy","Electricity",null,null,"%"]
[null,null,"Heat pump"]
[null,null,"Solar"]
[null,null,"Biofuel"]
[null,null,"Waste"]
[null,null,"Oil"]
[null,null,"Gas"]
["Energy Certificate","Increased energy efficiency","Certificate A",null,"Public buildings","%"]
[null,null,"Certificate B",null,"Residential buildings"]
[null,null,"Certificate C",null,"Private buildings"]
[null,null,"Certificate D"]
[null,null,"Certificate E"]
[null,null,"Certificate F"]
[null,null,"Certificate G"]
[null,null,"Not registered"]
["Use of energy related incentive","Increased energy efficiency","Futurebuildt",null,"Public buildings","#"]
[null,null,"Enova",null,"Residential buildings"]
[null,null,"Local",null,"Private buildings"]
["Buildings benchmarked and measuring energy performance","Increased energy efficiency",null,null,"Public buildings","%"]
[null,null,null,null,"Residential buildings"]
[null,null,null,null,"Private buildings"]
["# fossile free construction sites","CO2-reduction","Construction Machines",null,"Public buildings","#"]
[null,"Increased use of renewable energy","Energy production",null,"Residential buildings"]
[null,null,null,null,"Private buildings"]
["Modal Split","Green mobility (reduced CO2 emissions and better air quality)","Fossil free Car",null,null,"%"]
[null,null,"Fossil fuel Car"]
[null,null,"Fossil free Public transport"]
[null,null,"Fossil fuel Public transport"]
[null,null,"Bike"]
[null,null,"Walk"]
["# filling stations with RES fuel / area/innh.","Green mobility (reduced CO2 emissions and better air quality)","Electric",null,null,"#"]
[null,null,"Hydrogen"]
[null,null,"Biofuel"]
["% fossil free cars of new car registerred","Green mobility (reduced CO2 emissions and better air quality)","Electric",null,null,"%"]
[null,null,"Hydrogen"]
["% of berths with power connection","Green mobility (reduced CO2 emissions and better air quality)"]
["RES installed capacity","Increased use of local energy sources","Electric","Solar",null,"kW"]
[null,"Increased use of renewable energy","Thermal","CHP Waste"]
[null,null,null,"CHP Biomass"]
["RES generated energy","Increased use of local energy sources","Electric","Solar",null,"MWh"]
[null,"Increased use of renewable energy","Thermal","CHP Waste"]
[null,null,null,"CHP Biomass"]
["Buildings with installed RES","Increased use of local energy sources","Electric","Solar",null,"%"]
[null,"Increased use of renewable energy","Thermal"]
["Use of secondary heat","Increased use of local energy sources",null,null,null,"MWh"]
["Buildings connected to a district thermal energy ","Increased use of local energy sources",null,null,null,"%"]
[null,"Increased use of renewable energy"]
["Identification of available resources of renewable energy","Increased use of local energy sources",null,null,null,"MWh"]
[null,"Increased use of renewable energy"]
["Number of registered oil tanks","Increased use of renewable energy",null,null,null,"#"]
[null,"CO2-reduction"]
["Peak Load Consumption",null,"Electric",null,null,"kW"]
[null,null,"Thermal"]
["Peak Load Production","Increased use of local energy sources","Electric",null,null,"kW"]
[null,null,"Thermal"]
["Energy Storage","Increased use of local energy sources","Electric",null,null,"MWh"]
[null,"Increased use of renewable energy","Thermal"]

{"sheet":"KPI 1","index":15,"n_rows":0,"n_cols":0,"rows_kept":0,"cut":false,"hidden":false,"merged":[]}