{"text_format":"1","workbook":"xlsx","n_sheets":17,"sheets":["MainPage","Log","Emission factors","Transport Input Data","Test","EnergyPerformanceData","LocalEnergySupplyData","Lists","KPIResults","KPIs summary list","Initial","Baseline","Scenario1","KPI 1","KPI 2","KPI 3","KPI 4"],"not_rendered":{"charts":8,"images":0,"macros":1,"external_links":1,"defined_names":173,"comments":5,"pivot_tables":0},"unopened":[],"bounds":{"document_bytes":16777216,"sheet_cells":100000,"rows_first":2000,"rows_last":500,"rows_between":2000,"halvings":0,"cell_chars":16384,"cell_head_chars":4096},"cells_cut":0,"cells_raw":0,"read":"whole","date_system":"1900"}

{"sheet":"MainPage","index":0,"n_rows":33,"n_cols":9,"rows_kept":33,"cut":false,"hidden":false,"merged":[]}
["PI-SEC Scenario Calculator","Front Page"]
["Neighbourhood:","Grønneberg"]
[]
["Climate Zone","1. Sør-Norge, innland"]
[]
["KEY DATA","Now","End of project"]
["Project timeframe",2018,2030]
["Area",100000,100000]
["Population",330,330]
["Number of jobs",36,236]
["Area of buildings (m2 BRA)",29000,37000]
["Number of buildings",4,5]
[]
["GOALS","KPI","Category","Sub category","Sector","Unit","Comparison","Relative to","Goal at EoP"]
["CO2-reduction","CO2 emissions","Total",null,null,"Absolute","% Reduction","Baseline",30]
["CO2-reduction","CO2 emissions","Total",null,null,"/m2 BRA","% Reduction","Baseline",40]
["Increased energy efficiency","Energy Use","Total","Total stationary and mobility","Total","Absolute","% Reduction","Initial",20]
["Increased energy efficiency","Energy Use","Total","Total stationary and mobility","Total","/m2 BRA","% Reduction","Initial",20]
[]
[]
[]
["Menu"]
[]
[]
[]
[]
[]
[]
[]
["Scenarioes"]
["Initial"]
["Baseline"]
["Scenario1"]

{"sheet":"Log","index":1,"n_rows":3,"n_cols":5,"rows_kept":3,"cut":false,"hidden":false,"merged":[]}
["Date","Change","From","To","Comment"]
["2020-02-01","Antall personer (personbelegg) for personbiler i Grønneby i 2030",1.3,1.5,"Ny RVU for kommunen"]
["2020-02-02","Ny boliglokk lagt til",null,null,"Endringer i reguleringsplan og salg av tomt gjør at det nå er bestemt å bygge ekstra boligblokk i området."]

{"sheet":"Emission factors","index":2,"n_rows":13,"n_cols":2,"rows_kept":13,"cut":false,"hidden":false,"merged":[[0,0,0,1]]}
["Emission Factors"]
["Energy Sources","Emissions [gCO2/kWh]"]
["Electricity",123]
["Solar Thermal",0]
["Firewood",14]
["Wood Chips",14]
["Pellets",25]
["Bio-oil",25]
["Bio-gas",10]
["Waste",138]
["Fossile oil",315]
["LPG",304]
["Natural Gas",255]

{"sheet":"Transport Input Data","index":3,"n_rows":213,"n_cols":24,"rows_kept":213,"cut":false,"hidden":true,"merged":[[2,1,2,6],[3,1,3,5],[160,10,160,12],[160,13,160,15],[146,10,146,12],[146,13,146,15]]}
["Transport Data"]
[]
["BuildingCategory","Trip Generation"]
[null,"Users",null,null,null,null,"Other Users"]
[null,"Work","Service","Private errand","Utside Service","Goods transport"]
["Residential individual housing",0.8,0.1,1,1.7,0.1,0]
["Residential apartment building",0.8,0.1,1,1.7,0.1,0]
["Office building",1.6,0.6,0.2,0.1,0.2,1.43]
["Kindergarten",1.6,0.6,0.2,0.1,0.2,0.79]
["School",1.6,0.6,0.2,0.1,0.2,0.83]
["University/Collage",1.6,0.6,0.2,0.1,0.2,0.83]
["Hospital",1.6,0.6,0.2,0.1,0.2,2]
["Nursing home",1.6,0.6,0.2,0.1,0.2,2]
["Hotel",1.6,0.6,0.2,0.1,0.2,2.4500000000000002]
["Sports Facility",1.6,0.6,0.2,0.1,0.2,0]
["Comercial building",1.6,0.2,0.1,0.1,1,1.65]
["Cultural building",1.6,0.6,0.2,0.1,0.2,1.65]
["Industry/Workshop",1.6,0.2,0.1,0.1,1,0]
[]
["Traveling Habit data"]
[null,null,"Travel method distribution",null,null,null,null,null,null,null,null,null,null,null,"Other Travel Data"]
[null,null,"Work",null,null,"Service",null,null,"Private errand",null,null,"Other",null,null,"Average distance",null,"# passengers",null,null,"Public Transport",null,null,"Traveling speeds at road"]
["Oslo",null,"Walk/bike","Public transport","Car","Walk/bike","Public transport","Car","Walk/bike","Public transport","Car","Walk/bike","Public transport","Car","Public\nTransport","Car","Public\nTransport","Rail","Car","% using track",null,null,"% below 50 km/h","% above 50 km/h"]
[null,"Residential individual housing",0.19,0.47,0.34,0.19,0.28999999999999998,0.52,0.42,0.21,0.37,0.43,0.26,0.31,13.8,16,19.399999999999999,null,1.3,0.6,null,null,0.5,0.5]
[null,"Residential apartment building",{"$f":"C24","v":0.19},{"$f":"D24","v":0.47},0.34,0.19,0.28999999999999998,0.52,0.42,0.21,0.37,0.43,0.26,0.31,{"$f":"O24","v":13.8},16,19.399999999999999,null,{"$f":"S24","v":1.3},0.6,null,null,{"$f":"W24","v":0.5},0.5]
[null,"Office building",0.19,0.47,0.34,0.19,0.28999999999999998,0.52,0.42,0.21,0.37,0.43,0.26,0.31,{"$f":"O25","v":13.8},16,19.399999999999999,null,{"$f":"S25","v":1.3},0.6,null,null,{"$f":"W25","v":0.5},0.5]
[null,"Kindergarten",{"$f":"C26","v":0.19},{"$f":"D26","v":0.47},0.34,0.19,0.28999999999999998,0.52,0.42,0.21,0.37,0.43,0.26,0.31,{"$f":"O26","v":13.8},16,19.399999999999999,null,{"$f":"S26","v":1.3},0.6,null,null,{"$f":"W26","v":0.5},0.5]
[null,"School",{"$f":"C27","v":0.19},{"$f":"D27","v":0.47},{"$f":"E27","v":0.34},{"$f":"F27","v":0.19},{"$f":"G27","v":0.28999999999999998},{"$f":"H27","v":0.52},{"$f":"I27","v":0.42},{"$f":"J27","v":0.21},{"$f":"K27","v":0.37},{"$f":"L27","v":0.43},{"$f":"M27","v":0.26},{"$f":"N27","v":0.31},{"$f":"O27","v":13.8},16,19.399999999999999,null,{"$f":"S27","v":1.3},0.6,null,null,{"$f":"W27","v":0.5},0.5]
[null,"University/Collage",0.19,0.47,0.34,0.19,0.28999999999999998,0.52,0.42,0.21,0.37,0.43,0.26,0.31,{"$f":"O28","v":13.8},16,19.399999999999999,null,{"$f":"S28","v":1.3},0.6,null,null,{"$f":"W28","v":0.5},0.5]
[null,"Hospital",0.19,0.47,0.34,0.19,0.28999999999999998,0.52,0.42,0.21,0.37,0.43,0.26,0.31,{"$f":"O29","v":13.8},16,19.399999999999999,null,{"$f":"S29","v":1.3},0.6,null,null,{"$f":"W29","v":0.5},0.5]
[null,"Nursing home",0.19,0.47,0.34,0.19,0.28999999999999998,0.52,0.42,0.21,0.37,0.43,0.26,0.31,{"$f":"O30","v":13.8},16,19.399999999999999,null,{"$f":"S30","v":1.3},0.6,null,null,{"$f":"W30","v":0.5},0.5]
[null,"Hotel",0.19,0.47,0.34,0.19,0.28999999999999998,0.52,0.42,0.21,0.37,0.43,0.26,0.31,{"$f":"O31","v":13.8},16,19.399999999999999,null,{"$f":"S31","v":1.3},0.6,null,null,{"$f":"W31","v":0.5},0.5]
[null,"Sports Facility",0.19,0.47,0.34,0.19,0.28999999999999998,0.52,0.42,0.21,0.37,0.43,0.26,0.31,{"$f":"O32","v":13.8},16,19.399999999999999,null,{"$f":"S32","v":1.3},0.6,null,null,{"$f":"W32","v":0.5},0.5]
[null,"Comercial building",0.19,0.47,0.34,0.19,0.28999999999999998,0.52,0.42,0.21,0.37,0.43,0.26,0.31,{"$f":"O33","v":13.8},16,19.399999999999999,null,{"$f":"S33","v":1.3},0.6,null,null,{"$f":"W33","v":0.5},0.5]
[null,"Cultural building",{"$f":"C34","v":0.19},{"$f":"D34","v":0.47},0.34,0.19,0.28999999999999998,0.52,0.42,0.21,0.37,0.43,0.26,0.31,{"$f":"O34","v":13.8},16,19.399999999999999,null,{"$f":"S34","v":1.3},0.6,null,null,{"$f":"W34","v":0.5},0.5]
[null,"Industry/Workshop",{"$f":"C33","v":0.19},{"$f":"D33","v":0.47},0.34,0.19,0.28999999999999998,0.52,0.42,0.21,0.37,0.43,0.26,0.31,{"$f":"O35","v":13.8},16,19.399999999999999,null,{"$f":"S35","v":1.3},0.6,null,null,{"$f":"W35","v":0.5},0.5]
[]
["Oslo, Groruddalen",null,"Walk/bike","Public transport","Car","Walk/bike","Public transport","Car","Walk/bike","Public transport","Car","Walk/bike","Public transport","Car","Public\nTransport","Car","Public\nTransport",null,"Car","% using track",null,null,"% below 50 km/h","% above 50 km/h"]
[null,"Residential individual housing",0.11,0.5,0.39,0.08,0.23,0.69,0.33,0.22,0.45,0.39,0.28000000000000003,0.33,13.8,16,19.399999999999999,null,1.3,0.6,null,null,0.5,0.5]
[null,"Residential apartment building",{"$f":"C39","v":0.11},{"$f":"D39","v":0.5},{"$f":"E39","v":0.39},{"$f":"F39","v":0.08},{"$f":"G39","v":0.23},{"$f":"H39","v":0.69},{"$f":"I39","v":0.33},{"$f":"J39","v":0.22},{"$f":"K39","v":0.45},{"$f":"L39","v":0.39},{"$f":"M39","v":0.28000000000000003},{"$f":"N39","v":0.33},{"$f":"O39","v":13.8},16,19.399999999999999,null,{"$f":"S39","v":1.3},0.6,null,null,{"$f":"W39","v":0.5},0.5]
[null,"Office building",0.09,0.3,0.61,0.08,0.23,0.69,0.33,0.22,0.45,0.39,0.28000000000000003,0.33,{"$f":"O40","v":13.8},16,19.399999999999999,null,{"$f":"S40","v":1.3},0.6,null,null,{"$f":"W40","v":0.5},0.5]
[null,"Kindergarten",{"$f":"C41","v":0.09},{"$f":"D41","v":0.3},{"$f":"E41","v":0.61},{"$f":"F41","v":0.08},{"$f":"G41","v":0.23},{"$f":"H41","v":0.69},{"$f":"I41","v":0.33},{"$f":"J41","v":0.22},{"$f":"K41","v":0.45},{"$f":"L41","v":0.39},{"$f":"M41","v":0.28000000000000003},{"$f":"N41","v":0.33},{"$f":"O41","v":13.8},16,19.399999999999999,null,{"$f":"S41","v":1.3},0.6,null,null,{"$f":"W41","v":0.5},0.5]
[null,"School",{"$f":"C42","v":0.09},0.3,0.61,0.08,0.23,0.69,0.33,0.22,0.45,0.39,0.28000000000000003,0.33,{"$f":"O42","v":13.8},16,19.399999999999999,null,{"$f":"S42","v":1.3},0.6,null,null,{"$f":"W42","v":0.5},0.5]
[null,"University/Collage",0.09,0.3,0.61,0.08,0.23,0.69,0.33,0.22,0.45,0.39,0.28000000000000003,0.33,{"$f":"O43","v":13.8},16,19.399999999999999,null,{"$f":"S43","v":1.3},0.6,null,null,{"$f":"W43","v":0.5},0.5]
[null,"Hospital",0.09,0.3,0.61,0.08,0.23,0.69,0.33,0.22,0.45,0.39,0.28000000000000003,0.33,{"$f":"O44","v":13.8},16,19.399999999999999,null,{"$f":"S44","v":1.3},0.6,null,null,{"$f":"W44","v":0.5},0.5]
[null,"Nursing home",0.09,0.3,0.61,0.08,0.23,0.69,0.33,0.22,0.45,0.39,0.28000000000000003,0.33,{"$f":"O45","v":13.8},16,19.399999999999999,null,{"$f":"S45","v":1.3},0.6,null,null,{"$f":"W45","v":0.5},0.5]
[null,"Hotel",0.09,0.3,0.61,0.08,0.23,0.69,0.33,0.22,0.45,0.39,0.28000000000000003,0.33,{"$f":"O46","v":13.8},16,19.399999999999999,null,{"$f":"S46","v":1.3},0.6,null,null,{"$f":"W46","v":0.5},0.5]
[null,"Sports Facility",0.09,0.3,0.61,0.08,0.23,0.69,0.33,0.22,0.45,0.39,0.28000000000000003,0.33,{"$f":"O47","v":13.8},16,19.399999999999999,null,{"$f":"S47","v":1.3},0.6,null,null,{"$f":"W47","v":0.5},0.5]
[null,"Comercial building",{"$f":"C39","v":0.11},{"$f":"D39","v":0.5},0.39,0.08,0.23,0.69,0.33,0.22,0.45,0.39,0.28000000000000003,0.33,{"$f":"O48","v":13.8},16,19.399999999999999,null,{"$f":"S48","v":1.3},0.6,null,null,{"$f":"W48","v":0.5},0.5]
[null,"Cultural building",{"$f":"C49","v":0.11},{"$f":"D49","v":0.5},{"$f":"E49","v":0.39},{"$f":"F49","v":0.08},{"$f":"G49","v":0.23},{"$f":"H49","v":0.69},{"$f":"I49","v":0.33},{"$f":"J49","v":0.22},{"$f":"K49","v":0.45},{"$f":"L49","v":0.39},{"$f":"M49","v":0.28000000000000003},{"$f":"N49","v":0.33},{"$f":"O49","v":13.8},16,19.399999999999999,null,{"$f":"S49","v":1.3},0.6,null,null,{"$f":"W49","v":0.5},0.5]
[null,"Industry/Workshop",{"$f":"C48","v":0.09},{"$f":"D48","v":0.3},0.61,0.08,0.23,0.69,0.33,0.22,0.45,0.39,0.28000000000000003,0.33,{"$f":"O50","v":13.8},16,19.399999999999999,null,{"$f":"S50","v":1.3},0.6,null,null,{"$f":"W50","v":0.5},0.5]
[]
["Oslo, Groruddalen knutepunkt",null,"Walk/bike","Public transport","Car","Walk/bike","Public transport","Car","Walk/bike","Public transport","Car","Walk/bike","Public transport","Car","Public\nTransport","Car","Public\nTransport",null,"Car","% using track",null,null,"% below 50 km/h","% above 50 km/h"]
[null,"Residential individual housing",0.2,0.5,0.3,0.17,0.28000000000000003,0.55000000000000004,0.46,0.22,0.32,0.44,0.28000000000000003,0.28000000000000003,13.8,16,19.399999999999999,null,1.3,0.6,null,null,0.5,0.5]
[null,"Residential apartment building",{"$f":"C54","v":0.2},{"$f":"D54","v":0.5},{"$f":"E54","v":0.3},{"$f":"F54","v":0.17},{"$f":"G54","v":0.28000000000000003},{"$f":"H54","v":0.55000000000000004},{"$f":"I54","v":0.46},{"$f":"J54","v":0.22},{"$f":"K54","v":0.32},{"$f":"L54","v":0.44},{"$f":"M54","v":0.28000000000000003},{"$f":"N54","v":0.28000000000000003},{"$f":"O54","v":13.8},16,19.399999999999999,null,{"$f":"S54","v":1.3},0.6,null,null,{"$f":"W54","v":0.5},0.5]
[null,"Office building",0.15,0.37,0.48,0.17,0.28000000000000003,0.55000000000000004,0.46,0.22,0.32,0.43,0.25,0.32,{"$f":"O55","v":13.8},16,19.399999999999999,null,{"$f":"S55","v":1.3},0.6,null,null,{"$f":"W55","v":0.5},0.5]
[null,"Kindergarten",{"$f":"C56","v":0.15},{"$f":"D56","v":0.37},{"$f":"E56","v":0.48},{"$f":"F56","v":0.17},{"$f":"G56","v":0.28000000000000003},{"$f":"H56","v":0.55000000000000004},{"$f":"I56","v":0.46},{"$f":"J56","v":0.22},{"$f":"K56","v":0.32},{"$f":"L56","v":0.43},{"$f":"M56","v":0.25},{"$f":"N56","v":0.32},{"$f":"O56","v":13.8},16,19.399999999999999,null,{"$f":"S56","v":1.3},0.6,null,null,{"$f":"W56","v":0.5},0.5]
[null,"School",{"$f":"C57","v":0.15},0.37,0.48,0.17,0.28000000000000003,0.55000000000000004,0.46,0.22,0.32,0.43,0.25,0.32,{"$f":"O57","v":13.8},16,19.399999999999999,null,{"$f":"S57","v":1.3},0.6,null,null,{"$f":"W57","v":0.5},0.5]
[null,"University/Collage",0.15,0.37,0.48,0.17,0.28000000000000003,0.55000000000000004,0.46,0.22,0.32,0.43,0.25,0.32,{"$f":"O58","v":13.8},16,19.399999999999999,null,{"$f":"S58","v":1.3},0.6,null,null,{"$f":"W58","v":0.5},0.5]
[null,"Hospital",0.15,0.37,0.48,0.17,0.28000000000000003,0.55000000000000004,0.46,0.22,0.32,0.43,0.25,0.32,{"$f":"O59","v":13.8},16,19.399999999999999,null,{"$f":"S59","v":1.3},0.6,null,null,{"$f":"W59","v":0.5},0.5]
[null,"Nursing home",0.15,0.37,0.48,0.17,0.28000000000000003,0.55000000000000004,0.46,0.22,0.32,0.43,0.25,0.32,{"$f":"O60","v":13.8},16,19.399999999999999,null,{"$f":"S60","v":1.3},0.6,null,null,{"$f":"W60","v":0.5},0.5]
[null,"Hotel",0.15,0.37,0.48,0.17,0.28000000000000003,0.55000000000000004,0.46,0.22,0.32,0.43,0.25,0.32,{"$f":"O61","v":13.8},16,19.399999999999999,null,{"$f":"S61","v":1.3},0.6,null,null,{"$f":"W61","v":0.5},0.5]
[null,"Sports Facility",0.15,0.37,0.48,0.17,0.28000000000000003,0.55000000000000004,0.46,0.22,0.32,0.43,0.25,0.32,{"$f":"O62","v":13.8},16,19.399999999999999,null,{"$f":"S62","v":1.3},0.6,null,null,{"$f":"W62","v":0.5},0.5]
[null,"Comercial building",{"$f":"C54","v":0.2},{"$f":"D54","v":0.5},0.3,0.17,0.28000000000000003,0.55000000000000004,0.46,0.22,0.32,0.44,0.28000000000000003,0.28000000000000003,{"$f":"O63","v":13.8},16,19.399999999999999,null,{"$f":"S63","v":1.3},0.6,null,null,{"$f":"W63","v":0.5},0.5]
[null,"Cultural building",{"$f":"C64","v":0.2},{"$f":"D64","v":0.5},{"$f":"E64","v":0.3},{"$f":"F64","v":0.17},{"$f":"G64","v":0.28000000000000003},{"$f":"H64","v":0.55000000000000004},{"$f":"I64","v":0.46},{"$f":"J64","v":0.22},{"$f":"K64","v":0.32},{"$f":"L64","v":0.44},{"$f":"M64","v":0.28000000000000003},{"$f":"N64","v":0.28000000000000003},{"$f":"O64","v":13.8},16,19.399999999999999,null,{"$f":"S64","v":1.3},0.6,null,null,{"$f":"W64","v":0.5},0.5]
[null,"Industry/Workshop",{"$f":"C63","v":0.15},{"$f":"D63","v":0.37},0.48,0.17,0.28000000000000003,0.55000000000000004,0.46,0.22,0.32,0.43,0.25,0.32,{"$f":"O65","v":13.8},16,19.399999999999999,null,{"$f":"S65","v":1.3},0.6,null,null,{"$f":"W65","v":0.5},0.5]
[]
["Bergen Kommune",null,"Walk/bike","Public transport","Car","Walk/bike","Public transport","Car","Walk/bike","Public transport","Car","Walk/bike","Public transport","Car","Public\nTransport","Car","Public\nTransport",null,"Car","% using track",null,null,"% below 50 km/h","% above 50 km/h"]
[null,"Residential individual housing",0.27,0.25,0.48,0.09,0.12,0.79,0.41,0.11,0.48,0.32,0.1,0.57999999999999996,12.3,12.9,15,null,1.3,0.2,null,null,0.6,0.4]
[null,"Residential apartment building",{"$f":"C69","v":0.27},{"$f":"D69","v":0.25},0.48,0.09,0.12,0.79,0.41,0.11,0.48,0.32,0.1,0.57999999999999996,{"$f":"O69","v":12.3},12.9,15,null,{"$f":"S69","v":1.3},0.2,null,null,{"$f":"W69","v":0.6},0.4]
[null,"Office building",{"$f":"C70","v":0.27},{"$f":"D70","v":0.25},0.48,0.09,0.12,0.79,0.41,0.11,0.48,0.32,0.1,0.57999999999999996,12.3,12.9,15,null,{"$f":"S70","v":1.3},0.2,null,null,{"$f":"W70","v":0.6},0.4]
[null,"Kindergarten",{"$f":"C71","v":0.27},{"$f":"D71","v":0.25},0.48,0.09,0.12,0.79,0.41,0.11,0.48,0.32,0.1,0.57999999999999996,{"$f":"O71","v":12.3},12.9,15,null,{"$f":"S71","v":1.3},0.2,null,null,{"$f":"W71","v":0.6},0.4]
[null,"School",{"$f":"C72","v":0.27},0.25,0.48,0.09,0.12,0.79,0.41,0.11,0.48,0.32,0.1,0.57999999999999996,{"$f":"O72","v":12.3},12.9,15,null,{"$f":"S72","v":1.3},0.2,null,null,{"$f":"W72","v":0.6},0.4]
[null,"University/Collage",0.27,0.25,0.48,0.09,0.12,0.79,0.41,0.11,0.48,0.32,0.1,0.57999999999999996,{"$f":"O73","v":12.3},12.9,15,null,{"$f":"S73","v":1.3},0.2,null,null,{"$f":"W73","v":0.6},0.4]
[null,"Hospital",0.27,0.25,0.48,0.09,0.12,0.79,0.41,0.11,0.48,0.32,0.1,0.57999999999999996,{"$f":"O74","v":12.3},12.9,15,null,{"$f":"S74","v":1.3},0.2,null,null,{"$f":"W74","v":0.6},0.4]
[null,"Nursing home",0.27,0.25,0.48,0.09,0.12,0.79,0.41,0.11,0.48,0.32,0.1,0.57999999999999996,{"$f":"O75","v":12.3},12.9,15,null,{"$f":"S75","v":1.3},0.2,null,null,{"$f":"W75","v":0.6},0.4]
[null,"Hotel",0.27,0.25,0.48,0.09,0.12,0.79,0.41,0.11,0.48,0.32,0.1,0.57999999999999996,{"$f":"O76","v":12.3},12.9,15,null,{"$f":"S76","v":1.3},0.2,null,null,{"$f":"W76","v":0.6},0.4]
[null,"Sports Facility",0.27,0.25,0.48,0.09,0.12,0.79,0.41,0.11,0.48,0.32,0.1,0.57999999999999996,{"$f":"O77","v":12.3},12.9,15,null,{"$f":"S77","v":1.3},0.2,null,null,{"$f":"W77","v":0.6},0.4]
[null,"Comercial building",{"$f":"C69","v":0.27},{"$f":"D69","v":0.25},0.48,0.09,0.12,0.79,0.41,0.11,0.48,0.32,0.1,0.57999999999999996,{"$f":"O78","v":12.3},12.9,15,null,{"$f":"S78","v":1.3},0.2,null,null,{"$f":"W78","v":0.6},0.4]
[null,"Cultural building",{"$f":"C79","v":0.27},{"$f":"D79","v":0.25},0.48,0.09,0.12,0.79,0.41,0.11,0.48,0.32,0.1,0.57999999999999996,{"$f":"O79","v":12.3},12.9,15,null,{"$f":"S79","v":1.3},0.2,null,null,{"$f":"W79","v":0.6},0.4]
[null,"Industry/Workshop",{"$f":"C78","v":0.27},{"$f":"D78","v":0.25},0.48,0.09,0.12,0.79,0.41,0.11,0.48,0.32,0.1,0.57999999999999996,{"$f":"O80","v":12.3},12.9,15,null,{"$f":"S80","v":1.3},0.2,null,null,{"$f":"W80","v":0.6},0.4]
[]
["Bergen Sentrum",null,"Walk/bike","Public transport","Car","Walk/bike","Public transport","Car","Walk/bike","Public transport","Car","Walk/bike","Public transport","Car","Public\nTransport","Car","Public\nTransport",null,"Car","% using track",null,null,"% below 50 km/h","% above 50 km/h"]
[null,"Residential individual housing",0.4,0.21,0.39,0.09,0.12,0.79,0.51,0.09,0.4,0.32,0.1,0.57999999999999996,12.3,12.3,15,null,1.3,0.2,null,null,0.6,0.4]
[null,"Residential apartment building",{"$f":"C84","v":0.4},{"$f":"D84","v":0.21},0.39,0.09,0.12,0.79,0.51,0.09,0.4,0.32,0.1,0.57999999999999996,{"$f":"O84","v":12.3},12.3,15,null,{"$f":"S84","v":1.3},0.2,null,null,{"$f":"W84","v":0.6},0.4]
[null,"Office building",0.28000000000000003,0.28000000000000003,0.79,0.09,0.12,0.79,0.51,0.09,0.4,0.32,0.1,0.57999999999999996,{"$f":"O85","v":12.3},12.3,15,null,{"$f":"S85","v":1.3},0.2,null,null,{"$f":"W85","v":0.6},0.4]
[null,"Kindergarten",{"$f":"C86","v":0.28000000000000003},{"$f":"D86","v":0.28000000000000003},0.79,0.09,0.12,0.79,0.51,0.09,0.4,0.32,0.1,0.57999999999999996,{"$f":"O86","v":12.3},12.3,15,null,{"$f":"S86","v":1.3},0.2,null,null,{"$f":"W86","v":0.6},0.4]
[null,"School",{"$f":"C87","v":0.28000000000000003},0.28000000000000003,0.79,0.09,0.12,0.79,0.51,0.09,0.4,0.32,0.1,0.57999999999999996,{"$f":"O87","v":12.3},12.3,15,null,{"$f":"S87","v":1.3},0.2,null,null,{"$f":"W87","v":0.6},0.4]
[null,"University/Collage",0.28000000000000003,0.28000000000000003,0.79,0.09,0.12,0.79,0.51,0.09,0.4,0.32,0.1,0.57999999999999996,{"$f":"O88","v":12.3},12.3,15,null,{"$f":"S88","v":1.3},0.2,null,null,{"$f":"W88","v":0.6},0.4]
[null,"Hospital",0.28000000000000003,0.28000000000000003,0.79,0.09,0.12,0.79,0.51,0.09,0.4,0.32,0.1,0.57999999999999996,{"$f":"O89","v":12.3},12.3,15,null,{"$f":"S89","v":1.3},0.2,null,null,{"$f":"W89","v":0.6},0.4]
[null,"Nursing home",0.28000000000000003,0.28000000000000003,0.79,0.09,0.12,0.79,0.51,0.09,0.4,0.32,0.1,0.57999999999999996,{"$f":"O90","v":12.3},12.3,15,null,{"$f":"S90","v":1.3},0.2,null,null,{"$f":"W90","v":0.6},0.4]
[null,"Hotel",0.28000000000000003,0.28000000000000003,0.79,0.09,0.12,0.79,0.51,0.09,0.4,0.32,0.1,0.57999999999999996,{"$f":"O91","v":12.3},12.3,15,null,{"$f":"S91","v":1.3},0.2,null,null,{"$f":"W91","v":0.6},0.4]
[null,"Sports Facility",0.28000000000000003,0.28000000000000003,0.79,0.09,0.12,0.79,0.51,0.09,0.4,0.32,0.1,0.57999999999999996,{"$f":"O92","v":12.3},12.3,15,null,{"$f":"S92","v":1.3},0.2,null,null,{"$f":"W92","v":0.6},0.4]
[null,"Comercial building",{"$f":"C84","v":0.4},{"$f":"D84","v":0.21},0.39,0.09,0.12,0.79,0.51,0.09,0.4,0.32,0.1,0.57999999999999996,{"$f":"O93","v":12.3},12.3,15,null,{"$f":"S93","v":1.3},0.2,null,null,{"$f":"W93","v":0.6},0.4]
[null,"Cultural building",{"$f":"C94","v":0.4},{"$f":"D94","v":0.21},0.39,0.09,0.12,0.79,0.51,0.09,0.4,0.32,0.1,0.57999999999999996,{"$f":"O94","v":12.3},12.3,15,null,{"$f":"S94","v":1.3},0.2,null,null,{"$f":"W94","v":0.6},0.4]
[null,"Industry/Workshop",{"$f":"C93","v":0.28000000000000003},{"$f":"D93","v":0.28000000000000003},0.79,0.09,0.12,0.79,0.51,0.09,0.4,0.32,0.1,0.57999999999999996,{"$f":"O95","v":12.3},12.3,15,null,{"$f":"S95","v":1.3},0.2,null,null,{"$f":"W95","v":0.6},0.4]
[]
["Bergen Kommune, utenfor sentrum",null,"Walk/bike","Public transport","Car","Walk/bike","Public transport","Car","Walk/bike","Public transport","Car","Walk/bike","Public transport","Car","Public\nTransport","Car","Public\nTransport",null,"Car","% using track",null,null,"% below 50 km/h","% above 50 km/h"]
[null,"Residential individual housing",0.12,0.16,0.72,0.09,0.12,0.79,0.17,7.0000000000000007E-2,0.76,0.32,0.1,0.57999999999999996,12.3,12.3,15,null,1.3,0.2,null,null,0.6,0.4]
[null,"Residential apartment building",{"$f":"C99","v":0.12},{"$f":"D99","v":0.16},0.72,0.09,0.12,0.79,0.17,7.0000000000000007E-2,0.76,0.32,0.1,0.57999999999999996,{"$f":"O99","v":12.3},12.3,15,null,{"$f":"S99","v":1.3},0.2,null,null,{"$f":"W99","v":0.6},0.4]
[null,"Office building",{"$f":"C100","v":0.12},{"$f":"D100","v":0.16},0.72,0.09,0.12,0.79,0.17,7.0000000000000007E-2,0.76,0.32,0.1,0.57999999999999996,12.3,12.3,15,null,{"$f":"S100","v":1.3},0.2,null,null,{"$f":"W100","v":0.6},0.4]
[null,"Kindergarten",{"$f":"C101","v":0.12},{"$f":"D101","v":0.16},0.72,0.09,0.12,0.79,0.17,7.0000000000000007E-2,0.76,0.32,0.1,0.57999999999999996,{"$f":"O101","v":12.3},12.3,15,null,{"$f":"S101","v":1.3},0.2,null,null,{"$f":"W101","v":0.6},0.4]
[null,"School",{"$f":"C102","v":0.12},0.16,0.72,0.09,0.12,0.79,0.17,7.0000000000000007E-2,0.76,0.32,0.1,0.57999999999999996,{"$f":"O102","v":12.3},12.3,15,null,{"$f":"S102","v":1.3},0.2,null,null,{"$f":"W102","v":0.6},0.4]
[null,"University/Collage",0.12,0.16,0.72,0.09,0.12,0.79,0.17,7.0000000000000007E-2,0.76,0.32,0.1,0.57999999999999996,{"$f":"O103","v":12.3},12.3,15,null,{"$f":"S103","v":1.3},0.2,null,null,{"$f":"W103","v":0.6},0.4]
[null,"Hospital",0.12,0.16,0.72,0.09,0.12,0.79,0.17,7.0000000000000007E-2,0.76,0.32,0.1,0.57999999999999996,{"$f":"O104","v":12.3},12.3,15,null,{"$f":"S104","v":1.3},0.2,null,null,{"$f":"W104","v":0.6},0.4]
[null,"Nursing home",0.12,0.16,0.72,0.09,0.12,0.79,0.17,7.0000000000000007E-2,0.76,0.32,0.1,0.57999999999999996,{"$f":"O105","v":12.3},12.3,15,null,{"$f":"S105","v":1.3},0.2,null,null,{"$f":"W105","v":0.6},0.4]
[null,"Hotel",0.12,0.16,0.72,0.09,0.12,0.79,0.17,7.0000000000000007E-2,0.76,0.32,0.1,0.57999999999999996,{"$f":"O106","v":12.3},12.3,15,null,{"$f":"S106","v":1.3},0.2,null,null,{"$f":"W106","v":0.6},0.4]
[null,"Sports Facility",0.12,0.16,0.72,0.09,0.12,0.79,0.17,7.0000000000000007E-2,0.76,0.32,0.1,0.57999999999999996,{"$f":"O107","v":12.3},12.3,15,null,{"$f":"S107","v":1.3},0.2,null,null,{"$f":"W107","v":0.6},0.4]
[null,"Comercial building",{"$f":"C99","v":0.12},{"$f":"D99","v":0.16},0.72,0.09,0.12,0.79,0.17,7.0000000000000007E-2,0.76,0.32,0.1,0.57999999999999996,{"$f":"O108","v":12.3},12.3,15,null,{"$f":"S108","v":1.3},0.2,null,null,{"$f":"W108","v":0.6},0.4]
[null,"Cultural building",{"$f":"C109","v":0.12},{"$f":"D109","v":0.16},0.72,0.09,0.12,0.79,0.17,7.0000000000000007E-2,0.76,0.32,0.1,0.57999999999999996,{"$f":"O109","v":12.3},12.3,15,null,{"$f":"S109","v":1.3},0.2,null,null,{"$f":"W109","v":0.6},0.4]
[null,"Industry/Workshop",{"$f":"C108","v":0.12},{"$f":"D108","v":0.16},0.72,0.09,0.12,0.79,0.17,7.0000000000000007E-2,0.76,0.32,0.1,0.57999999999999996,{"$f":"O110","v":12.3},12.3,15,null,{"$f":"S110","v":1.3},0.2,null,null,{"$f":"W110","v":0.6},0.4]
[]
[]
[]
["Energy intensity transport"]
["Energy use",null,"Fossile \n[kwh/km]","Electric\n[kWh/km]"]
[null,"Buss",{"$f":"J155","v":3.6910324074074068},{"$f":"J156","v":1.28}]
[null,"Rail",{"$f":"J157","v":14.5},{"$f":"J158","v":2.2000000000000002}]
[null,"Car",{"$f":"J149","v":0.62648611111111108},{"$f":"J152","v":0.17}]
[null,"Truck",{"$f":"J153","v":0.74831944444444431},{"$f":"J154","v":0.6}]
[]
["Emissions transport"]
["Only direct emissions",null,"Fossile \n[g/km]","Electric\n[g/km]"]
[null,"Buss",{"$f":"S155","v":981.81462037037022},{"$f":"S152","v":0}]
[null,"Rail",{"$f":"S157","v":3857},{"$f":"S158","v":0}]
[null,"Car",{"$f":"S149","v":165.45384722222224},{"$f":"S152","v":0}]
[null,"Truck",{"$f":"S153","v":199.05297222222219},{"$f":"S154","v":0}]
[]
["Direct emissions and fuel production emissions",null,"Fossile \n[g/km]","Electric\n[g/km]"]
[null,"Buss",{"$f":"T155","v":1166.3662407407407},{"$f":"T156","v":157.44}]
[null,"Rail",{"$f":"T157","v":4582.0000000000009},{"$f":"T158","v":270.60000000000002}]
[null,"Car",{"$f":"T149","v":200.61538020833333},{"$f":"T152","v":20.91}]
[null,"Truck",{"$f":"T153","v":236.46894444444445},{"$f":"T154","v":73.8}]
[]
["All transport related emissions",null,"Fossile \n[g/km]","Electric\n[g/km]"]
[null,"Buss",{"$f":"U155","v":3166.3662407407405},{"$f":"U156","v":2157.44}]
[null,"Rail",{"$f":"U157","v":4582.0000000000009},{"$f":"U158","v":270.60000000000002}]
[null,"Car",{"$f":"U149","v":293.61538020833331},{"$f":"U152","v":150.91000000000003}]
[null,"Truck",{"$f":"U153","v":2236.4689444444443},{"$f":"U154","v":2073.8000000000002}]
[]
["Self defined - unrelated to standard energy intensity",null,"Fossile \n[g/km]","Electric\n[g/km]"]
[null,"Buss"]
[null,"Rail"]
[null,"Car"]
[null,"Truck"]
[]
[null,"Transport type","Fuel","Road speed","Share diesel fossil car","Drivstofforbruk","Massetetthet","Drivstofforbruk","Energiinnhold drivstoff","Energiintensitet","Direkte utslipp",null,null,"Utslipp produksjon av drivstoff",null,null,"Prod og vedlikehold av kjøretøy","Andre indirekte utslipp","Direct","Direct and production of fuel","All emissions related to transport"]
[null,null,null,null,null,"g/km","kg/L","L/km","kWh/L","kWh/vkm"," kgCO2e/L","kgCO2e/kWh"," kgCO2e/vkm"," kgCO2e/L","kgCO2e/kWh"," kgCO2e/vkm","kgCO2e/vkm"," kgCO2e/vkm","g/vkm","g/vkm","g/vkm"]
["Average road, no biofuel mix","Car","Fossil",null,0.65,{"$f":"F151*$E$149+F150*(1-$E$149)","v":52.45},0.8046511627906977,6.5627256944444434E-2,9.6111111111111107,0.62648611111111108,2.5409999999999999,0.26424999999999998,0.16545384722222223,0.53500000000000003,5.6124999999999994E-2,{"$f":"O149*$J149","v":3.5161532986111105E-2},{"$f":"Q151*$E$149+Q150*(1-$E$149)","v":8.3000000000000004E-2},{"$f":"R151*$E$149+R150*(1-$E$149)","v":0.01},{"$f":"M149*1000","v":165.45384722222224},{"$f":"(M149+P149)*1000","v":200.61538020833333},{"$f":"(M149+P149+Q149+R149)*1000","v":293.61538020833331}]
[null,null,"Gasoline",null,null,57,{"$f":"$D$209","v":0.7441860465116279},{"$f":"F150*1/(G150*1000)","v":7.6593750000000002E-2},{"$f":"$E$209","v":8.8888888888888893},{"$f":"H150*I150","v":0.6808333333333334},{"$f":"$F$209","v":2.3199999999999998},{"$f":"$K150/I150","v":0.26099999999999995},{"$f":"L150*$J150","v":0.17769749999999998},{"$f":"$G$209","v":0.6},{"$f":"$N150/I150","v":6.7499999999999991E-2},4.5956249999999997E-2,8.3000000000000004E-2,0.01,177.69749999999999,223.65374999999997,316.65375]
[null,null,"Diesel",null,null,50,{"$f":"$D$210","v":0.83720930232558144},{"$f":"F151*1/(G151*1000)","v":5.9722222222222218E-2},{"$f":"$E$210","v":10},{"$f":"H151*I151","v":0.59722222222222221},{"$f":"$F$210","v":2.66},{"$f":"$K151/I151","v":0.26600000000000001},{"$f":"L151*$J151","v":0.15886111111111112},{"$f":"$G$210","v":0.5},{"$f":"$N151/I151","v":0.05},2.9861111111111113E-2,8.3000000000000004E-2,0.01,158.86111111111111,188.72222222222223,281.72222222222229]
[null,null,"Electricity",null,null,null,null,null,null,0.17,null,0,null,null,{"$f":"$H$208","v":0.123},2.0910000000000002E-2,0.12,0.01,0,20.91,150.91000000000003]
[null,"Truck","Fossil",null,1,{"$f":"AVERAGE(F190,F191)","v":62.65},{"$f":"$D$210","v":0.83720930232558144},{"$f":"F153*1/(G153*1000)","v":7.4831944444444437E-2},{"$f":"$E$210","v":10},{"$f":"H153*I153","v":0.74831944444444431},{"$f":"$F$210","v":2.66},{"$f":"$K153/I153","v":0.26600000000000001},{"$f":"L153*$J153","v":0.19905297222222221},{"$f":"$G$210","v":0.5},{"$f":"$N153/I153","v":0.05},3.7415972222222219E-2,1,1,199.05297222222219,236.46894444444445,2236.4689444444443]
[null,null,"Electricity",null,null,null,null,null,null,0.6,null,0,null,null,{"$f":"$H$208","v":0.123},7.3799999999999991E-2,1,1,0,73.8,2073.8000000000002]
[null,"Bus","Fossil",null,1,{"$f":"AVERAGE(F196,F197)","v":309.01666666666665},{"$f":"$D$210","v":0.83720930232558144},{"$f":"F155*1/(G155*1000)","v":0.36910324074074069},{"$f":"$E$210","v":10},{"$f":"H155*I155","v":3.6910324074074068},{"$f":"$F$210","v":2.66},{"$f":"$K155/I155","v":0.26600000000000001},{"$f":"L155*$J155","v":0.98181462037037026},{"$f":"$G$210","v":0.5},{"$f":"$N155/I155","v":0.05},0.18455162037037035,1,1,981.81462037037022,1166.3662407407407,3166.3662407407405]
[null,null,"Electricity",null,null,null,null,null,null,1.28,null,0,null,null,{"$f":"$H$208","v":0.123},0.15744,1,1,0,157.44,2157.44]
[null,"Rail",{"$f":"C167","v":"Fossil"},null,null,{"$f":"F167","v":0},{"$f":"G167","v":0},1.45,10,14.5,2.66,0.26600000000000001,3.8570000000000002,0.5,0.05,0.72500000000000009,0,0,3857,4582.0000000000009,4582.0000000000009]
[null,"Metro (Oslo)","Electricity",null,15.7,null,null,null,null,2.2000000000000002,null,0,null,null,0.123,0.27060000000000001,null,null,0,270.60000000000002,270.60000000000002]
[]
[]
[null,"Transport type","Fuel",null,"PERSONBELEGG","Drivstofforbruk","Massetetthet","Drivstofforbruk","Energiinnhold drivstoff","Energiintensitet","Direkte utslipp",null,null,"Utslipp produksjon av drivstoff",null,null,"Prod og vedlikehold av kjøretøy","Andre indirekte utslipp","Direct","Direct and production of fuel","All emissions related to transport"]
[null,null,null,null,null,"g/km","kg/L","L/km","kWh/L","kWh/vkm"," kgCO2e/L","kgCO2e/kWh"," kgCO2e/vkm"," kgCO2e/L","kgCO2e/kWh"," kgCO2e/vkm","kgCO2e/vkm"," kgCO2e/vkm","g/vkm","g/vkm","g/vkm"]
[null,null,"Fossil"]
[null,"Metro (Oslo)","Electricity",null,15.7,null,null,null,null,2.2000000000000002,null,0,null,null,{"$f":"$H$208","v":0.123},{"$f":"O164*$J164","v":0.27060000000000001},null,null,{"$f":"M164*1000","v":0},{"$f":"(M164+P164)*1000","v":270.60000000000002},{"$f":"(M164+P164+Q164+R164)*1000","v":270.60000000000002}]
[null,null,"Fossil"]
[null,"Tram (Oslo)","Electricity",null,37.5,null,null,null,null,5.3,null,0,null,null,{"$f":"$H$208","v":0.123},0.65189999999999992,null,null,0,651.9,651.9]
[null,null,"Fossil",null,47,null,null,1.45,{"$f":"$E$210","v":10},{"$f":"H167*I167","v":14.5},{"$f":"$F$210","v":2.66},{"$f":"$K167/I167","v":0.26600000000000001},{"$f":"L167*$J167","v":3.8570000000000002},{"$f":"$G$210","v":0.5},{"$f":"$N167/I167","v":0.05},0.72500000000000009,null,null,{"$f":"M167*1000","v":3857},{"$f":"(M167+P167)*1000","v":4582.0000000000009},{"$f":"(M167+P167+Q167+R167)*1000","v":4582.0000000000009}]
[null,"Train","Electricity",null,47,null,null,null,null,5.6,null,0,null,null,{"$f":"$H$208","v":0.123},0.68879999999999997,null,null,0,688.8,688.8]
[]
[null,"Car","Gasoline","<50",null,53.3,{"$f":"$D$209","v":0.7441860465116279},{"$f":"F170*1/(G170*1000)","v":7.1621875000000002E-2},{"$f":"$E$209","v":8.8888888888888893},{"$f":"H170*I170","v":0.63663888888888898},{"$f":"$F$209","v":2.3199999999999998},{"$f":"$K170/I170","v":0.26099999999999995},{"$f":"L170*$J170","v":0.16616275},{"$f":"$G$209","v":0.6},{"$f":"$N170/I170","v":6.7499999999999991E-2},4.2973125000000001E-2]
[null,"Rural",null,">=50",null,45.225000000000016,{"$f":"$D$209","v":0.7441860465116279},{"$f":"F171*1/(G171*1000)","v":6.0771093750000026E-2},{"$f":"$E$209","v":8.8888888888888893},{"$f":"H171*I171","v":0.54018750000000026},{"$f":"$F$209","v":2.3199999999999998},0.26099999999999995,0.14098893750000005,{"$f":"$G$209","v":0.6},6.7499999999999991E-2,3.646265625000001E-2]
[null,null,"Diesel","<50",null,45.599999999999994,{"$f":"$D$210","v":0.83720930232558144},{"$f":"F172*1/(G172*1000)","v":5.4466666666666656E-2},{"$f":"$E$210","v":10},{"$f":"H172*I172","v":0.54466666666666652},{"$f":"$F$210","v":2.66},0.26600000000000001,0.14488133333333331,{"$f":"$G$210","v":0.5},0.05,2.7233333333333328E-2]
[null,null,null,">=50",null,37.131250000000001,{"$f":"$D$210","v":0.83720930232558144},{"$f":"F173*1/(G173*1000)","v":4.4351215277777779E-2},{"$f":"$E$210","v":10},{"$f":"H173*I173","v":0.44351215277777778},{"$f":"$F$210","v":2.66},0.26600000000000001,0.1179742326388889,{"$f":"$G$210","v":0.5},0.05,2.217560763888889E-2]
[null,null,"Bioethanol","<50",null,84.885185185185208,{"$f":"$D$212","v":0.77777777777777779},{"$f":"J174/I174","v":0.10913809523809526},{"$f":"$E$212","v":5.833333333333333},{"$f":"J170","v":0.63663888888888898},{"$f":"$F$212","v":0},0,0,{"$f":"$G$212","v":1.5999999999999999},0.2742857142857143,0.1746209523809524]
[null,null,null,">=50",null,72.025000000000048,{"$f":"$D$212","v":0.77777777777777779},{"$f":"J175/I175","v":9.2603571428571479E-2},{"$f":"$E$212","v":5.833333333333333},{"$f":"J171","v":0.54018750000000026},{"$f":"$F$212","v":0},0,0,{"$f":"$G$212","v":1.5999999999999999},0.2742857142857143,0.14816571428571437]
[null,null,"Biodiesel","<50",null,52.994594594594588,{"$f":"$D$211","v":0.89189189189189189},{"$f":"J$176/I$176","v":5.9418181818181807E-2},{"$f":"$E$211","v":9.1666666666666661},{"$f":"J172","v":0.54466666666666652},{"$f":"$F$211","v":0},0,0,{"$f":"$G$211","v":2.3333333333333335},0.25454545454545457,0.13864242424242423]
[null,null,null,">=50",null,43.152533783783788,{"$f":"$D$211","v":0.89189189189189189},{"$f":"J177/I177","v":4.8383143939393941E-2},{"$f":"$E$211","v":9.1666666666666661},{"$f":"J$173","v":0.44351215277777778},{"$f":"$F$211","v":0},0,{"$f":"L$177*$J177","v":0},{"$f":"$G$211","v":2.3333333333333335},0.25454545454545457,{"$f":"$O$177*$J177","v":0.11289400252525254}]
[null,null,"Electricity","<50",null,null,null,null,null,0.17,null,0,{"$f":"L178*$J178","v":0},null,0.123,{"$f":"O178*$J178","v":2.0910000000000002E-2}]
[null,null,null,">=50",null,null,null,null,null,0.17,null,0,0,null,0.123,2.0910000000000002E-2]
[null,"Car","Gasoline","<50",null,58.8,{"$f":"$D$209","v":0.7441860465116279},{"$f":"F180*1/(G180*1000)","v":7.9012499999999999E-2},{"$f":"$E$209","v":8.8888888888888893},{"$f":"H180*I180","v":0.70233333333333337},{"$f":"$F$209","v":2.3199999999999998},{"$f":"$K180/I180","v":0.26099999999999995},0.18330899999999997,{"$f":"$G$209","v":0.6},{"$f":"$N180/I180","v":6.7499999999999991E-2},4.7407499999999998E-2]
[null,"Urban",null,">=50",null,45.237500000000004,{"$f":"$D$209","v":0.7441860465116279},{"$f":"F181*1/(G181*1000)","v":6.0787890625000007E-2},{"$f":"$E$209","v":8.8888888888888893},{"$f":"H181*I181","v":0.54033680555555563},{"$f":"$F$209","v":2.3199999999999998},0.26099999999999995,0.14102790625,{"$f":"$G$209","v":0.6},6.7499999999999991E-2,3.6472734375000003E-2]
[null,null,"Diesel","<50",null,55.2,{"$f":"$D$210","v":0.83720930232558144},{"$f":"F182*1/(G182*1000)","v":6.593333333333333E-2},{"$f":"$E$210","v":10},{"$f":"H182*I182","v":0.65933333333333333},{"$f":"$F$210","v":2.66},0.26600000000000001,0.17538266666666669,{"$f":"$G$210","v":0.5},0.05,3.2966666666666665E-2]
[null,null,null,">=50",null,38.318750000000001,{"$f":"$D$210","v":0.83720930232558144},{"$f":"F183*1/(G183*1000)","v":4.5769618055555551E-2},{"$f":"$E$210","v":10},{"$f":"H183*I183","v":0.4576961805555555},{"$f":"$F$210","v":2.66},0.26600000000000001,0.12174718402777777,{"$f":"$G$210","v":0.5},0.05,2.2884809027777776E-2]
[null,null,"Bioethanol","<50",null,93.644444444444446,{"$f":"$D$212","v":0.77777777777777779},{"$f":"J184/I184","v":0.12040000000000001},{"$f":"$E$212","v":5.833333333333333},{"$f":"J180","v":0.70233333333333337},{"$f":"$F$212","v":0},0,0,{"$f":"$G$212","v":1.5999999999999999},0.2742857142857143,0.19264000000000001]
[null,null,null,">=50",null,72.044907407407422,{"$f":"$D$212","v":0.77777777777777779},{"$f":"J185/I185","v":9.2629166666666679E-2},{"$f":"$E$212","v":5.833333333333333},{"$f":"J181","v":0.54033680555555563},{"$f":"$F$212","v":0},0,0,{"$f":"$G$212","v":1.5999999999999999},0.2742857142857143,0.14820666666666671]
[null,null,"Biodiesel","<50",null,64.151351351351352,{"$f":"$D$211","v":0.89189189189189189},{"$f":"J186/I186","v":7.1927272727272729E-2},{"$f":"$E$211","v":9.1666666666666661},{"$f":"J182","v":0.65933333333333333},{"$f":"$F$211","v":0},0,0,{"$f":"$G$211","v":2.3333333333333335},0.25454545454545457,0.16783030303030305]
[null,null,null,">=50",null,44.532601351351346,{"$f":"$D$211","v":0.89189189189189189},{"$f":"J187/I187","v":4.9930492424242419E-2},{"$f":"$E$211","v":9.1666666666666661},{"$f":"J183","v":0.4576961805555555},{"$f":"$F$211","v":0},0,0,{"$f":"$G$211","v":2.3333333333333335},0.25454545454545457,0.11650448232323232]
[null,null,"Electricity","<50",null,null,null,null,null,0.17,null,0,0,null,0.123,2.0910000000000002E-2]
[null,null,null,">=50",null,null,null,null,null,0.17,null,0,0,null,0.123,2.0910000000000002E-2]
[null,"Light","Diesel","<50",null,65.233333333333334,{"$f":"$D$210","v":0.83720930232558144},{"$f":"F190*1/(G190*1000)","v":7.7917592592592594E-2},{"$f":"$E$210","v":10},{"$f":"H190*I190","v":0.77917592592592588},{"$f":"$F$210","v":2.66},{"$f":"$K190/I190","v":0.26600000000000001},0.20726079629629629,{"$f":"$G$210","v":0.5},{"$f":"$N190/I190","v":0.05},3.8958796296296297E-2]
[null,null,null,">=50",null,60.066666666666663,{"$f":"$D$210","v":0.83720930232558144},{"$f":"F191*1/(G191*1000)","v":7.174629629629628E-2},{"$f":"$E$210","v":10},{"$f":"H191*I191","v":0.71746296296296275},{"$f":"$F$210","v":2.66},{"$f":"$K191/I191","v":0.26600000000000001},0.1908451481481481,{"$f":"$G$210","v":0.5},{"$f":"$N191/I191","v":0.05},3.587314814814814E-2]
[null,null,"Biodiesel","<50",null,76.241311411411431,{"$f":"$D$211","v":0.89189189189189189},{"$f":"J192/I192","v":8.5001010101010105E-2},{"$f":"$E$211","v":9.1666666666666661},{"$f":"J190","v":0.77917592592592588},{"$f":"$F$211","v":0},{"$f":"$K192/I192","v":0},0,{"$f":"$G$211","v":2.3333333333333335},{"$f":"$N192/I192","v":0.25454545454545457},0.19833569023569025]
[null,null,null,">=50",null,70.202781381381357,{"$f":"$D$211","v":0.89189189189189189},{"$f":"J193/I193","v":7.8268686868686849E-2},{"$f":"$E$211","v":9.1666666666666661},{"$f":"J191","v":0.71746296296296275},{"$f":"$F$211","v":0},{"$f":"$K193/I193","v":0},0,{"$f":"$G$211","v":2.3333333333333335},{"$f":"$N193/I193","v":0.25454545454545457},0.182626936026936]
[null,null,"Electricity","<50",null,null,null,null,null,0.6,null,0,0,null,0.123,7.3799999999999991E-2]
[null,null,null,">=50",null,null,null,null,null,0.6,null,0,0,null,0.123,7.3799999999999991E-2]
[null,"Bus","Diesel","<50",null,319.21666666666664,{"$f":"$D$210","v":0.83720930232558144},{"$f":"F196*1/(G196*1000)","v":0.38128657407407401},{"$f":"$E$210","v":10},{"$f":"H196*I196","v":3.8128657407407403},{"$f":"$F$210","v":2.66},{"$f":"$K196/I196","v":0.26600000000000001},1.014222287037037,{"$f":"$G$210","v":0.5},{"$f":"$N196/I196","v":0.05},0.19064328703703703]
[null,null,null,">=50",null,298.81666666666666,{"$f":"$D$210","v":0.83720930232558144},{"$f":"F197*1/(G197*1000)","v":0.35691990740740737},{"$f":"$E$210","v":10},{"$f":"H197*I197","v":3.5691990740740738},{"$f":"$F$210","v":2.66},{"$f":"$K197/I197","v":0.26600000000000001},0.94940695370370365,{"$f":"$G$210","v":0.5},{"$f":"$N197/I197","v":0.05},0.17845995370370371]
[null,null,"Biodiesel","<50",null,373.08376021021019,{"$f":"$D$211","v":0.89189189189189189},{"$f":"J198/I198","v":0.41594898989898987},{"$f":"$E$211","v":9.1666666666666661},{"$f":"J196","v":3.8128657407407403},{"$f":"$F$211","v":0},{"$f":"$K198/I198","v":0},0,{"$f":"$G$211","v":2.3333333333333335},{"$f":"$N198/I198","v":0.25454545454545457},0.97054764309764308]
[null,null,null,">=50",null,349.2413061561561,{"$f":"$D$211","v":0.89189189189189189},{"$f":"J199/I199","v":0.38936717171717172},{"$f":"$E$211","v":9.1666666666666661},{"$f":"J197","v":3.5691990740740738},{"$f":"$F$211","v":0},{"$f":"$K199/I199","v":0},0,{"$f":"$G$211","v":2.3333333333333335},{"$f":"$N199/I199","v":0.25454545454545457},0.90852340067340065]
[null,null,"Electricity","<50",null,null,null,null,null,1.28,null,0,0,null,0.123,0.15744]
[null,null,null,">=50",null,null,null,null,null,1.28,null,0,0,null,0.123,0.15744]
[null,"Rail","Electricity","<50",null,null,null,null,null,3.7452915397750712]
[null,null,null,">=50",null,null,null,null,null,3.7452915397750712,null,0,{"$f":"L203*$J203","v":0},null,0.123,{"$f":"O203*$J203","v":0.46067085939233376}]
[null,null,null,"Kilde","https://www.ssb.no/natur-og-miljo/artikler-og-publikasjoner/_attachment/225115?_ts=14ce05a5658","Universell enhet","Utregnet","Universell enhet","http://publikasjoner.nve.no/rapport/2018/rapport2018_88.pdf","Universell enhet, Miljødirektoratet"]
[]
[]
[null,"Energiinnhold  vekt [MJ/kg]","Energiinhold volum  [MJ/L]","Massetetthet [kg/L]","Energiinhold per volum [kWh/L]","Utslipp forrenning [kgCO2e/L]","Utslipp produksjon av drivstoff [kgCO2e/L]","Utslipp [kgCO2e/kWh]"]
["Elektrisitet",null,null,null,null,null,null,{"$f":"LocalEnergySupplyData!D3/1000","v":0.123}]
["Bensin",43,32,{"$f":"C209/B209","v":0.7441860465116279},{"$f":"C209/3.6","v":8.8888888888888893},2.3199999999999998,0.6]
["Diesel",43,36,{"$f":"C210/B210","v":0.83720930232558144},{"$f":"C210/3.6","v":10},2.66,0.5]
["Biodiesel",37,33,{"$f":"C211/B211","v":0.89189189189189189},{"$f":"C211/3.6","v":9.1666666666666661},0,{"$f":"0.14/0.03*G210","v":2.3333333333333335}]
["Ethanol",27,21,{"$f":"C212/B212","v":0.77777777777777779},{"$f":"C212/3.6","v":5.833333333333333},0,{"$f":"0.12/0.045*G209","v":1.5999999999999999}]
["Kilde","https://eur-lex.europa.eu/legal-content/EN/TXT/PDF/?uri=CELEX:32009L0028&from=EN","https://eur-lex.europa.eu/legal-content/EN/TXT/PDF/?uri=CELEX:32009L0028&from=EN","Utregnet","Utregnet","Lenger ned. Universalverdi","Beregnet utifra NS3720"]

{"sheet":"Test","index":4,"n_rows":56,"n_cols":82,"rows_kept":56,"cut":false,"hidden":true,"merged":[]}
[null,"Work","Service","Private errand","Utside Service","Goods transport","Other",null,"Walk/bike","Work","Service","Private errand","Utside Service","Goods transport","Other",null,"Walk/bike","Work","Service","Private errand","Utside Service","Goods transport","Other",null,"Walk/bike","Work","Service","Private errand","Utside Service","Goods transport","Other",null,"Walk/bike","Work","Service","Private errand","Utside Service","Goods transport","Other",null,"Walk/bike","Work","Service","Private errand","Utside Service","Goods transport","Other"]
["Residential individual housing",0,0,0,0,0,0,null,null,0,0,0,0,0,0,null,null,null,null,null,null,null,null,null,null,0,0,0,0,0,0,null,null,0,0,0,0,0,0,null,null,0,0,0,0,0,0,null,null,0,0,0,0,0,0,null,null,0,0,0,0,0,0,null,null,0,0,0,0,0,0,null,null,0,null,null,null,null,null,null,null,0]
["Residential apartment building",2489.6000000000004,311.20000000000005,3112,5290.4,311.20000000000005,0,null,null,497.92000000000007,52.904000000000011,1431.52,899.36800000000005,0,0,null,null,null,null,null,null,null,null,null,null,497.92000000000007,52.904000000000011,1431.52,899.36800000000005,0,0,null,null,0,0,0,0,0,0,null,null,0,0,0,0,0,0,null,null,0,0,0,0,0,0,null,null,0,0,0,0,0,0,null,null,0,0,0,0,0,0,null,null,44419539.97342658,null,null,null,null,null,null,null,361134.47132867126]
["Office building",816,306,102,51,102,729.3,null,null,122.39999999999999,52.02,46.92,8.67,0,313.59899999999999,null,null,null,null,null,null,null,null,null,null,122.39999999999999,52.02,46.92,8.67,0,313.59899999999999,null,null,0,0,0,0,0,0,null,null,0,0,0,0,0,0,null,null,0,0,0,0,0,0,null,null,0,0,0,0,0,0,null,null,0,0,0,0,0,0,null,null,3835542137.9260697,null,null,null,null,null,null,null,11977715.145751746]
["Kindergarten",73.600000000000009,27.599999999999998,9.2000000000000011,4.6000000000000005,9.2000000000000011,237,null,null,11.040000000000001,4.6920000000000002,4.2320000000000011,0.78200000000000014,0,101.91,null,null,null,null,null,null,null,null,null,null,11.040000000000001,4.6920000000000002,4.2320000000000011,0.78200000000000014,0,101.91,null,null,0,0,0,0,0,0,null,null,0,0,0,0,0,0,null,null,0,0,0,0,0,0,null,null,0,0,0,0,0,0,null,null,0,0,0,0,0,0,null,null,34507622.974146582,null,null,null,null,null,null,null,280549.78027761466]
["School",160,60,20,10,20,614.19999999999993,null,null,24,10.200000000000001,9.2000000000000011,1.7000000000000002,0,264.10599999999999,null,null,null,null,null,null,null,null,null,null,24,10.200000000000001,9.2000000000000011,1.7000000000000002,0,264.10599999999999,null,null,0,0,0,0,0,0,null,null,0,0,0,0,0,0,null,null,0,0,0,0,0,0,null,null,0,0,0,0,0,0,null,null,0,0,0,0,0,0,null,null,2499359940.9729214,null,null,null,null,null,null,null,3407491.7795627695]
["University/Collage",0,0,0,0,0,0,null,null,0,0,0,0,0,0,null,null,null,null,null,null,null,null,null,null,0,0,0,0,0,0,null,null,0,0,0,0,0,0,null,null,0,0,0,0,0,0,null,null,0,0,0,0,0,0,null,null,0,0,0,0,0,0,null,null,0,0,0,0,0,0,null,null,14243833.510489509,null,null,null,null,null,null,null,115803.52447552448]
["Hospital",0,0,0,0,0,0,null,null,0,0,0,0,0,0,null,null,null,null,null,null,null,null,null,null,0,0,0,0,0,0,null,null,0,0,0,0,0,0,null,null,0,0,0,0,0,0,null,null,0,0,0,0,0,0,null,null,0,0,0,0,0,0,null,null,0,0,0,0,0,0,null,null,410759057.93510491,null,null,null,null,null,null,null,1299870.4365034963]
["Nursing home",334.40000000000003,125.39999999999999,41.800000000000004,20.900000000000002,41.800000000000004,370,null,null,50.160000000000004,21.318000000000001,19.228000000000002,3.5530000000000008,0,159.1,null,null,null,null,null,null,null,null,null,null,50.160000000000004,21.318000000000001,19.228000000000002,3.5530000000000008,0,159.1,null,null,0,0,0,0,0,0,null,null,0,0,0,0,0,0,null,null,0,0,0,0,0,0,null,null,0,0,0,0,0,0,null,null,0,0,0,0,0,0]
["Hotel",0,0,0,0,0,0,null,null,0,0,0,0,0,0,null,null,null,null,null,null,null,null,null,null,0,0,0,0,0,0,null,null,0,0,0,0,0,0,null,null,0,0,0,0,0,0,null,null,0,0,0,0,0,0,null,null,0,0,0,0,0,0,null,null,0,0,0,0,0,0]
["Sports Facility",40,15,5,2.5,5,0,null,null,6,2.5500000000000003,2.3000000000000003,0.42500000000000004,0,0,null,null,null,null,null,null,null,null,null,null,6,2.5500000000000003,2.3000000000000003,0.42500000000000004,0,0,null,null,0,0,0,0,0,0,null,null,0,0,0,0,0,0,null,null,0,0,0,0,0,0,null,null,0,0,0,0,0,0,null,null,0,0,0,0,0,0]
["Comercial building",432,54,27,27,270,8250,null,null,86.4,9.1800000000000015,12.42,4.5900000000000007,0,3630,null,null,null,null,null,null,null,null,null,null,86.4,9.1800000000000015,12.42,4.5900000000000007,0,3630,null,null,0,0,0,0,0,0,null,null,0,0,0,0,0,0,null,null,0,0,0,0,0,0,null,null,0,0,0,0,0,0,null,null,0,0,0,0,0,0]
["Cultural building",48,18,6,3,6,4207.5,null,null,9.6000000000000014,3.06,2.7600000000000002,0.51,0,1851.3,null,null,null,null,null,null,null,null,null,null,9.6000000000000014,3.06,2.7600000000000002,0.51,0,1851.3,null,null,0,0,0,0,0,0,null,null,0,0,0,0,0,0,null,null,0,0,0,0,0,0,null,null,0,0,0,0,0,0,null,null,0,0,0,0,0,0]
["Industry/Workshop",288,36,18,18,180,0,null,null,43.199999999999996,6.12,8.2800000000000011,3.06,0,0,null,null,null,null,null,null,null,null,null,null,43.199999999999996,6.12,8.2800000000000011,3.06,0,0,null,null,0,0,0,0,0,0,null,null,0,0,0,0,0,0,null,null,0,0,0,0,0,0,null,null,0,0,0,0,0,0,null,null,0,0,0,0,0,0]
[]
[null,null,null,null,null,null,null,null,"Public",0,0,0,0,0,0,null,"Public",null,null,null,null,null,null,null,"Public",0,0,0,0,0,0,null,"Bus",0,0,0,0,0,0,null,"Bus",0,0,0,0,0,0,null,null,0,0,0,0,0,0,null,null,0,0,0,0,0,0,null,null,0,0,0,0,0,0]
[null,null,null,null,null,null,null,null,null,1244.8000000000002,87.136000000000024,684.64,1481.3120000000001,0,0,null,null,null,null,null,null,null,null,null,null,1244.8000000000002,87.136000000000024,684.64,1481.3120000000001,0,0,null,null,58763.426429240877,4113.4398500468624,32319.884536082482,69928.477450796636,0,0,null,null,62610880.485288866,4382761.6339702215,34435984.266908869,74506947.77749373,0,0,null,null,7521.7185829428336,526.52030080599843,4136.9452206185579,8950.8451137019711,0,0,null,null,195207.94018856611,13664.555813199629,107364.36710371135,232297.44882439365,0,0,null,null,202729.65877150893,14191.076114005627,111501.31232432991,241248.29393809562,0,0]
[null,null,null,null,null,null,null,null,null,301.92,85.68,22.44,14.280000000000001,0,182.32499999999999,null,null,null,null,null,null,null,null,null,null,301.92,85.68,22.44,14.280000000000001,0,182.32499999999999,null,null,14252.77450796626,4044.7062792877236,1059.3278350515463,674.11771321462049,0,8607.0386597938159,null,null,15185955.202537283,4309527.8277470684,1128685.8596480412,718254.63795784453,0,9170572.6096403357,null,null,1824.3551370196813,517.7224037488287,135.59396288659795,86.287067291471431,0,1101.7009484536086,null,null,47346.707343936265,13436.227759765699,3519.012032319587,2239.3712932942826,0,28591.972762596648,null,null,49171.062480955945,13953.950163514528,3654.6059952061851,2325.6583605857541,0,29693.673711050258]
[null,null,null,null,null,null,null,null,null,27.232000000000003,7.7279999999999998,2.0240000000000005,1.2880000000000003,0,59.25,null,null,null,null,null,null,null,null,null,null,27.232000000000003,7.7279999999999998,2.0240000000000005,1.2880000000000003,0,59.25,null,null,1285.5443673851926,364.81664479850048,95.547216494845401,60.802774133083432,0,2797.0220243673853,null,null,1369713.6065033632,388702.50995365699,101803.03832119591,64783.751658942841,0,2980153.1721990393,null,null,164.54967902530467,46.696530534208065,12.230043711340212,7.7827550890346799,0,358.01881911902535,null,null,4270.4873290609194,1211.8950528416119,317.40108526804136,201.98250880693539,0,9291.5090425550607,null,null,4435.037008086224,1258.5915833758199,329.63112897938157,209.76526389597007,0,9649.5278616740852]
[null,null,null,null,null,null,null,null,null,59.2,16.8,4.4000000000000004,2.8000000000000003,0,153.54999999999998,null,null,null,null,null,null,null,null,null,null,59.2,16.8,4.4000000000000004,2.8000000000000003,0,153.54999999999998,null,null,2794.6616682286785,793.07966260543594,207.71134020618561,132.17994376757267,0,7248.6537019681346,null,null,2977638.2750073103,845005.45642099355,221310.95287216501,140834.24273683227,0,7723249.2758002095,null,null,357.71669353327093,101.5141968134958,26.587051546391759,16.919032802249301,0,927.8276738519213,null,null,9283.6681066541696,2634.5544626991568,690.00235927835058,439.09241044985947,0,24079.514151634248,null,null,9641.3848001874412,2736.0686595126526,716.58941082474234,456.01144325210879,0,25007.341825486168]
[null,null,null,null,null,null,null,null,null,0,0,0,0,0,0,null,null,null,null,null,null,null,null,null,null,0,0,0,0,0,0,null,null,0,0,0,0,0,0,null,null,0,0,0,0,0,0,null,null,0,0,0,0,0,0,null,null,0,0,0,0,0,0,null,null,0,0,0,0,0,0]
[null,null,null,null,null,null,null,null,null,0,0,0,0,0,0,null,null,null,null,null,null,null,null,null,null,0,0,0,0,0,0,null,null,0,0,0,0,0,0,null,null,0,0,0,0,0,0,null,null,0,0,0,0,0,0,null,null,0,0,0,0,0,0,null,null,0,0,0,0,0,0]
[null,null,null,null,null,null,null,null,null,123.72800000000001,35.112000000000002,9.1960000000000015,5.8520000000000012,0,92.5,null,null,null,null,null,null,null,null,null,null,123.72800000000001,35.112000000000002,9.1960000000000015,5.8520000000000012,0,92.5,null,null,5840.8428865979395,1657.5364948453609,434.11670103092791,276.2560824742269,0,4366.6588566073096,null,null,6223263.9947652798,1766061.4039198763,462539.89150282484,294343.56731997943,0,4652559.8046989217,null,null,747.62788948453635,212.16467134020624,55.566937731958774,35.36077855670105,0,558.93233364573564,null,null,19402.866342907218,5506.2188270412362,1442.1049308917525,917.70313784020641,0,14505.731416647137,null,null,20150.494232391757,5718.3834983814422,1497.6718686237114,953.06391639690742,0,15064.663750292873]
[null,null,null,null,null,null,null,null,null,0,0,0,0,0,0,null,null,null,null,null,null,null,null,null,null,0,0,0,0,0,0,null,null,0,0,0,0,0,0,null,null,0,0,0,0,0,0,null,null,0,0,0,0,0,0,null,null,0,0,0,0,0,0,null,null,0,0,0,0,0,0]
[null,null,null,null,null,null,null,null,null,14.8,4.2,1.1000000000000001,0.70000000000000007,0,0,null,null,null,null,null,null,null,null,null,null,14.8,4.2,1.1000000000000001,0.70000000000000007,0,0,null,null,698.66541705716963,198.26991565135899,51.927835051546403,33.044985941893167,0,0,null,null,744409.56875182758,211251.36410524839,55327.738218041253,35208.560684208067,0,0,null,null,89.429173383317732,25.37854920337395,6.6467628865979398,4.2297582005623253,0,0,null,null,2320.9170266635424,658.63861567478921,172.50058981958765,109.77310261246487,0,0,null,null,2410.3462000468603,684.01716487816316,179.14735270618559,114.0028608130272,0,0]
[null,null,null,null,null,null,null,null,null,216,15.120000000000001,5.94,7.5600000000000005,0,2310,null,null,null,null,null,null,null,null,null,null,216,15.120000000000001,5.94,7.5600000000000005,0,2310,null,null,10196.738519212744,713.77169634489235,280.41030927835061,356.88584817244617,0,109048.45360824744,null,null,10864355.868269913,760504.91077889421,298769.78637742274,380252.4553894471,0,116188250.25788662,null,null,1305.1825304592312,91.362777132146221,35.892519587628883,45.68138856607311,0,13958.202061855671,null,null,33872.843091846284,2371.0990164292407,931.5031850257734,1185.5495082146203,0,362251.23862113402,null,null,35178.025622305518,2462.4617935613869,967.39570461340224,1231.2308967806935,0,376209.44068298966]
[null,null,null,null,null,null,null,null,null,24,5.0400000000000009,1.32,0.84000000000000008,0,1178.1000000000001,null,null,null,null,null,null,null,null,null,null,24,5.0400000000000009,1.32,0.84000000000000008,0,1178.1000000000001,null,null,1132.9709465791941,237.92389878163081,62.313402061855669,39.653983130271797,0,55614.711340206195,null,null,1207150.6520299909,253501.63692629809,66393.285861649492,42250.272821049679,0,59256007.631522179,null,null,145.02028116213685,30.454259044048747,7.9761154639175267,5.07570984067479,0,7118.6830515463944,null,null,3763.6492324273659,790.36633880974705,207.00070778350513,131.72772313495784,0,184748.13169677835,null,null,3908.6695135895029,820.82059785379579,214.97682324742266,136.80343297563263,0,191866.81474832474]
[null,null,null,null,null,null,null,null,null,106.56,10.080000000000002,3.96,5.0400000000000009,0,0,null,null,null,null,null,null,null,null,null,null,106.56,10.080000000000002,3.96,5.0400000000000009,0,0,null,null,5030.3910028116215,475.84779756326162,186.94020618556701,237.92389878163081,0,0,null,null,5359748.8950131582,507003.27385259618,199179.85758494845,253501.63692629809,0,0,null,null,643.8900483598876,60.908518088097495,23.92834639175258,30.454259044048747,0,0,null,null,16710.602591977506,1580.7326776194941,621.00212335051538,790.36633880974705,0,0,null,null,17354.492640337394,1641.6411957075916,644.93046974226797,820.82059785379579,0,0]
[]
[null,null,null,null,null,null,null,null,"Car",0,0,0,0,0,0,null,"Car",null,null,null,null,null,null,null,"Car",0,0,0,0,0,0,null,"Rail",0,0,0,0,0,0,null,"Rail",0,0,0,0,0,0,null,null,0,0,0,0,0,0,null,null,0,0,0,0,0,0,null,null,0,0,0,0,0,0]
[null,null,null,null,null,null,null,null,null,746.88000000000011,171.16000000000003,995.84,2909.7200000000003,311.20000000000005,0,null,null,null,null,null,null,null,null,null,null,746.88000000000011,171.16000000000003,995.84,2909.7200000000003,311.20000000000005,0,null,null,88145.139643861316,6170.1597750702922,48479.826804123724,104892.71617619494,0,0,null,null,303489629.09329641,21244274.036530748,166919296.001313,361152658.62102264,0,0,null,null,33012.924578044607,2310.904720463122,18157.108517924531,39285.380247873072,0,0,null,null,297116.32120240142,20798.1424841681,163413.97666132078,353568.4222308576,0,0,null,null,330129.24578044604,23109.047204631221,181571.0851792453,392853.80247873068,0,0]
[null,null,null,null,null,null,null,null,null,391.68,168.3,32.64,28.05,102,233.37599999999998,null,null,391.68,null,null,null,null,233.37599999999998,null,null,391.68,168.3,32.64,28.05,102,233.37599999999998,null,null,21379.161761949392,6067.0594189315852,1588.9917525773194,1011.1765698219307,0,12910.557989690722,null,null,73609888.187538579,20889292.593760952,5471005.2031278675,3481548.7656268254,0,44451917.27541393,null,null,8007.119367451176,2272.2906313037124,595.12373677001983,378.71510521728538,0,4835.3803612564116,null,null,72064.074307060582,20450.615681733412,5356.1136309301783,3408.4359469555684,0,43518.423251307708,null,null,80071.193674511756,22722.906313037125,5951.2373677001979,3787.1510521728537,0,48353.803612564123]
[null,null,null,null,null,null,null,null,null,35.328000000000003,15.18,2.9440000000000004,2.5300000000000007,9.2000000000000011,75.84,null,null,35.328000000000003,null,null,null,null,75.84,null,null,35.328000000000003,15.18,2.9440000000000004,2.5300000000000007,9.2000000000000011,75.84,null,null,1928.3165510777883,547.22496719775063,143.32082474226809,91.204161199625148,0,4195.5330365510772,null,null,6639323.2482877942,1884132.2731627522,493463.21439976862,314022.04552712553,0,14445501.706119703,null,null,722.21076647598852,204.95170399994265,53.677827238080241,34.158617333323789,0,1571.3494386641564,null,null,6499.896898283896,1844.5653359994838,483.10044514272215,307.42755599991409,0,14142.144947977407,null,null,7222.1076647598848,2049.5170399994263,536.77827238080238,341.58617333323787,0,15713.494386641563]
[null,null,null,null,null,null,null,null,null,76.8,33,6.4,5.5,20,196.54399999999998,null,null,76.8,null,null,null,null,196.54399999999998,null,null,76.8,33,6.4,5.5,20,196.54399999999998,null,null,4191.9925023430178,1189.6194939081536,311.56701030927837,198.26991565135896,0,10872.9805529522,null,null,14433311.40932129,4095939.7242668523,1072746.1182603664,682656.6207111422,0,37436401.467927091,null,null,1570.0234053825836,445.54718260857101,116.69092877843528,74.257863768095177,0,4072.2482077110749,null,null,14130.210648443253,4009.9246434771389,1050.2183590059176,668.32077391285657,0,36650.233869399672,null,null,15700.234053825838,4455.4718260857098,1166.909287784353,742.57863768095172,0,40722.482077110748]
[null,null,null,null,null,null,null,null,null,0,0,0,0,0,0,null,null,0,null,null,null,null,0,null,null,0,0,0,0,0,0,null,null,0,0,0,0,0,0,null,null,0,0,0,0,0,0,null,null,0,0,0,0,0,0,null,null,0,0,0,0,0,0,null,null,0,0,0,0,0,0]
[null,null,null,null,null,null,null,null,null,0,0,0,0,0,0,null,null,0,null,null,null,null,0,null,null,0,0,0,0,0,0,null,null,0,0,0,0,0,0,null,null,0,0,0,0,0,0,null,null,0,0,0,0,0,0,null,null,0,0,0,0,0,0,null,null,0,0,0,0,0,0]
[null,null,null,null,null,null,null,null,null,160.512,68.97,13.376000000000001,11.495000000000003,41.800000000000004,118.4,null,null,160.512,null,null,null,null,118.4,null,null,160.512,68.97,13.376000000000001,11.495000000000003,41.800000000000004,118.4,null,null,8761.2643298969087,2486.3047422680415,651.17505154639196,414.38412371134029,0,6549.9882849109645,null,null,30165620.845481504,8560514.0237177238,2242039.3871641657,1426752.3372862872,0,22552049.077064514,null,null,3281.3489172496006,931.19361165191356,243.88404114692977,155.19893527531895,0,2453.1615709102866,null,null,29532.140255246402,8380.7425048672212,2194.956370322368,1396.7904174778703,0,22078.454138192581,null,null,32813.489172496003,9311.9361165191349,2438.8404114692976,1551.9893527531892,0,24531.615709102869]
[null,null,null,null,null,null,null,null,null,0,0,0,0,0,0,null,null,0,null,null,null,null,0,null,null,0,0,0,0,0,0,null,null,0,0,0,0,0,0,null,null,0,0,0,0,0,0,null,null,0,0,0,0,0,0,null,null,0,0,0,0,0,0,null,null,0,0,0,0,0,0]
[null,null,null,null,null,null,null,null,null,19.2,8.25,1.6,1.375,5,0,null,null,19.2,null,null,null,null,0,null,null,19.2,8.25,1.6,1.375,5,0,null,null,1047.9981255857545,297.40487347703839,77.891752577319593,49.567478912839739,0,0,null,null,3608327.8523303224,1023984.9310667131,268186.52956509159,170664.15517778555,0,0,null,null,392.50585134564591,111.38679565214275,29.17273219460882,18.564465942023794,0,0,null,null,3532.5526621108133,1002.4811608692847,262.5545897514794,167.08019347821414,0,0,null,null,3925.0585134564594,1113.8679565214275,291.72732194608824,185.64465942023793,0,0]
[null,null,null,null,null,null,null,null,null,129.6,29.700000000000003,8.64,14.850000000000001,270,2310,null,null,129.6,null,null,null,null,2310,null,null,129.6,29.700000000000003,8.64,14.850000000000001,270,2310,null,null,15295.10777881912,1070.6575445173385,420.61546391752586,535.32877225866923,0,163572.68041237115,null,null,52662082.169145256,3686345.7518401677,1448207.2596514949,1843172.8759200838,0,563191712.08669245,null,null,5728.4637763959136,400.99246434771396,157.53275385088764,200.49623217385698,0,61262.737608678523,null,null,51556.173987563219,3608.9321791294255,1417.7947846579889,1804.4660895647128,0,551364.6384781067,null,null,57284.63776395913,4009.9246434771394,1575.3275385088766,2004.9623217385697,0,612627.37608678523]
[null,null,null,null,null,null,null,null,null,14.399999999999999,9.9,1.92,1.6500000000000001,6,1178.1000000000001,null,null,14.399999999999999,null,null,null,null,1178.1000000000001,null,null,14.399999999999999,9.9,1.92,1.6500000000000001,6,1178.1000000000001,null,null,1699.456419868791,356.88584817244617,93.470103092783503,59.480974695407696,0,83422.067010309285,null,null,5851342.4632383613,1228781.9172800563,321823.83547810989,204796.98621334266,0,287227773.16421306,null,null,636.49597515510141,133.66415478257133,35.007278633530575,22.277359130428554,0,31243.996180426046,null,null,5728.4637763959126,1202.9773930431418,315.06550770177518,200.49623217385698,0,281195.9656238344,null,null,6364.9597515510141,1336.6415478257131,350.07278633530575,222.77359130428553,0,312439.96180426044]
[null,null,null,null,null,null,null,null,null,138.24,19.8,5.76,9.9,180,0,null,null,138.24,null,null,null,null,0,null,null,138.24,19.8,5.76,9.9,180,0,null,null,7545.5865042174319,713.77169634489235,280.41030927835055,356.88584817244617,0,0,null,null,25979960.536778323,2457563.8345601126,965471.50643432979,1228781.9172800563,0,0,null,null,2826.0421296886507,267.32830956514266,105.02183590059177,133.66415478257133,0,0,null,null,25434.379167197854,2405.9547860862835,945.19652310532581,1202.9773930431418,0,0,null,null,28260.421296886503,2673.2830956514263,1050.2183590059176,1336.6415478257131,0,0]
[]
[null,null,null,null,null,null,null,null,null,null,null,null,null,null,null,null,null,null,null,null,null,null,null,null,null,null,null,null,null,null,null,null,null,0,0,0,0,0,0,null,null,0,0,0,0,0,0,null,null,0,0,0,0,0,0,null,null,0,0,0,0,0,0,null,null,0,0,0,0,0,0]
[null,null,null,null,null,null,null,null,null,null,null,null,null,null,null,null,null,null,null,null,null,null,null,null,null,null,null,null,null,null,null,null,"Car",1525097.6223776224,349501.5384615385,2033463.4965034963,5941526.1538461531,635457.34265734267,0,null,"Car",278551214.55969232,63834653.336596161,371401619.4129231,1085189106.7221344,139929009.5406993,0,null,null,25926.659580419582,5941.5261538461555,34568.879440559445,101005.94461538462,38127.440559440562,0,null,null,859907.23065734259,197062.07369230772,1146542.9742097901,3350055.2527692304,427972.57706293702,0,null,null,885833.89023776213,203003.59984615387,1181111.8536503497,3451061.197384615,466100.01762237761,0]
[null,null,null,null,null,null,null,null,null,null,null,null,null,null,null,null,null,null,null,null,null,null,null,null,null,null,null,null,null,null,null,null,null,799794.12587412586,343661.53846153844,66649.510489510489,57276.923076923078,208279.72027972026,476543.99999999994,null,null,146078271.90276924,62768007.458221145,12173189.32523077,10461334.576370193,45863621.379020974,87038303.675399989,null,null,13596.50013986014,5842.2461538461539,1133.0416783216785,973.70769230769247,12496.783216783217,8101.2479999999996,null,null,450953.9204475524,193769.26269230768,37579.493370629374,32294.877115384614,140273.78811188811,268693.37759999995,null,null,464550.42058741255,199611.50884615383,38712.535048951053,33268.584807692307,152770.57132867133,276794.62559999997]
[null,null,null,null,null,null,null,null,null,null,null,null,null,null,null,null,null,null,null,null,null,null,null,null,null,null,null,null,null,null,null,null,null,72138.293706293698,30996.923076923074,6011.5244755244757,5166.1538461538466,18786.013986013983,154862.09790209788,null,null,13175687.269661538,5661428.1236826917,1097973.9391384616,943571.35394711548,4136718.7910489505,28284763.432153843,null,null,1226.3509930069929,526.94769230769236,102.1959160839161,87.824615384615413,1127.160839160839,2632.6556643356644,null,null,40674.275177622374,17477.227615384614,3389.5229314685312,2912.871269230769,12652.145594405591,87317.058125874115,null,null,41900.626170629366,18004.175307692305,3491.7188475524472,3000.6958846153843,13779.306433566429,89949.713790209775]
[null,null,null,null,null,null,null,null,null,null,null,null,null,null,null,null,null,null,null,null,null,null,null,null,null,null,null,null,null,null,null,null,null,156822.37762237759,67384.615384615376,13068.531468531468,11230.76923076923,40839.160839160839,401334.60139860131,null,null,28642798.412307687,12307452.442788459,2386899.867692308,2051242.0737980769,8992866.9370629378,73301694.936830744,null,null,2665.9804195804195,1145.5384615384617,222.16503496503498,190.92307692307693,2450.3496503496503,6822.6882237762229,null,null,88422.337342657323,37993.973076923074,7368.5281118881121,6332.3288461538459,27504.664335664333,226287.49831608386,null,null,91088.317762237741,39139.511538461535,7590.6931468531475,6523.251923076923,29955.013986013983,233110.18653986009]
[null,null,null,null,null,null,null,null,null,null,null,null,null,null,null,null,null,null,null,null,null,null,null,null,null,null,null,null,null,null,null,null,null,0,0,0,0,0,0,null,null,0,0,0,0,0,0,null,null,0,0,0,0,0,0,null,null,0,0,0,0,0,0,null,null,0,0,0,0,0,0]
[null,null,null,null,null,null,null,null,null,null,null,null,null,null,null,null,null,null,null,null,null,null,null,null,null,null,null,null,null,null,null,null,null,0,0,0,0,0,0,null,null,0,0,0,0,0,0,null,null,0,0,0,0,0,0,null,null,0,0,0,0,0,0,null,null,0,0,0,0,0,0]
[null,null,null,null,null,null,null,null,null,null,null,null,null,null,null,null,null,null,null,null,null,null,null,null,null,null,null,null,null,null,null,null,null,327758.76923076919,140833.84615384616,27313.230769230766,23472.307692307695,85353.846153846156,241767.83216783212,null,null,59863448.681723066,25722575.605427884,4988620.7234769231,4287095.9342379812,18795091.898461539,44157647.552307688,null,null,5571.8990769230768,2394.1753846153852,464.32492307692314,399.02923076923088,5121.2307692307695,4110.0531468531472,null,null,184802.68504615381,79407.40373076922,15400.223753846152,13234.56728846154,57484.74846153846,136317.77006993003,null,null,190374.5841230769,81801.579115384608,15864.548676923076,13633.59651923077,62605.979230769226,140427.82321678317]
[null,null,null,null,null,null,null,null,null,null,null,null,null,null,null,null,null,null,null,null,null,null,null,null,null,null,null,null,null,null,null,null,null,0,0,0,0,0,0,null,null,0,0,0,0,0,0,null,null,0,0,0,0,0,0,null,null,0,0,0,0,0,0,null,null,0,0,0,0,0,0]
[null,null,null,null,null,null,null,null,null,null,null,null,null,null,null,null,null,null,null,null,null,null,null,null,null,null,null,null,null,null,null,null,null,39205.594405594398,16846.153846153844,3267.132867132867,2807.6923076923076,10209.79020979021,0,null,null,7160699.6030769218,3076863.1106971148,596724.96692307701,512810.51844951924,2248216.7342657344,0,null,null,666.49510489510487,286.38461538461542,55.541258741258744,47.730769230769234,612.58741258741259,0,null,null,22105.584335664331,9498.4932692307684,1842.132027972028,1583.0822115384615,6876.1660839160832,0,null,null,22772.079440559435,9784.8778846153837,1897.6732867132869,1630.8129807692308,7488.7534965034956,0]
[null,null,null,null,null,null,null,null,null,null,null,null,null,null,null,null,null,null,null,null,null,null,null,null,null,null,null,null,null,null,null,null,null,264637.76223776216,60646.153846153844,17642.517482517484,30323.076923076922,551328.67132867128,4716923.076923077,null,null,48334722.320769221,11076707.198509615,3222314.8213846162,5538353.5992548075,121403703.65034965,861521670.99519229,null,null,4498.8419580419568,1030.9846153846154,299.92279720279726,515.49230769230769,33079.720279720277,80187.692307692312,null,null,149212.6942657342,34194.575769230767,9947.5129510489514,17097.287884615384,371312.96853146842,2659578.115384615,null,null,153711.53622377614,35225.560384615383,10247.435748251748,17612.780192307691,404392.68881118868,2739765.8076923075]
[null,null,null,null,null,null,null,null,null,null,null,null,null,null,null,null,null,null,null,null,null,null,null,null,null,null,null,null,null,null,null,null,null,29404.195804195795,20215.384615384613,3920.5594405594397,3369.2307692307691,12251.748251748251,2405630.769230769,null,null,5370524.7023076909,3692235.732836538,716069.96030769229,615372.62213942315,2697860.0811188812,439376052.20754802,null,null,499.87132867132863,343.6615384615385,66.649510489510476,57.276923076923083,735.10489510489515,40895.723076923081,null,null,16579.188251748245,11398.191923076922,2210.558433566433,1899.6986538461535,8251.3993006992987,1356384.8388461536,null,null,17079.059580419573,11741.85346153846,2277.2079440559437,1956.9755769230767,8986.5041958041948,1397280.5619230766]
[null,null,null,null,null,null,null,null,null,null,null,null,null,null,null,null,null,null,null,null,null,null,null,null,null,null,null,null,null,null,null,null,null,282280.27972027974,40430.769230769227,11761.678321678321,20215.384615384613,367552.4475524475,0,null,null,51557037.142153859,7384471.465673076,2148209.8809230765,3692235.732836538,80935802.433566436,0,null,null,4798.7647552447561,687.323076923077,199.94853146853148,343.6615384615385,22053.146853146853,0,null,null,159160.20721678322,22796.383846153843,6631.6753006993004,11398.191923076922,247541.97902097894,0,null,null,163958.97197202797,23483.706923076919,6831.623832167832,11741.85346153846,269595.12587412581,0]

{"sheet":"EnergyPerformanceData","index":5,"n_rows":144,"n_cols":15,"rows_kept":144,"cut":false,"hidden":false,"merged":[]}
["Building energy perfromance data [kWh/m2]",{"$f":"COUNTA(A2:A144)","v":143},null,null,null,null,"Street Utilities Energy performance data",null,null,"Klimasone"]
["Residential individual housing","Heating","Hot Water","Cooling","Electric",null,"Outdoor lighting","kWh/unit",null,"Klimasone","DUT","Mean T","Heating days","degree days","Rel degree days"]
["Passivhouse",19.793749999999999,25,0,31.328749999999999,null,"High efficicency",160,null,"1. Sør-Norge, innland",-21.4,5.0999999999999996,250,4051,1]
["Low energy",37.1875,25,0,32.86,null,"Low efficiency",550,null,"2. Sør-Norge, kyst",-14.2,7.1,237,3179,0.78]
["TEK 17",51.963729000000001,25,0,33.036270999999999,null,"Manual",null,null,"3. Sør-Norge, høyfjell",-28.3,2.2999999999999998,277,5101,1.26]
["TEK 10",68.279700000000005,25,0,36.720299999999995,null,"Snow Melting","kWh/m2",null,"4. Midt-Norge, kyst",-15.6,5.4,265,3763,0.93]
["TEK 07",68.279700000000005,25,0,36.720299999999995,null,"High efficicency",100,null,"5. Midt-Norge, innland",-23.9,3,274,4772,1.18]
["TEK 97",76.512500000000003,25,0,29.487500000000001,null,"Low efficiency",350,null,"6. Nord-Norge, kyst",-13.9,3.8,286,4329,1.07]
["TEK 87",88.512500000000003,25,0,29.487500000000001,null,"Manual",null,null,"7. Finnmark og innland Troms",-24.5,0.7,319,5766,1.42]
["TEK 69",98.512500000000003,25,0,29.487500000000001]
["TEK 49",120.5125,25,0,29.487500000000001]
["Older",193.51249999999999,25,0,29.487500000000001]
["Residential apartment building","Heating","Hot Water","Cooling","Electric"]
["Passivhouse",14.697777777777778,25,0,32.237555555555559]
["Low energy",29.616666666666667,25,0,34.194222222222223]
["TEK 17",35.805777777777777,25,0,34.194222222222223]
["TEK 10",51.772377777777777,25,0,38.227622222222223]
["TEK 07",62.772377777777777,25,0,38.227622222222223]
["TEK 97",76.514305555555552,25,0,29.485694444444444]
["TEK 87",85.514305555555552,25,0,29.485694444444444]
["TEK 69",92.514305555555552,25,0,29.485694444444444]
["TEK 49",125.51430555555555,25,0,29.485694444444444]
["Older",202.51430555555555,25,0,29.485694444444444]
["Office building","Heating","Hot Water","Cooling","Electric"]
["Passivhouse",20,5.0111111111111111,9.6936111111111103,58.483611111111109]
["Low energy",20.51166666666667,5.0111111111111111,9.6936111111111103,65.983611111111117]
["TEK 17",28.389249119444443,5.0111111111111111,9.8000000000000007,67]
["TEK 10",42.372013611111107,5.0111111111111111,18.8,79.7]
["TEK 07",59.400000000000006,5.0111111111111111,18.8,83.4]
["TEK 97",78.3,5.0111111111111111,20.8,99.7]
["TEK 87",96.4,5.0111111111111111,21.4,105.30000000000001]
["TEK 69",162.6,5.0111111111111111,11.4,85.3]
["TEK 49",173.5,5.0111111111111111,0,69.900000000000006]
["Older",188.7,5.0111111111111111,0,60.3]
["Kindergarten","Heating","Hot Water","Cooling","Electric"]
["Passivhouse",30.683333333333334,10.023333333333333,0,29.406666666666666]
["Low energy",46.769999999999996,10.023333333333333,0,33.206666666666663]
["TEK 17",83.876666666666665,10.023333333333333,0,41.1]
["TEK 10",84.676666666666662,10.023333333333333,0,45.3]
["TEK 07",100.6,10.023333333333333,0,49.1]
["TEK 97",129.5,10.023333333333333,0,66.099999999999994]
["TEK 87",163.19999999999999,10.023333333333333,0,71.8]
["TEK 69",287,10.023333333333333,0,54.4]
["TEK 49",339.6,10.023333333333333,0,27.5]
["Older",381.1,10.023333333333333,0,27.5]
["School","Heating","Hot Water","Cooling","Electric"]
["Passivhouse",20,10,0,34.70708333333333]
["Low energy",24.900000000000006,10,0,42.5]
["TEK 17",45.487905966666659,10,0,54.512094033333334]
["TEK 10",50.34835666666666,10,0,59.651643333333332]
["TEK 07",73.400000000000006,10,0,60.400000000000006]
["TEK 97",104.1,10,0,79]
["TEK 87",127.2,10,0,85]
["TEK 69",196.6,10,0,59.6]
["TEK 49",208.3,10,0,36.4]
["Older",227.3,10,0,36.4]
["University/Collage","Heating","Hot Water","Cooling","Electric"]
["Passivhouse",20,5.0111111111111111,10.159166666666666,61.313055555555557]
["Low energy",20.588888888888889,5.0111111111111111,10.8,68.8]
["TEK 17",27.272628538888881,5.0111111111111111,19.224899999999998,73.491360350000008]
["TEK 10",43.011524722222219,5.0111111111111111,23.445,88.532364166666667]
["TEK 07",63.1,5.0111111111111111,23.4,89.2]
["TEK 97",83,5.0111111111111111,25.8,109.6]
["TEK 87",102.5,5.0111111111111111,26.6,116.30000000000001]
["TEK 69",174,5.0111111111111111,15.1,92.699999999999989]
["TEK 49",167.1,5.0111111111111111,0,60.2]
["Older",182.2,5.0111111111111111,0,60.3]
["Hospital","Heating","Hot Water","Cooling","Electric"]
["Passivhouse",20,30,17.120833333333334,102.67694444444444]
["Low energy",51.245555555555541,30,20.954444444444444,115.4]
["TEK 17",76.243934577777793,30,30.772322222222218,127.98374319999999]
["TEK 10",114.8460977777778,30,37.527222222222221,152.62667999999999]
["TEK 07",114.8,30,37.5,152.30000000000001]
["TEK 97",136.4,30,42,193.3]
["TEK 87",144.30000000000001,30,43.6,206.8]
["TEK 69",181.4,30,19.600000000000001,146.5]
["TEK 49",134.6,30,0,95.1]
["Older",149.30000000000001,30,0,95.3]
["Nursing home","Heating","Hot Water","Cooling","Electric"]
["Passivhouse",20,30,0,75.419166666666669]
["Low energy",30.300000000000011,30,0,84.5]
["TEK 17",90.95335455,30,0,109.04664545]
["TEK 10",99,30,0,121]
["TEK 07",99,30,0,118.7]
["TEK 97",132.69999999999999,30,0,154.69999999999999]
["TEK 87",149.1,30,0,166.7]
["TEK 69",177.10000000000002,30,0,106.6]
["TEK 49",169.9,30,0,71.3]
["Older",188.5,30,0,71.400000000000006]
["Hotel","Heating","Hot Water","Cooling","Electric"]
["Passivhouse",25,30,9.96875,42.364583333333329]
["Low energy",35.299999999999997,30,11.9,64.8]
["TEK 17",47.102187500000014,30,20.928449999999998,71.969362500000003]
["TEK 10",73.651683333333324,30,25.522500000000001,90.825816666666668]
["TEK 07",100.89999999999999,30,25.5,101.4]
["TEK 97",130.30000000000001,30,28.6,118.7]
["TEK 87",137.30000000000001,30,29.7,127.5]
["TEK 69",194,30,14.9,91.699999999999989]
["TEK 49",187.5,30,0,54.3]
["Older",206.3,30,0,54.4]
["Sports Facility","Heating","Hot Water","Cooling","Electric"]
["Passivhouse",20,50,0,28.827187500000001,101]
["Low energy",45.972812499999989,50,0,31.127187499999998]
["TEK 17",57.5714016875,50,0,37.4285983125]
["TEK 10",73.825662500000007,50,0,46.174337499999993]
["TEK 07",96.699999999999989,50,0,46.900000000000006]
["TEK 97",141.19999999999999,50,0,63.800000000000004]
["TEK 87",170.7,50,0,69.5]
["TEK 69",301.5,50,0,61]
["TEK 49",295.8,50,0,25.4]
["Older",326.3,50,0,25.4]
["Comercial building","Heating","Hot Water","Cooling","Electric"]
["Passivhouse",25,10,15.438333333333333,55.637500000000003]
["Low energy",27,10,18.7,76.7]
["TEK 17",51.525271555555548,10,29.899477777777779,88.575250666666676]
["TEK 10",59.828155555555554,10,36.462777777777781,103.70906666666667]
["TEK 07",117.5,10,40.799999999999997,112.5]
["TEK 97",139.1,10,45,148.69999999999999]
["TEK 87",140.60000000000002,10,46.4,160.69999999999999]
["TEK 69",137.80000000000001,10,12.7,89.1]
["TEK 49",141.9,10,0,61.2]
["Older",156.80000000000001,10,0,61.3]
["Cultural building","Heating","Hot Water","Cooling","Electric"]
["Passivhouse",25,10.022500000000001,7.3779166666666667,32.747916666666697]
["Low energy",35.04541666666664,10.022500000000001,9.3841666666666672,33.9479166666667]
["TEK 17",62.348392804166664,10.022500000000001,15.93465,41.694457195833337]
["TEK 10",83.188562083333338,10.022500000000001,19.432500000000001,52.356437916666664]
["TEK 07",103.1,10.022500000000001,19.399999999999999,52.8]
["TEK 97",130.69999999999999,10.022500000000001,21.4,70.599999999999994]
["TEK 87",149.9,10.022500000000001,22.1,76.7]
["TEK 69",210,10.022500000000001,10.4,51.2]
["TEK 49",231.8,10.022500000000001,0,27.4]
["Older",252.7,10.022500000000001,0,27.4]
["Industry/Workshop","Heating","Hot Water","Cooling","Electric"]
["Passivhouse",25,10.022500000000001,7,44.9]
["Low energy",45.177499999999995,10.022500000000001,7,49.6]
["TEK 17",82.177499999999995,10.022500000000001,14.5,53.3]
["TEK 10",95.277500000000003,10.022500000000001,17.7,67]
["TEK 07",99.1,10.022500000000001,17.7,67.7]
["TEK 97",128.19999999999999,10.022500000000001,19.5,83.199999999999989]
["TEK 87",161.30000000000001,10.022500000000001,20.2,88.6]
["TEK 69",313.5,10.022500000000001,16.100000000000001,80.900000000000006]
["TEK 49",303.60000000000002,10.022500000000001,0,43.4]
["Older",333.2,10.022500000000001,0,43.4]

{"sheet":"LocalEnergySupplyData","index":6,"n_rows":58,"n_cols":8,"rows_kept":58,"cut":false,"hidden":true,"merged":[[14,1,14,4],[14,5,14,7]]}
["Emission Factors","Emissions [gCO2/kWh]",null,null,null,"Tall må oppdateres og sjekkes"]
["Energy Sources","Indirect","upstream","Total"]
["Electricity",17,0,{"$f":"'Emission factors'!B3","v":123}]
["Solar Thermal",0,0,{"$f":"'Emission factors'!B4","v":0}]
["Firewood",14,0,{"$f":"'Emission factors'!B5","v":14}]
["Wood Chips",14,0,{"$f":"'Emission factors'!B6","v":14}]
["Pellets",25,0,{"$f":"'Emission factors'!B7","v":25}]
["Bio-oil",25,0,{"$f":"'Emission factors'!B8","v":25}]
["Bio-gas",10,0,{"$f":"'Emission factors'!B9","v":10}]
["Waste",138,0,{"$f":"'Emission factors'!B10","v":138}]
["Fossile oil",50,265,{"$f":"'Emission factors'!B11","v":315}]
["LPG",70,234,{"$f":"'Emission factors'!B12","v":304}]
["Natural Gas",53,202,{"$f":"'Emission factors'!B13","v":255}]
[]
[null,"Efficiency",null,null,null,"CO2 factor"]
["Heating","Production-\nEfficiency","Distribution-\nEfficiency","Control-\nEfficiency","Total\nEfficiency","Source","Efficiency","Total"]
["Electric heater",0.99,0.99,0.9,{"$f":"B17*C17*D17","v":0.88209000000000004},"Electricity",1,{"$f":"OFFSET($A$3,MATCH(F17,emissionSourcesRange,0)-1,3)/G17","v":123}]
["Electric boiler",0.98,0.95,0.92,{"$f":"B18*C18*D18","v":0.85651999999999995},"Electricity",1,{"$f":"OFFSET($A$3,MATCH(F18,emissionSourcesRange,0)-1,3)/G18","v":123}]
["Solar collector",1,0.95,0.95,0.90249999999999997,"Solar Thermal",1,0]
["Heat pump",2.5499999999999998,0.95,0.93,2.2529249999999998,"Electricity",1,123]
["Wood chip boiler",0.85,0.97,0.9,{"$f":"B21*C21*D21","v":0.74204999999999999},"Wood Chips",1,14]
["Pellets boiler",0.85,0.97499999999999998,0.9,0.74587499999999995,"Pellets",1,25]
["Wood-burning Stove",0.8,1,0.8,0.64000000000000012,"Firewood",1,14]
["Bio-oil boiler",0.85,0.95,0.94,0.75905,"Bio-oil",1,25]
["Oil boiler",0.85,0.95,0.95,0.76712499999999995,"Fossile oil",1,315]
["LPG boiler",0.95,0.95,0.95,0.85737499999999989,"LPG",1,304]
["District Heating",0.98,0.95,0.93,0.86582999999999999]
[]
["Hot Water"]
["Electric water heater",0.99,0.6,0.98,{"$f":"B30*C30*D30","v":0.58211999999999997},"Electricity",1,{"$f":"OFFSET($A$3,MATCH(F30,emissionSourcesRange,0)-1,3)/G30","v":123}]
["Electric boiler",0.98,0.6,0.92,{"$f":"B31*C31*D31","v":0.54096},"Electricity",1,123]
["Solar collector",1,0.6,0.95,{"$f":"B32*C32*D32","v":0.56999999999999995},"Solar Thermal",1,0]
["Heat Pump",2.5499999999999998,0.6,0.93,1.4228999999999998,"Electricity",1,123]
["Wood chip boiler",0.85,0.6,0.9,{"$f":"B34*C34*D34","v":0.45900000000000002},"Wood Chips",1,14]
["Pellets boiler",0.85,0.6,0.9,0.45900000000000002,"Pellets",1,25]
["Bio-oil boiler",0.85,0.6,0.94,{"$f":"B36*C36*D36","v":0.47939999999999999},"Bio-oil",1,25]
["Oil boiler",0.85,0.6,0.95,0.48449999999999999,"Fossile oil",1,315]
["LPG boiler",0.95,0.6,0.95,0.54149999999999998,"LPG",1,304]
["District Heating",0.98,0.6,0.93,0.54683999999999999]
[]
["Cooling"]
["Local Chiller",2.4500000000000002,1,1,{"$f":"B42*C42*D42","v":2.4500000000000002},"Electricity",1,{"$f":"OFFSET($A$3,MATCH(F42,emissionSourcesRange,0)-1,3)/G42","v":123}]
["District cooling",2.5,0.95,0.93,2.2087500000000002,"Electricity",1,{"$f":"OFFSET($A$3,MATCH(F43,emissionSourcesRange,0)-1,3)/G43","v":123}]
[]
["Electric"]
["Electric consumption",1,1,1,{"$f":"B46*C46*D46","v":1},"Electricity",1,{"$f":"OFFSET($A$3,MATCH(F46,emissionSourcesRange,0)-1,3)/G46","v":123}]
[]
["Local energy plant sources"]
["Electricity",null,null,null,null,"Electricity",1,{"$f":"OFFSET($A$3,MATCH(F49,emissionSourcesRange,0)-1,3)/G49","v":123}]
["Sun",null,null,null,null,"Solar Thermal",1,{"$f":"OFFSET($A$3,MATCH(F50,emissionSourcesRange,0)-1,3)/G50","v":0}]
["Surplus Heat"]
["Waste Incineration",null,null,null,null,"Waste",1,{"$f":"OFFSET($A$3,MATCH(F52,emissionSourcesRange,0)-1,3)/G52","v":138}]
["Wood Chips",null,null,null,null,"Wood Chips",1,14]
["Pellets",null,null,null,null,"Pellets",1,25]
["Bio-oil",null,null,null,null,"Bio-oil",1,25]
["Bio-gas",null,null,null,null,"Bio-gas",1,10]
["Fossile Oil",null,null,null,null,"Fossile oil",1,315]
["LPG",null,null,null,null,"LPG",1,304]

{"sheet":"Lists","index":7,"n_rows":49,"n_cols":7,"rows_kept":49,"cut":false,"hidden":true,"merged":[]}
["Building Categories","Building performance data","Energy Certificates","Ownership","PV input","Energy technology"]
["Residential individual housing","Passivhouse","A","Public","Auto","Fossile "]
["Residential apartment building","Low energy","B","Private","Manual","Renewable/electric"]
["Office building","TEK 17","C","Housing cooperative"]
["Kindergarten","TEK 10","D"]
["School","TEK 07","E"]
["University/Collage","TEK 97","F"]
["Hospital","TEK 87","G"]
["Nursing home","TEK 69"]
["Hotel","TEK 49"]
["Sports Facility","Older"]
["Comercial building","Simulation"]
["Cultural building","Measurements"]
["Industry/Workshop"]
[]
[]
["Local energy plant list"]
["CHP"]
["Solar PV"]
["Solar Thermal"]
["Boiler"]
["Heat Pump"]
["Direct connection"]
[]
["Goal Catergory List","Unit List","Comparison"]
["Energy Consumption","Absolute","Absolute"]
["Energy Generation","/m2 BRA","% Increase"]
["Mismatch","/inhabitant","% Reduction"]
[null,"/person"]
["Mobility"]
["Carbon Emission"]
[]
["Goal List","# KPIs","CO2-reduction","Increased use of renewable energy","Increased energy efficiency","Increased use of local energy sources","Green mobility"]
["CO2-reduction",null,{"$f":"COUNTA(C35:C44)","v":3},{"$f":"COUNTA(D35:D42)","v":6},{"$f":"COUNTA(E35:E43)","v":4},{"$f":"COUNTA(F35:F43)","v":4},{"$f":"COUNTA(G35:G42)","v":1}]
["Increased use of renewable energy",null,"CO2 emissions","% of energy sources delivering to district heating system","Energy Use","Installed capacity of RES","Modal Split"]
["Increased energy efficiency",null,"# fossil free construction sites","# fossile free construction sites","% of buildings with Energy Certificate at each of the grades","Generated energy by RES"]
["Increased use of local energy sources",null,"Number of registered oil tanks","Installed capacity of RES","% of buildings with measurement values for energy performance","# of buildings with installed solar energy system"]
["Green mobility",null,null,"Generated energy by RES","Net energy demand in buildings","# of buildings connected to a district thermal energy system"]
[null,null,null,"# of buildings with installed solar energy system"]
[null,null,null,"# of buildings connected to a district thermal energy system"]
[]
[]
[]
[]
[]
["Location List"]
["Oslo og Akershus"]
["Bergen, Trondheim og Stavanger area"]
["Other Cities"]

{"sheet":"KPIResults","index":8,"n_rows":239,"n_cols":12,"rows_kept":239,"cut":false,"hidden":false,"merged":[]}
["Scenario",null,null,null,null,null,"Initial","Baseline","Scenario1","Scenario12","Scenario1r8","Scenario123"]
[]
["Key Data",null,"Category","Sub-Category","Sectors","Unit"]
["Year",null,null,null,null,null,2018,2030,2030,2030,2030,2030]
["Population",null,null,null,null,"#",330,330,330,330,330,330]
["Number of jobs",null,null,null,null,"#",36,236,236,236,236,236]
["Other Users",null,null,null,null,"#",650,800,800,800,800,800]
["Building area",null,null,null,"Total","m2",29000,37000,37000,37000,37000,37000]
[null,null,null,null,"Residential buildings","m2",18000,18000,18000,18000,18000,18000]
[null,null,null,null,"Public buildings","m2",10500,18500,18500,18500,18500,18500]
[null,null,null,null,"Private buildings","m2",500,500,500,500,500,500]
["Number of buildings",null,null,null,"Total","#",4,5,5,5,5,5]
[null,null,null,null,"Residential buildings","#",1,1,1,1,1,1]
[null,null,null,null,"Public buildings","#",2,3,3,3,3,3]
[null,null,null,null,"Private buildings","#",1,1,1,1,1,1]
[]
["KPI",null,"Category","Sub-Category","Sectors","Unit"]
["Energy Use",null,"Total","Total stationary","Total","kWh",8625441.5139976442,10270599.419495,6043925.3623484867,6043925.3623484867,6043925.3623484867,6043925.3623484867]
[null,null,null,null,"Residential buildings","kWh",3012527.4346745126,3012527.4346745126,3012527.4346745126,3012527.4346745126,3012527.4346745126,3012527.4346745126]
[null,null,null,null,"Public buildings","kWh",5078400.4997012662,6723558.4051986206,2496884.3480521096,2496884.3480521096,2496884.3480521096,2496884.3480521096]
[null,null,null,null,"Private buildings","kWh",180156.59790798044,180156.59790798044,180156.59790798044,180156.59790798044,180156.59790798044,180156.59790798044]
[null,null,null,null,"Street Utilities","kWh",354356.98171388404,354356.98171388404,354356.98171388404,354356.98171388404,354356.98171388404,354356.98171388404]
[null,null,null,"Total stationary and mobility","Total",null,9665413.7322318964,11521268.135018937,7211393.6324887257,7211393.6324887257,7211393.6324887257,7211393.6324887257]
[null,null,null,null,"Residential buildings",null,3012527.4346745126,3012527.4346745126,3012527.4346745126,3012527.4346745126,3012527.4346745126,3012527.4346745126]
[null,null,null,null,"Public buildings",null,5078400.4997012662,6723558.4051986206,2496884.3480521096,2496884.3480521096,2496884.3480521096,2496884.3480521096]
[null,null,null,null,"Private buildings",null,180156.59790798044,180156.59790798044,180156.59790798044,180156.59790798044,180156.59790798044,180156.59790798044]
[null,null,null,null,"Street Utilities",null,354356.98171388404,354356.98171388404,354356.98171388404,354356.98171388404,354356.98171388404,354356.98171388404]
[null,null,null,null,"Transport",null,1039972.2182342511,1250668.7155239375,1167468.2701402381,1167468.2701402381,1167468.2701402381,1167468.2701402381]
[null,null,"Electric","Total stationary","Total","kWh",4092303.8041434987,4964676.9677434992,4383322.2416434987,4383322.2416434987,4383322.2416434987,4383322.2416434987]
[null,null,null,null,"Residential buildings","kWh",3012527.4346745126,3012527.4346745126,3012527.4346745126,3012527.4346745126,3012527.4346745126,3012527.4346745126]
[null,null,null,null,"Public buildings","kWh",635600,1507973.1636000001,926618.4375,926618.4375,926618.4375,926618.4375]
[null,null,null,null,"Private buildings","kWh",89819.387755102041,89819.387755102041,89819.387755102041,89819.387755102041,89819.387755102041,89819.387755102041]
[null,null,null,null,"Street Utilities","kWh",354356.98171388404,354356.98171388404,354356.98171388404,354356.98171388404,354356.98171388404,354356.98171388404]
[null,null,null,"Total stationary and mobility","Total","kWh",4201905.7298935866,5265831.7207297841,4728647.52081763,4728647.52081763,4728647.52081763,4728647.52081763]
[null,null,null,null,"Residential buildings","kWh",3012527.4346745126,3012527.4346745126,3012527.4346745126,3012527.4346745126,3012527.4346745126,3012527.4346745126]
[null,null,null,null,"Public buildings","kWh",635600,1507973.1636000001,926618.4375,926618.4375,926618.4375,926618.4375]
[null,null,null,null,"Private buildings","kWh",89819.387755102041,89819.387755102041,89819.387755102041,89819.387755102041,89819.387755102041,89819.387755102041]
[null,null,null,null,"Street Utilities","kWh",354356.98171388404,354356.98171388404,354356.98171388404,354356.98171388404,354356.98171388404,354356.98171388404]
[null,null,null,null,"Transport","kWh",109601.92575008851,301154.75298628485,345325.27917413117,345325.27917413117,345325.27917413117,345325.27917413117]
[null,null,null,"Buildings","Total","kWh",3737946.8224296146,4610319.9860296147,4028965.2599296146,4028965.2599296146,4028965.2599296146,4028965.2599296146]
[null,null,null,null,"Residential buildings","kWh",3012527.4346745126,3012527.4346745126,3012527.4346745126,3012527.4346745126,3012527.4346745126,3012527.4346745126]
[null,null,null,null,"Public buildings","kWh",635600,1507973.1636000001,926618.4375,926618.4375,926618.4375,926618.4375]
[null,null,null,null,"Private buildings","kWh",89819.387755102041,89819.387755102041,89819.387755102041,89819.387755102041,89819.387755102041,89819.387755102041]
[null,null,null,"Street Utilities","Total","kWh",354356.98171388404,354356.98171388404,354356.98171388404,354356.98171388404,354356.98171388404,354356.98171388404]
[null,null,null,null,"Outdoor lighting","kWh",275000,275000,275000,275000,275000,275000]
[null,null,null,null,"Other","kWh",79356.981713884074,79356.981713884074,79356.981713884074,79356.981713884074,79356.981713884074,79356.981713884074]
[null,null,null,"Transport","Total","kWh",109601.92575008851,301154.75298628485,345325.27917413117,345325.27917413117,345325.27917413117,345325.27917413117]
[null,null,null,null,"Private car","kWh",13531.071148531468,130391.24168951047,130391.24168951047,130391.24168951047,130391.24168951047,130391.24168951047]
[null,null,null,null,"Public transport","kWh",95019.164531626971,150445.21199607506,194615.73818392135,194615.73818392135,194615.73818392135,194615.73818392135]
[null,null,null,null,"Goods","kWh",1051.6900699300697,20318.299300699298,20318.299300699298,20318.299300699298,20318.299300699298,20318.299300699298]
[null,null,"Thermal","Total stationary","Total","kWh",4533137.7098541446,5305922.4517515004,1660603.120704988,1660603.120704988,1660603.120704988,1660603.120704988]
[null,null,null,null,"Solar","kWh",0,0,0,0,0,0]
[null,null,null,null,"Biofuel","kWh",0,0,0,0,0,0]
[null,null,null,null,"Oil","kWh",4442800.4997012662,0,0,0,0,0]
[null,null,null,null,"Gas","kWh",0,0,0,0,0,0]
[null,null,null,null,"District heating","kWh",90337.210152878382,5305922.4517514994,1660603.1207049883,1660603.1207049883,1660603.1207049883,1660603.1207049883]
[null,null,null,"Total stationary and mobility","Total",null,5463508.002338307,6255436.4142891532,2482746.1116710952,2482746.1116710952,2482746.1116710952,2482746.1116710952]
[null,null,null,null,"Solar",null,0,0,0,0,0,0]
[null,null,null,null,"Biofuel",null,0,0,0,0,0,0]
[null,null,null,null,"Oil",null,4442800.4997012662,0,0,0,0,0]
[null,null,null,null,"Gas",null,0,0,0,0,0,0]
[null,null,null,null,"District heating",null,90337.210152878382,5305922.4517514994,1660603.1207049883,1660603.1207049883,1660603.1207049883,1660603.1207049883]
[null,null,null,null,"Fossil fuels",null,930370.29248416261,949513.96253765258,822142.99096610711,822142.99096610711,822142.99096610711,822142.99096610711]
[null,null,null,"Residential Buildings","Total","kWh",0,0,0,0,0,0]
[null,null,null,null,"Solar","kWh",0,0,0,0,0,0]
[null,null,null,null,"Biofuel","kWh",0,0,0,0,0,0]
[null,null,null,null,"Oil","kWh",0,0,0,0,0,0]
[null,null,null,null,"Gas","kWh",0,0,0,0,0,0]
[null,null,null,null,"District heating","kWh",0,0,0,0,0,0]
[null,null,null,"Public Buildings","Total","kWh",4442800.4997012662,5215585.241598621,1570265.9105521098,1570265.9105521098,1570265.9105521098,1570265.9105521098]
[null,null,null,null,"Solar","kWh",0,0,0,0,0,0]
[null,null,null,null,"Biofuel","kWh",0,0,0,0,0,0]
[null,null,null,null,"Oil","kWh",4442800.4997012662,0,0,0,0,0]
[null,null,null,null,"Gas","kWh",0,0,0,0,0,0]
[null,null,null,null,"District heating","kWh",0,5215585.241598621,1570265.9105521098,1570265.9105521098,1570265.9105521098,1570265.9105521098]
[null,null,null,"Private Buildings","Total","kWh",90337.210152878382,90337.210152878382,90337.210152878382,90337.210152878382,90337.210152878382,90337.210152878382]
[null,null,null,null,"Solar","kWh",0,0,0,0,0,0]
[null,null,null,null,"Biofuel","kWh",0,0,0,0,0,0]
[null,null,null,null,"Oil","kWh",0,0,0,0,0,0]
[null,null,null,null,"Gas","kWh",0,0,0,0,0,0]
[null,null,null,null,"District heating","kWh",90337.210152878382,90337.210152878382,90337.210152878382,90337.210152878382,90337.210152878382,90337.210152878382]
[null,null,null,"Street Utilities","Total","kWh",0,0,0,0,0,0]
[null,null,null,null,"Solar","kWh",0,0,0,0,0,0]
[null,null,null,null,"Biofuel","kWh",0,0,0,0,0,0]
[null,null,null,null,"Oil","kWh",0,0,0,0,0,0]
[null,null,null,null,"Gas","kWh",0,0,0,0,0,0]
[null,null,null,null,"District heating","kWh",0,0,0,0,0,0]
[null,null,null,"Transport","Fossil fuels","kWh",930370.29248416261,949513.96253765258,822142.99096610711,822142.99096610711,822142.99096610711,822142.99096610711]
[null,null,null,"Private car","Fossil fuels","kWh",781216.3190618197,720779.13466773881,720779.13466773881,720779.13466773881,720779.13466773881,720779.13466773881]
[null,null,null,"Public transport","Fossil fuels","kWh",84882.296232288543,127370.97157154549,0,0,0,0]
[null,null,null,"Goods","Fossil fuels","kWh",64271.677190054368,101363.85629836828,101363.85629836828,101363.85629836828,101363.85629836828,101363.85629836828]
["Net energy demand in buildings",null,"Total net demand","Total","Total","kWh",6486066.25,8326066.25,4588484.6875,4588484.6875,4588484.6875,4588484.6875]
[null,null,null,null,"Heating","kWh",4376141.25,5103768.0864000004,1947541.25,1947541.25,1947541.25,1947541.25]
[null,null,null,null,"Hot water","kWh",840000,1080000,1080000,1080000,1080000,1080000]
[null,null,null,null,"Cooling","kWh",23200,23200,23200,23200,23200,23200]
[null,null,null,null,"Electric","kWh",1246725,2119098.1636000001,1537743.4375,1537743.4375,1537743.4375,1537743.4375]
[null,null,null,"Residential Buildings","Total","kWh",2488016.25,2488016.25,2488016.25,2488016.25,2488016.25,2488016.25]
[null,null,null,null,"Heating","kWh",1507241.25,1507241.25,1507241.25,1507241.25,1507241.25,1507241.25]
[null,null,null,null,"Hot water","kWh",450000,450000,450000,450000,450000,450000]
[null,null,null,null,"Cooling","kWh",0,0,0,0,0,0]
[null,null,null,null,"Electric","kWh",530775,530775,530775,530775,530775,530775]
[null,null,null,"Public Buildings","Total","kWh",3819200,5659200,1921618.4375,1921618.4375,1921618.4375,1921618.4375]
[null,null,null,null,"Heating","kWh",2798600,3526226.8363999999,370000,370000,370000,370000]
[null,null,null,null,"Hot water","kWh",385000,625000,625000,625000,625000,625000]
[null,null,null,null,"Cooling","kWh",0,0,0,0,0,0]
[null,null,null,null,"Electric","kWh",635600,1507973.1636000001,926618.4375,926618.4375,926618.4375,926618.4375]
[null,null,null,"Private Buildings","Total","kWh",178850,178850,178850,178850,178850,178850]
[null,null,null,null,"Heating","kWh",70300.000000000015,70300.000000000015,70300.000000000015,70300.000000000015,70300.000000000015,70300.000000000015]
[null,null,null,null,"Hot water","kWh",5000,5000,5000,5000,5000,5000]
[null,null,null,null,"Cooling","kWh",23200,23200,23200,23200,23200,23200]
[null,null,null,null,"Electric","kWh",80350,80350,80350,80350,80350,80350]
["% of energy sources delivering to district heating system",null,"Total",null,null,"%",30,31,31,31,31,31]
[null,null,"Electricity",null,null,"%",28.999999999999996,28.999999999999996,28.999999999999996,28.999999999999996,28.999999999999996,28.999999999999996]
[null,null,"Surplus and Ambient Heat",null,null,"%",0,0,0,0,0,0]
[null,null,"Solar",null,null,"%",0,0,0,0,0,0]
[null,null,"Biofuel",null,null,"%",30,31,31,31,31,31]
[null,null,"Waste",null,null,"%",40,40,40,40,40,40]
[null,null,"Oil",null,null,"%",1,0,0,0,0,0]
[null,null,"Gas",null,null,"%",0,0,0,0,0,0]
["% of buildings with Energy Certificate at each of the grades",null,"Total registered",null,null,"%",100,100,100,100,100,100]
[null,null,"Certificate A",null,null,"%",0,0,60,60,60,60]
[null,null,"Certificate B",null,null,"%",0,0,0,0,0,0]
[null,null,"Certificate C",null,null,"%",0,20,0,0,0,0]
[null,null,"Certificate D",null,null,"%",0,0,0,0,0,0]
[null,null,"Certificate E",null,null,"%",25,20,20,20,20,20]
[null,null,"Certificate F",null,null,"%",25,20,20,20,20,20]
[null,null,"Certificate G",null,null,"%",50,40,0,0,0,0]
[null,null,"Not registered",null,null,"%",0,0,0,0,0,0]
["% of buildings with measurement values for energy performance",null,null,null,"Total","%",0,0,0,0,0,0]
[null,null,null,null,"Residential buildings","%",0,0,0,0,0,0]
[null,null,null,null,"Public buildings","%",0,0,0,0,0,0]
[null,null,null,null,"Private buildings","%",0,0,0,0,0,0]
["Installed capacity of RES",null,"Total","Total",null,"kW",0,0,20,20,20,20]
[null,null,null,"Solar",null,"kW",0,0,20,20,20,20]
[null,null,null,"CHP Waste",null,"kW",0,0,0,0,0,0]
[null,null,null,"CHP Biomass",null,"kW",0,0,0,0,0,0]
[null,null,"Electric","Total",null,"kW",0,0,20,20,20,20]
[null,null,null,"Solar",null,"kW",0,0,20,20,20,20]
[null,null,null,"CHP Waste",null,"kW",0,0,0,0,0,0]
[null,null,null,"CHP Biomass",null,"kW",0,0,0,0,0,0]
[null,null,"Thermal","Total",null,"kW",0,0,0,0,0,0]
[null,null,null,"Solar",null,"kW",0,0,0,0,0,0]
[null,null,null,"CHP Waste",null,"kW",0,0,0,0,0,0]
[null,null,null,"CHP Biomass",null,"kW",0,0,0,0,0,0]
["Generated energy by RES",null,"Total","Total",null,"kWh",0,0,20000,20000,20000,20000]
[null,null,null,"Solar",null,"kWh",0,0,20000,20000,20000,20000]
[null,null,null,"CHP Waste",null,"kWh",0,0,0,0,0,0]
[null,null,null,"CHP Biomass",null,"kWh",0,0,0,0,0,0]
[null,null,"Electric","Total",null,"kWh",0,0,20000,20000,20000,20000]
[null,null,null,"Solar",null,"kWh",0,0,20000,20000,20000,20000]
[null,null,null,"CHP Waste",null,"kWh",0,0,0,0,0,0]
[null,null,null,"CHP Biomass",null,"kWh",0,0,0,0,0,0]
[null,null,"Thermal","Total",null,"kWh",0,0,0,0,0,0]
[null,null,null,"Solar",null,"kWh",0,0,0,0,0,0]
[null,null,null,"CHP Waste",null,"kWh",0,0,0,0,0,0]
[null,null,null,"CHP Biomass",null,"kWh",0,0,0,0,0,0]
["# of buildings with installed solar energy system",null,"Total",null,"Total","#",0,0,1,1,1,1]
[null,null,null,null,"Residential buildings","#",0,0,0,0,0,0]
[null,null,null,null,"Public buildings","#",0,0,1,1,1,1]
[null,null,null,null,"Private buildings","#",0,0,0,0,0,0]
[null,null,"Electric",null,"Total","#",0,0,1,1,1,1]
[null,null,null,null,"Residential buildings","#",0,0,0,0,0,0]
[null,null,null,null,"Public buildings","#",0,0,1,1,1,1]
[null,null,null,null,"Private buildings","#",0,0,0,0,0,0]
[null,null,"Thermal",null,"Total","#",0,0,0,0,0,0]
[null,null,null,null,"Residential buildings","#",0,0,0,0,0,0]
[null,null,null,null,"Public buildings","#",0,0,0,0,0,0]
[null,null,null,null,"Private buildings","#",0,0,0,0,0,0]
["# of buildings connected to a district thermal energy system",null,null,null,"Total","#",1,4,4,4,4,4]
[null,null,null,null,"Residential buildings","#",0,0,0,0,0,0]
[null,null,null,null,"Public buildings","#",0,3,3,3,3,3]
[null,null,null,null,"Private buildings","#",1,1,1,1,1,1]
["Use of secondary heat",null,null,null,null,"kWh"]
["Peak Load Consumption",null,"Total",null,null,"kW"]
[null,null,"Electric",null,null,"kW"]
[null,null,"Thermal DH",null,null,"kW"]
["Peak Load Production",null,"Total",null,null,"kW"]
[null,null,"Electric",null,null,"kW"]
[null,null,"Thermal DH",null,null,"kW"]
["Modal split",null,"Total",null,null,"%",100,99.999999999999986,100,100,100,100]
[null,null,"Bike/Walk",null,null,"%",30.492260933851234,29.590848707326845,29.590848707326845,29.590848707326845,29.590848707326845,29.590848707326845]
[null,null,"Fossil free Car",null,null,"%",2.3374394780384202,15.414898952184068,15.414898952184068,15.414898952184068,15.414898952184068,15.414898952184068]
[null,null,"Fossil fuel Car",null,null,"%",38.29873640236103,24.751847630426752,24.751847630426752,24.751847630426752,24.751847630426752,24.751847630426752]
[null,null,"Fossil free Public transport",null,null,"%",17.438424164192593,18.750290920238648,30.242404710062338,30.242404710062338,30.242404710062338,30.242404710062338]
[null,null,"Fossil fuel Public transport",null,null,"%",11.433139021556732,11.492113789823687,0,0,0,0]
["# filling stations with RES fuel for public access",null,"Total",null,null,"#"]
["CO2 emissions",null,"Total",null,null,"tonnes",2218.773465792633,1237.5212664008193,931.74428394870256,931.74428394870256,931.74428394870256,931.74428394870256]
[null,null,"Stationary Energy","Total","Total","tonnes",1907.9961925294676,897.38883328798556,626.42810313137215,626.42810313137215,626.42810313137215,626.42810313137215]
[null,null,null,null,"Residential buildings","tonnes",370.54087446496504,370.54087446496504,370.54087446496504,370.54087446496504,370.54087446496504,370.54087446496504]
[null,null,null,null,"Public buildings","tonnes",1477.6609574058987,467.33241671427112,196.37168655765782,196.37168655765782,196.37168655765782,196.37168655765782]
[null,null,null,null,"Private buildings","tonnes",16.208451907796174,15.929633357941613,15.929633357941613,15.929633357941613,15.929633357941613,15.929633357941613]
[null,null,null,null,"Street Utilities","tonnes",43.585908750807739,43.585908750807739,43.585908750807739,43.585908750807739,43.585908750807739,43.585908750807739]
[null,null,null,null,"Local Energy Plant","tonnes",0,0,0,0,0,0]
[null,null,null,"Electricity","Total","tonnes",503.35336790965039,610.6552670324503,536.68863572215037,536.68863572215037,536.68863572215037,536.68863572215037]
[null,null,null,null,"Residential buildings","tonnes",370.54087446496504,370.54087446496504,370.54087446496504,370.54087446496504,370.54087446496504,370.54087446496504]
[null,null,null,null,"Public buildings","tonnes",78.178799999999995,185.48069912279999,111.5140678125,111.5140678125,111.5140678125,111.5140678125]
[null,null,null,null,"Private buildings","tonnes",11.047784693877551,11.047784693877551,11.047784693877551,11.047784693877551,11.047784693877551,11.047784693877551]
[null,null,null,null,"Street Utilities","tonnes",43.585908750807739,43.585908750807739,43.585908750807739,43.585908750807739,43.585908750807739,43.585908750807739]
[null,null,null,null,"Local Energy Plant","tonnes",0,0,0,0,0,0]
[null,null,null,"Biofuel","Total","tonnes",0,0,0,0,0,0]
[null,null,null,null,"Residential buildings","tonnes",0,0,0,0,0,0]
[null,null,null,null,"Public buildings","tonnes",0,0,0,0,0,0]
[null,null,null,null,"Private buildings","tonnes",0,0,0,0,0,0]
[null,null,null,null,"Street Utilities","tonnes",0,0,0,0,0,0]
[null,null,null,"Fossile fuel","Total","tonnes",1399.4821574058985,0,0,0,0,0]
[null,null,null,null,"Residential buildings","tonnes",0,0,0,0,0,0]
[null,null,null,null,"Public buildings","tonnes",1399.4821574058985,0,0,0,0,0]
[null,null,null,null,"Private buildings","tonnes",0,0,0,0,0,0]
[null,null,null,null,"Street Utilities","tonnes",0,0,0,0,0,0]
[null,null,null,"District heating","Total","tonnes",5.1606672139186225,286.73356625553521,89.739467409221888,89.739467409221888,89.739467409221888,89.739467409221888]
[null,null,null,null,"Residential buildings","tonnes",0,0,0,0,0,0]
[null,null,null,null,"Public buildings","tonnes",0,281.85171759147113,84.857618745157822,84.857618745157822,84.857618745157822,84.857618745157822]
[null,null,null,null,"Private buildings","tonnes",5.1606672139186225,4.8818486640640604,4.8818486640640604,4.8818486640640604,4.8818486640640604,4.8818486640640604]
[null,null,null,null,"Street Utilities","tonnes",0,0,0,0,0,0]
[null,null,null,null,"Local Energy Plant","tonnes",0,0,0,0,0,0]
[null,null,"Mobility",null,"Total","tonnes",310.7772732631654,340.13243311283372,305.31618081733041,305.31618081733041,305.31618081733041,305.31618081733041]
[null,null,null,null,"Private cars","tonnes",251.82790254571356,246.8483156164377,246.8483156164377,246.8483156164377,246.8483156164377,246.8483156164377]
[null,null,null,null,"Public transport","tonnes",38.510162846793293,58.753988092125617,23.937735796622327,23.937735796622327,23.937735796622327,23.937735796622327]
[null,null,null,null,"Goods transport","tonnes",20.439207870658581,34.530129404270397,34.530129404270397,34.530129404270397,34.530129404270397,34.530129404270397]
[null,null,"Materials",null,"Total","tonnes",0,0,0,0,0,0]
[null,null,null,null,"Residential buildings","tonnes",0,0,0,0,0,0]
[null,null,null,null,"Public buildings","tonnes",0,0,0,0,0,0]
[null,null,null,null,"Private buildings","tonnes",0,0,0,0,0,0]
["# fossil free construction sites",null,"Total",null,"Total","#"]
[null,null,null,null,"Residential buildings","#"]
[null,null,null,null,"Public buildings","#"]
[null,null,null,null,"Private buildings","#"]
[null,null,"Construction Machines and Transportation",null,"Total","#"]
[null,null,null,null,"Residential buildings","#"]
[null,null,null,null,"Public buildings","#"]
[null,null,null,null,"Private buildings","#"]
[null,null,"Energy production",null,"Total","#"]
[null,null,null,null,"Residential buildings","#"]
[null,null,null,null,"Public buildings","#"]
[null,null,null,null,"Private buildings","#"]
["# of registered oil tanks",null,null,null,"Total","#"]
[null,null,null,null,"Residential buildings","#"]
[null,null,null,null,"Public buildings","#"]
[null,null,null,null,"Private buildings","#"]

{"sheet":"KPIs summary list","index":9,"n_rows":83,"n_cols":6,"rows_kept":83,"cut":false,"hidden":true,"merged":[[0,2,0,3]]}
["KPI","Goal s","Sub-categories",null,"Sectors","Unit"]
["Name","Name",1,2]
["CO2 emissions","CO2-reduction","Stationary Energy","Electricity","Public buildings","Tonnes CO2 eqv."]
[null,null,null,"Biofuel","Residential buildings"]
[null,null,null,"Fossile fuel","Private buildings"]
[null,null,null,"District heating","Infrastructure"]
[null,null,"Mobility",null,"Private cars"]
[null,null,null,null,"Taxi"]
[null,null,null,null,"Public transport"]
[null,null,null,null,"Goods transport"]
[null,null,null,null,"Freight transportation"]
[null,null,null,null,"Construction machines"]
[null,null,"Materials",null,"Public buildings"]
[null,null,null,null,"Residential buildings"]
[null,null,null,null,"Private buildings"]
["Energy Use","Increased energy efficiency","Electric","Buildings","Public buildings","MWh"]
[null,null,null,null,"Residential buildings"]
[null,null,null,null,"Private buildings"]
[null,null,null,"Infrastructure","Outdoor lighting"]
[null,null,null,null,"Transport"]
[null,null,null,null,"Other"]
[null,null,"Thermal","Solar","Public buildings"]
[null,null,null,"Biofuel","Residential buildings"]
[null,null,null,"Oil","Private buildings"]
[null,null,null,"Gas","Infrastructure"]
[null,null,null,"District heating"]
["District Heating share of renewables","Increased use of renewable energy","Electricity",null,null,"%"]
[null,null,"Heat pump"]
[null,null,"Solar"]
[null,null,"Biofuel"]
[null,null,"Waste"]
[null,null,"Oil"]
[null,null,"Gas"]
["Energy Certificate","Increased energy efficiency","Certificate A",null,"Public buildings","%"]
[null,null,"Certificate B",null,"Residential buildings"]
[null,null,"Certificate C",null,"Private buildings"]
[null,null,"Certificate D"]
[null,null,"Certificate E"]
[null,null,"Certificate F"]
[null,null,"Certificate G"]
[null,null,"Not registered"]
["Use of energy related incentive","Increased energy efficiency","Futurebuildt",null,"Public buildings","#"]
[null,null,"Enova",null,"Residential buildings"]
[null,null,"Local",null,"Private buildings"]
["Buildings benchmarked and measuring energy performance","Increased energy efficiency",null,null,"Public buildings","%"]
[null,null,null,null,"Residential buildings"]
[null,null,null,null,"Private buildings"]
["# fossile free construction sites","CO2-reduction","Construction Machines",null,"Public buildings","#"]
[null,"Increased use of renewable energy","Energy production",null,"Residential buildings"]
[null,null,null,null,"Private buildings"]
["Modal Split","Green mobility (reduced CO2 emissions and better air quality)","Fossil free Car",null,null,"%"]
[null,null,"Fossil fuel Car"]
[null,null,"Fossil free Public transport"]
[null,null,"Fossil fuel Public transport"]
[null,null,"Bike"]
[null,null,"Walk"]
["# filling stations with RES fuel / area/innh.","Green mobility (reduced CO2 emissions and better air quality)","Electric",null,null,"#"]
[null,null,"Hydrogen"]
[null,null,"Biofuel"]
["% fossil free cars of new car registerred","Green mobility (reduced CO2 emissions and better air quality)","Electric",null,null,"%"]
[null,null,"Hydrogen"]
["% of berths with power connection","Green mobility (reduced CO2 emissions and better air quality)"]
["RES installed capacity","Increased use of local energy sources","Electric","Solar",null,"kW"]
[null,"Increased use of renewable energy","Thermal","CHP Waste"]
[null,null,null,"CHP Biomass"]
["RES generated energy","Increased use of local energy sources","Electric","Solar",null,"MWh"]
[null,"Increased use of renewable energy","Thermal","CHP Waste"]
[null,null,null,"CHP Biomass"]
["Buildings with installed RES","Increased use of local energy sources","Electric","Solar",null,"%"]
[null,"Increased use of renewable energy","Thermal"]
["Use of secondary heat","Increased use of local energy sources",null,null,null,"MWh"]
["Buildings connected to a district thermal energy ","Increased use of local energy sources",null,null,null,"%"]
[null,"Increased use of renewable energy"]
["Identification of available resources of renewable energy","Increased use of local energy sources",null,null,null,"MWh"]
[null,"Increased use of renewable energy"]
["Number of registered oil tanks","Increased use of renewable energy",null,null,null,"#"]
[null,"CO2-reduction"]
["Peak Load Consumption",null,"Electric",null,null,"kW"]
[null,null,"Thermal"]
["Peak Load Production","Increased use of local energy sources","Electric",null,null,"kW"]
[null,null,"Thermal"]
["Energy Storage","Increased use of local energy sources","Electric",null,null,"MWh"]
[null,"Increased use of renewable energy","Thermal"]

{"sheet":"Initial","index":10,"n_rows":70,"n_cols":50,"rows_kept":70,"cut":false,"hidden":false,"merged":[[45,4,45,8],[44,4,44,9],[13,10,13,35],[13,36,13,43],[4,43,4,46],[3,7,3,12],[4,13,4,21],[3,14,3,39],[4,23,4,30],[4,32,4,39]]}
[{"$f":"MainPage!A1","v":"PI-SEC Scenario Calculator"},"Initial Situation",2018]
["Neighbourhood",{"$f":"MainPage!B2","v":"Grønneberg"}]
["Buildings"]
[null,null,null,null,null,null,null,"Energy performance",null,null,null,null,null,null,"Thermal Energy supply system",null,null,null,null,null,null,null,null,null,null,null,null,null,null,null,null,null,null,null,null,null,null,null,null,null,"Renewable energy production",null,null,null,null,null,null,"Emission Data","Construction site data"]
[null,null,null,null,null,null,null,null,null,null,null,null,null,"Heating",null,null,null,null,null,null,null,null,null,"Hot Water",null,null,null,null,null,null,null,null,"Cooling",null,null,null,null,null,null,null,"Solar Thermal (surplus)",null,null,"Solar PV (total)",null,null,null,"Materials","Construction Machines","Thermal energy"]
["Building","Category","Year of construction","Area [m2]","Ownership","residents/ employees\n[#]","Res above 13y/ Other Users \n[#]","Energy certificate","Performance\ninput","Heating \n[kWh/m2]","Hot Water\n[kWh/m2]","Cooling\n[kWh/m2]","Electricity\n[kWh/m2]","Source 1","Coverage \n[%]","Efficiency/COP\n[-]","Source 2","Coverage \n[%]","Efficiency/COP\n[-]","Source 3","Coverage \n[%]","Efficiency/COP\n[-]","Source 1","Coverage \n[%]","Efficiency/ COP [%]","Source 2","Coverage \n[%]","Efficiency/ COP [%]","Source 3","Coverage \n[%]","Efficiency/COP\n[%]","Source 1","Coverage \n[%]","Efficiency/COP\n[-]","Source 2","Coverage \n[%]","Efficiency/COP\n[%]","Source 3","Coverage \n[%]","Efficiency/COP\n[%]","Size\n[m2]","Peak production\n[kWp]","Yearly production \n[kWh]","Size\n[m2]","Input \ntype","Peak production\n[kWp]","Yearly production \n[kWh]","Life cycle emission\n[tCO2 eqv./y]","Fuel","Fuel"]
["Butikken","Comercial building",1995,500,"Private",10,250,"E","TEK 87",140.60000000000002,10,46.4,160.69999999999999,"District Heating",1,0.86582999999999999,null,null,null,null,null,null,null,null,null,"District Heating",1,0.54683999999999999,null,null,null,"Local Chiller",1,2.4500000000000002]
["Skolen","School",1975,3500,"Public",20,200,"G","TEK 69",196.6,10,0,59.6,"Oil boiler",1,0.76712499999999995,null,null,null,null,null,null,null,null,null,"Oil boiler",1,0.48449999999999999]
["Skolen idrettshall","Sports Facility",1975,7000,"Public",6,200,"G","TEK 69",301.5,50,0,61,"Oil boiler",1,0.76712499999999995,null,null,null,null,null,null,null,null,null,"Oil boiler",1,0.48449999999999999]
["Rekkehusene","Residential individual housing",1980,{"$f":"150*120","v":18000},"Housing cooperative",{"$f":"2.2*150","v":330},{"$f":"0.84*F10","v":277.2},"F","TEK 69",98.512500000000003,25,0,29.487500000000001,"Electric heater",0.85,0.88209000000000004,"Wood-burning Stove",0.15,0.64000000000000012,null,null,null,null,null,null,"Electric water heater",1,0.58211999999999997]
[null,null,null,null,null,null,null,null,null,0,0,0,0]
[]
["Street Utilities"]
["General description",null,null,"Energy performance"]
["Outdoor lighting","Year of installation","# units","Energy performance\nCategory","Energy consumption\n[kWh/unit]"]
["Utendørsbelysning",1980,500,"Low efficiency",550]
[]
["Snow Melt Systems","Year of installation","Size [m2]","Energy performance\nCategory","Energy consumption\n[kWh/m2]","Energy source","Efficiency/COP\n[-]"]
["Snøsmeltesystem skole og fotballbane",1980,200,"Low efficiency",350,"Electric heater",0.88209000000000004]
[]
[]
["Local energy plant"]
["Energy Source",null,null,null,"Heating to District Heating system",null,"Cooling to District Cooling system",null,"Electricity to grid"]
["Type","Energy Source","CO2 Emission\n[g/kWh]","Efficiceny\n[%]","Capacity\n[kW]","Production\n[kWh]","Capacity\n[kW]","Production\n[kWh]","Capacity\n[kW]","Production\n[kWh]"]
[]
[]
[]
["District Heating"]
["Energy Source",null,null,null,"Distribution"]
["Heat Source","Coverage [%]","CO2 Emission\n[g/kWh]","Production \nefficiency\n[%]","Distribution\n losses"]
["Electricity",0.28999999999999998,123,0.95,0.1]
["Heat Pump",null,123,3.125]
["Solar Collector",null,0,1]
["Waste Heat",null,0,0.9]
["Waste Incineration",0.4,11,0.9]
["Wood Chips",0.3,18,0.9]
["Pellets",null,19,0.9]
["Bio-oil",null,10,0.9]
["Bio-gas",null,10,0.9]
["Fossile Oil",0.01,268,0.9]
["LPG",null,235,0.9]
[]
[]
["Transport"]
["Population",null,null,null,"Trip Generation",null,null,null,null,null,"Travel method distribution",null,null,null,null,null,"Location:",null,"Oslo",null,null,null," ",null,null,null,null,null,"Parking Capacity"]
[null,null,null,null,"Users",null,null,null,null,"Other Users","Work",null,null,"Service",null,null,"Private errand",null,null,"Other",null,null,"Average distance",null,"# passengers",null,null,"Public Transport","Factor","Distribution of reduction"]
["Building Category","Area [m2]","residents/ employees\n[#]","Res above 13y/ Other Users \n[#]","Work","Service","Private errand","Utside Service","Goods transport",null,"Walk/bike","Public transport","Car","Walk/bike","Public transport","Car","Walk/bike","Public transport","Car","Walk/bike","Public transport","Car","Public\nTransport","Car","Buss","Rail","Car","% using track","1-0","Walk/\nBike","Public\nTransport","Car sharing"]
["Residential individual housing",{"$f":"SUMIF(BuildingCategoryRange,A48,BuildingAreaRange)","v":18000},{"$f":"SUMIF(BuildingCategoryRange,A48,BuildingResidentsRange)","v":330},{"$f":"SUMIF(BuildingCategoryRange,A48,BuildingUserRange)","v":277.2},0.8,0.1,1,1.7,0.1,0,0.19,0.47,0.34,0.19,0.28999999999999998,0.52,0.42,0.21,0.37,0.43,0.26,0.31,13.8,16,19.399999999999999,15.7,1.3,0.6,{"$f":"NA()","v":{"$error":"#N/A"}},{"$f":"NA()","v":{"$error":"#N/A"}},{"$f":"NA()","v":{"$error":"#N/A"}},{"$f":"NA()","v":{"$error":"#N/A"}}]
["Residential apartment building",0,0,0,0.8,0.1,1,1.7,0.1,0,0.19,0.47,0.34,0.19,0.28999999999999998,0.52,0.42,0.21,0.37,0.43,0.26,0.31,13.8,16,19.399999999999999,15.7,1.3,0.6,{"$f":"NA()","v":{"$error":"#N/A"}},{"$f":"NA()","v":{"$error":"#N/A"}},{"$f":"NA()","v":{"$error":"#N/A"}},{"$f":"NA()","v":{"$error":"#N/A"}}]
["Office building",0,0,0,1.6,0.6,0.2,0.1,0.2,1.43,0.19,0.47,0.34,0.19,0.28999999999999998,0.52,0.42,0.21,0.37,0.43,0.26,0.31,13.8,16,19.399999999999999,15.7,1.3,0.6,1,0.15,0.75,0.1]
["Kindergarten",0,0,0,1.6,0.6,0.2,0.1,0.2,0.79,0.19,0.47,0.34,0.19,0.28999999999999998,0.52,0.42,0.21,0.37,0.43,0.26,0.31,13.8,16,19.399999999999999,15.7,1.3,0.6,1,0.15,0.75,0.1]
["School",3500,20,200,1.6,0.6,0.2,0.1,0.2,0.83,0.19,0.47,0.34,0.19,0.28999999999999998,0.52,0.42,0.21,0.37,0.43,0.26,0.31,13.8,16,19.399999999999999,15.7,1.3,0.6,1,0.15,0.75,0.1]
["University/Collage",0,0,0,1.6,0.6,0.2,0.1,0.2,0.83,0.19,0.47,0.34,0.19,0.28999999999999998,0.52,0.42,0.21,0.37,0.43,0.26,0.31,13.8,16,19.399999999999999,15.7,1.3,0.6,1,0.15,0.75,0.1]
["Hospital",0,0,0,1.6,0.6,0.2,0.1,0.2,2,0.19,0.47,0.34,0.19,0.28999999999999998,0.52,0.42,0.21,0.37,0.43,0.26,0.31,13.8,16,19.399999999999999,15.7,1.3,0.6,1,0.15,0.75,0.1]
["Nursing home",0,0,0,1.6,0.6,0.2,0.1,0.2,2,0.19,0.47,0.34,0.19,0.28999999999999998,0.52,0.42,0.21,0.37,0.43,0.26,0.31,13.8,16,19.399999999999999,15.7,1.3,0.6,1,0.15,0.75,0.1]
["Hotel",0,0,0,1.6,0.6,0.2,0.1,0.2,2.4500000000000002,0.19,0.47,0.34,0.19,0.28999999999999998,0.52,0.42,0.21,0.37,0.43,0.26,0.31,13.8,16,19.399999999999999,15.7,1.3,0.6,1,0.15,0.75,0.1]
["Sports Facility",7000,6,200,1.6,0.6,0.2,0.1,0.2,0,0.19,0.47,0.34,0.19,0.28999999999999998,0.52,0.42,0.21,0.37,0.43,0.26,0.31,13.8,16,19.399999999999999,15.7,1.3,0.6,1,0.15,0.75,0.1]
["Comercial building",500,10,250,1.6,0.2,0.1,0.1,1,1.65,0.19,0.47,0.34,0.19,0.28999999999999998,0.52,0.42,0.21,0.37,0.43,0.26,0.31,13.8,16,19.399999999999999,15.7,1.3,0.6,1,0.15,0.75,0.1]
["Cultural building",0,0,0,1.6,0.6,0.2,0.1,0.2,1.65,0.19,0.47,0.34,0.19,0.28999999999999998,0.52,0.42,0.21,0.37,0.43,0.26,0.31,13.8,16,19.399999999999999,15.7,1.3,0.6,1,0.15,0.75,0.1]
["Industry/Workshop",0,0,0,1.6,0.2,0.1,0.1,1,0,0.19,0.47,0.34,0.19,0.28999999999999998,0.52,0.42,0.21,0.37,0.43,0.26,0.31,13.8,16,19.399999999999999,15.7,1.3,0.6,1,0.15,0.75,0.1]
[null,null,null,null,{"$error":"#N/A"},{"$error":"#N/A"},{"$error":"#N/A"},{"$error":"#N/A"},{"$error":"#N/A"},{"$error":"#N/A"}]
[null,"Energy intensity",null,"CO2 emission factors",null,"Share of travels"]
["Means of transport","Fossile \n[kwh/vkm]","Electric\n[kWh/vkm]","Fossile \n[g/vkm]","Electric\n[g/vkm]","% Electric"]
["Buss",3.6910324074074068,1.28,1166.3662407407407,157.44,0.01]
["Rail",14.5,2.2000000000000002,4582.0000000000009,270.60000000000002,1]
["Car",0.62648611111111108,0.17,200.61538020833333,20.91,0.06]
["Truck",0.74831944444444431,0.6,236.46894444444445,73.8,0.02]
["Emission boundary:","Direct emissions and fuel production emissions"]
["Fossil rail method:","Diesel train"]
["Electric rail method in standard values:","Metro (Oslo)"]

{"sheet":"Baseline","index":11,"n_rows":71,"n_cols":50,"rows_kept":71,"cut":false,"hidden":false,"merged":[[14,10,14,35],[14,36,14,43],[45,4,45,9],[46,4,46,8],[3,7,3,12],[3,14,3,39],[4,13,4,21],[4,23,4,30],[4,32,4,39],[4,43,4,46]]}
[{"$f":"MainPage!A1","v":"PI-SEC Scenario Calculator"},"Baseline",{"$f":"ProjectEnd","v":2030}]
["Neighbourhood",{"$f":"MainPage!B2","v":"Grønneberg"}]
["Buildings"]
[null,null,null,null,null,null,null,"Energy performance",null,null,null,null,null,null,"Thermal Energy supply system",null,null,null,null,null,null,null,null,null,null,null,null,null,null,null,null,null,null,null,null,null,null,null,null,null,"Renewable energy production",null,null,null,null,null,null,"Emission Data","Construction site data"]
[null,null,null,null,null,null,null,null,null,null,null,null,null,"Heating",null,null,null,null,null,null,null,null,null,"Hot Water",null,null,null,null,null,null,null,null,"Cooling",null,null,null,null,null,null,null,"Solar Thermal (surplus)",null,null,"Solar PV (total)",null,null,null,"Materials","Construction Machines","Thermal energy"]
["Building","Category","Year of construction","Area [m2]","Ownership","residents/ employees\n[#]","Res above 13y/ Other Users \n[#]","Energy certificate","Performance\ninput","Heating \n[kWh/m2]","Hot Water\n[kWh/m2]","Cooling\n[kWh/m2]","Electricity\n[kWh/m2]","Source 1","Coverage \n[%]","Efficiency/COP\n[-]","Source 2","Coverage \n[%]","Efficiency/COP\n[-]","Source 3","Coverage \n[%]","Efficiency/COP\n[-]","Source 1","Coverage \n[%]","Efficiency/ COP [%]","Source 2","Coverage \n[%]","Efficiency/ COP [%]","Source 3","Coverage \n[%]","Efficiency/COP\n[%]","Source 1","Coverage \n[%]","Efficiency/COP\n[-]","Source 2","Coverage \n[%]","Efficiency/COP\n[%]","Source 3","Coverage \n[%]","Efficiency/COP\n[%]","Size\n[m2]","Peak production\n[kWp]","Yearly production \n[kWh]","Size\n[m2]","Input \ntype","Peak production\n[kWp]","Yearly production \n[kWh]","Life cycle emission\n[tCO2 eqv./y]","Fuel","Fuel"]
["Butikken","Comercial building",1995,500,"Private",10,250,"E","TEK 87",140.60000000000002,10,46.4,160.69999999999999,"District Heating",1,0.86582999999999999,null,null,null,null,null,null,"District Heating",1,0.54683999999999999,null,null,null,null,null,null,"Local Chiller",1,2.4500000000000002]
["Skolen","School",1975,3500,"Public",20,200,"G","TEK 69",196.6,10,0,59.6,"District Heating",1,0.86582999999999999,null,null,null,null,null,null,"District Heating",1,0.54683999999999999]
["Skolen idrettshall","Sports Facility",1975,7000,"Public",6,200,"G","TEK 69",301.5,50,0,61,"District Heating",1,0.86582999999999999,null,null,null,null,null,null,"District Heating",1,0.54683999999999999]
["Rekkehusene","Residential individual housing",1980,{"$f":"150*120","v":18000},"Housing cooperative",{"$f":"2.2*150","v":330},{"$f":"0.84*F10","v":277.2},"F","TEK 69",98.512500000000003,25,0,29.487500000000001,"Electric heater",0.85,0.88209000000000004,"Wood-burning Stove",0.15,0.64000000000000012,null,null,null,"Electric water heater",1,0.58211999999999997]
["Grønneberg sykehjem","Nursing home",2025,8000,"Public",200,150,"C","TEK 17",90.95335455,30,0,109.04664545,"District Heating",1,0.86582999999999999,null,null,null,null,null,null,"District Heating",1,0.54683999999999999]
[null,null,null,null,null,null,null,null,null,0,0,0,0]
[]
["Street Utilities"]
["General description",null,null,"Energy performance"]
["Outdoor lighting","Year of installation","# units","Energy performance\nCategory","Energy consumption\n[kWh/unit]"]
["Utendørsbelysning",1980,500,"Low efficiency",550]
[]
["Snow Melt Systems","Year of installation","Size [m2]","Energy performance\nCategory","Energy consumption\n[kWh/m2]","Energy source","Efficiency/COP\n[-]"]
["Snøsmeltesystem skole og fotballbane",1980,200,"Low efficiency",350,"Electric heater",0.88209000000000004]
[]
[]
["Local energy plant"]
["Energy Source",null,null,null,"Heating to District Heating system",null,"Cooling to District Cooling system",null,"Electricity to grid"]
["Type","Energy Source","CO2 Emission\n[g/kWh]","Efficiceny\n[%]","Capacity\n[kW]","Production\n[kWh]","Capacity\n[kW]","Production\n[kWh]","Capacity\n[kW]","Production\n[kWh]"]
[]
[]
[]
["District Heating"]
["Energy Source",null,null,null,"Distribution"]
["Heat Source","Coverage [%]","CO2 Emission\n[g/kWh]","Production \nefficiency\n[%]","Distribution\n losses"]
["Electricity",0.28999999999999998,123,0.95,0.1]
["Heat Pump",null,123,3.125]
["Solar Collector",null,0,1]
["Waste Heat",null,0,0.9]
["Waste Incineration",0.4,11,0.9]
["Wood Chips",0.31,18,0.9]
["Pellets",null,19,0.9]
["Bio-oil",null,10,0.9]
["Bio-gas",null,10,0.9]
["Fossile Oil",null,268,0.9]
["LPG",null,235,0.9]
[]
[]
["Transport"]
["Population",null,null,null,"Trip Generation",null,null,null,null,null,"Travel method distribution",null,null,null,null,null,"Location:",null,"Oslo",null,null,null," ",null,null,null,null,null,"Parking Capacity"]
[null,null,null,null,"Users",null,null,null,null,"Other Users","Work",null,null,"Service",null,null,"Private errand",null,null,"Other",null,null,"Average distance",null,"# passengers",null,null,"Public Transport","Factor","Distribution of reduction"]
["Building Category","Area [m2]","residents/ employees\n[#]","Res above 13y/ Other Users \n[#]","Work","Service","Private errand","Utside Service","Goods transport",null,"Walk/bike","Public transport","Car","Walk/bike","Public transport","Car","Walk/bike","Public transport","Car","Walk/bike","Public transport","Car","Public\nTransport","Car","Buss","Rail","Car","% using track","1-0","Walk/\nBike","Public\nTransport","Car sharing"]
["Residential individual housing",{"$f":"SUMIF(BuildingCategoryRange,A49,BuildingAreaRange)","v":18000},{"$f":"SUMIF(BuildingCategoryRange,A49,BuildingResidentsRange)","v":330},{"$f":"SUMIF(BuildingCategoryRange,A49,BuildingUserRange)","v":277.2},0.8,0.1,1,1.7,0.1,0,0.19,0.47,0.34,0.19,0.28999999999999998,0.52,0.42,0.21,0.37,0.43,0.26,0.31,13.8,16,19.399999999999999,15.7,1.3,0.6,{"$f":"NA()","v":{"$error":"#N/A"}},{"$f":"NA()","v":{"$error":"#N/A"}},{"$f":"NA()","v":{"$error":"#N/A"}},{"$f":"NA()","v":{"$error":"#N/A"}}]
["Residential apartment building",0,0,0,0.8,0.1,1,1.7,0.1,0,0.19,0.47,0.34,0.19,0.28999999999999998,0.52,0.42,0.21,0.37,0.43,0.26,0.31,13.8,16,19.399999999999999,15.7,1.3,0.6,{"$f":"NA()","v":{"$error":"#N/A"}},{"$f":"NA()","v":{"$error":"#N/A"}},{"$f":"NA()","v":{"$error":"#N/A"}},{"$f":"NA()","v":{"$error":"#N/A"}}]
["Office building",0,0,0,1.6,0.6,0.2,0.1,0.2,1.43,0.19,0.47,0.34,0.19,0.28999999999999998,0.52,0.42,0.21,0.37,0.43,0.26,0.31,13.8,16,19.399999999999999,15.7,1.3,0.6,1,0.15,0.75,0.1]
["Kindergarten",0,0,0,1.6,0.6,0.2,0.1,0.2,0.79,0.19,0.47,0.34,0.19,0.28999999999999998,0.52,0.42,0.21,0.37,0.43,0.26,0.31,13.8,16,19.399999999999999,15.7,1.3,0.6,1,0.15,0.75,0.1]
["School",3500,20,200,1.6,0.6,0.2,0.1,0.2,0.83,0.19,0.47,0.34,0.19,0.28999999999999998,0.52,0.42,0.21,0.37,0.43,0.26,0.31,13.8,16,19.399999999999999,15.7,1.3,0.6,1,0.15,0.75,0.1]
["University/Collage",0,0,0,1.6,0.6,0.2,0.1,0.2,0.83,0.19,0.47,0.34,0.19,0.28999999999999998,0.52,0.42,0.21,0.37,0.43,0.26,0.31,13.8,16,19.399999999999999,15.7,1.3,0.6,1,0.15,0.75,0.1]
["Hospital",0,0,0,1.6,0.6,0.2,0.1,0.2,2,0.19,0.47,0.34,0.19,0.28999999999999998,0.52,0.42,0.21,0.37,0.43,0.26,0.31,13.8,16,19.399999999999999,15.7,1.3,0.6,1,0.15,0.75,0.1]
["Nursing home",8000,200,150,1.6,0.6,0.2,0.1,0.2,2,0.19,0.47,0.34,0.19,0.28999999999999998,0.52,0.42,0.21,0.37,0.43,0.26,0.31,13.8,16,19.399999999999999,15.7,1.3,0.6,1,0.15,0.75,0.1]
["Hotel",0,0,0,1.6,0.6,0.2,0.1,0.2,2.4500000000000002,0.19,0.47,0.34,0.19,0.28999999999999998,0.52,0.42,0.21,0.37,0.43,0.26,0.31,13.8,16,19.399999999999999,15.7,1.3,0.6,1,0.15,0.75,0.1]
["Sports Facility",7000,6,200,1.6,0.6,0.2,0.1,0.2,0,0.19,0.47,0.34,0.19,0.28999999999999998,0.52,0.42,0.21,0.37,0.43,0.26,0.31,13.8,16,19.399999999999999,15.7,1.3,0.6,1,0.15,0.75,0.1]
["Comercial building",500,10,250,1.6,0.2,0.1,0.1,1,1.65,0.19,0.47,0.34,0.19,0.28999999999999998,0.52,0.42,0.21,0.37,0.43,0.26,0.31,13.8,16,19.399999999999999,15.7,1.3,0.6,1,0.15,0.75,0.1]
["Cultural building",0,0,0,1.6,0.6,0.2,0.1,0.2,1.65,0.19,0.47,0.34,0.19,0.28999999999999998,0.52,0.42,0.21,0.37,0.43,0.26,0.31,13.8,16,19.399999999999999,15.7,1.3,0.6,1,0.15,0.75,0.1]
["Industry/Workshop",0,0,0,1.6,0.2,0.1,0.1,1,0,0.19,0.47,0.34,0.19,0.28999999999999998,0.52,0.42,0.21,0.37,0.43,0.26,0.31,13.8,16,19.399999999999999,15.7,1.3,0.6,1,0.15,0.75,0.1]
[null,null,null,null,{"$error":"#N/A"},{"$error":"#N/A"},{"$error":"#N/A"},{"$error":"#N/A"},{"$error":"#N/A"},{"$error":"#N/A"}]
[null,"Energy intensity",null,"CO2 emission factors",null,"Share of travels"]
["Means of transport","Fossile \n[kwh/vkm]","Electric\n[kWh/vkm]","Fossile \n[g/vkm]","Electric\n[g/vkm]","% Electric",null,null,null,null,null,null,null,null,null,null,null,null,null,null,null,null,null,null,null,{"$f":"COUNTBLANK(TransportRailPassengersNumberRange)","v":0}]
["Buss",3.6910324074074068,1.28,1166.3662407407407,157.44,0.05,null,null,null,null,null,null,null,null,null,null,null,null,null,null,null,null,null,null,null,{"$f":"COUNT(TransportRailPassengersNumberRange)","v":13}]
["Rail",14.5,2.2000000000000002,4582.0000000000009,270.60000000000002,1]
["Car",0.62648611111111108,0.17,200.61538020833333,20.91,0.4]
["Truck",0.74831944444444431,0.6,236.46894444444445,73.8,0.2]
["Emission boundary:","Direct emissions and fuel production emissions"]
["Fossil rail method:","Diesel train"]
["Electric rail method in standard values:","Metro (Oslo)"]

{"sheet":"Scenario1","index":12,"n_rows":71,"n_cols":50,"rows_kept":71,"cut":false,"hidden":false,"merged":[[14,10,14,35],[14,36,14,43],[45,4,45,9],[46,4,46,8],[3,7,3,12],[3,14,3,39],[4,13,4,21],[4,23,4,30],[4,32,4,39],[4,43,4,46]]}
[{"$f":"MainPage!A1","v":"PI-SEC Scenario Calculator"},"Scenario1",{"$f":"ProjectEnd","v":2030}]
["Neighbourhood",{"$f":"MainPage!B2","v":"Grønneberg"}]
["Buildings"]
[null,null,null,null,null,null,null,"Energy performance",null,null,null,null,null,null,"Thermal Energy supply system",null,null,null,null,null,null,null,null,null,null,null,null,null,null,null,null,null,null,null,null,null,null,null,null,null,"Renewable energy production",null,null,null,null,null,null,"Emission Data","Construction site data"]
[null,null,null,null,null,null,null,null,null,null,null,null,null,"Heating",null,null,null,null,null,null,null,null,null,"Hot Water",null,null,null,null,null,null,null,null,"Cooling",null,null,null,null,null,null,null,"Solar Thermal (surplus)",null,null,"Solar PV (total)",null,null,null,"Materials","Construction Machines","Thermal energy"]
["Building","Category","Year of construction","Area [m2]","Ownership","residents/ employees\n[#]","Res above 13y/ Other Users \n[#]","Energy certificate","Performance\ninput","Heating \n[kWh/m2]","Hot Water\n[kWh/m2]","Cooling\n[kWh/m2]","Electricity\n[kWh/m2]","Source 1","Coverage \n[%]","Efficiency/COP\n[-]","Source 2","Coverage \n[%]","Efficiency/COP\n[-]","Source 3","Coverage \n[%]","Efficiency/COP\n[-]","Source 1","Coverage \n[%]","Efficiency/ COP [%]","Source 2","Coverage \n[%]","Efficiency/ COP [%]","Source 3","Coverage \n[%]","Efficiency/COP\n[%]","Source 1","Coverage \n[%]","Efficiency/COP\n[-]","Source 2","Coverage \n[%]","Efficiency/COP\n[%]","Source 3","Coverage \n[%]","Efficiency/COP\n[%]","Size\n[m2]","Peak production\n[kWp]","Yearly production \n[kWh]","Size\n[m2]","Input \ntype","Peak production\n[kWp]","Yearly production \n[kWh]","Life cycle emission\n[tCO2 eqv./y]","Fuel","Fuel"]
["Butikken","Comercial building",1995,500,"Private",10,250,"E","TEK 87",140.60000000000002,10,46.4,160.69999999999999,"District Heating",1,0.86582999999999999,null,null,null,null,null,null,"District Heating",1,0.54683999999999999,null,null,null,null,null,null,"Local Chiller",1,2.4500000000000002]
["Skolen","School",1975,3500,"Public",20,200,"A","Passivhouse",20,10,0,34.70708333333333,"District Heating",1,0.86582999999999999,null,null,null,null,null,null,"District Heating",1,0.54683999999999999]
["Skolen idrettshall","Sports Facility",1975,7000,"Public",6,200,"A","Passivhouse",20,50,0,28.827187500000001,"District Heating",1,0.86582999999999999,null,null,null,null,null,null,"District Heating",1,0.54683999999999999]
["Rekkehusene","Residential individual housing",1980,{"$f":"150*120","v":18000},"Housing cooperative",{"$f":"2.2*150","v":330},{"$f":"0.84*F10","v":277.2},"F","TEK 69",98.512500000000003,25,0,29.487500000000001,"Electric heater",0.85,0.88209000000000004,"Wood-burning Stove",0.15,0.64000000000000012,null,null,null,"Electric water heater",1,0.58211999999999997]
["Grønneberg sykehjem","Nursing home",2025,8000,"Public",200,150,"A","Passivhouse",20,30,0,75.419166666666669,"District Heating",1,0.86582999999999999,null,null,null,null,null,null,"District Heating",1,0.54683999999999999,null,null,null,null,null,null,null,null,null,null,null,null,null,null,null,null,null,null,125,"Auto",20,20000]
[null,null,null,null,null,null,null,null,null,0,0,0,0]
[]
["Street Utilities"]
["General description",null,null,"Energy performance"]
["Outdoor lighting","Year of installation","# units","Energy performance\nCategory","Energy consumption\n[kWh/unit]"]
["Utendørsbelysning",1980,500,"Low efficiency",550]
[]
["Snow Melt Systems","Year of installation","Size [m2]","Energy performance\nCategory","Energy consumption\n[kWh/m2]","Energy source","Efficiency/COP\n[-]"]
["Snøsmeltesystem skole og fotballbane",1980,200,"Low efficiency",350,"Electric heater",0.88209000000000004]
[]
[]
["Local energy plant"]
["Energy Source",null,null,null,"Heating to District Heating system",null,"Cooling to District Cooling system",null,"Electricity to grid"]
["Type","Energy Source","CO2 Emission\n[g/kWh]","Efficiceny\n[%]","Capacity\n[kW]","Production\n[kWh]","Capacity\n[kW]","Production\n[kWh]","Capacity\n[kW]","Production\n[kWh]"]
[]
[]
[]
["District Heating"]
["Energy Source",null,null,null,"Distribution"]
["Heat Source","Coverage [%]","CO2 Emission\n[g/kWh]","Production \nefficiency\n[%]","Distribution\n losses"]
["Electricity",0.28999999999999998,123,0.95,0.1]
["Heat Pump",null,123,3.125]
["Solar Collector",null,0,1]
["Waste Heat",null,0,0.9]
["Waste Incineration",0.4,11,0.9]
["Wood Chips",0.31,18,0.9]
["Pellets",null,19,0.9]
["Bio-oil",null,10,0.9]
["Bio-gas",null,10,0.9]
["Fossile Oil",null,268,0.9]
["LPG",null,235,0.9]
[]
[]
["Transport"]
["Population",null,null,null,"Trip Generation",null,null,null,null,null,"Travel method distribution",null,null,null,null,null,"Location:",null,"Oslo",null,null,null," ",null,null,null,null,null,"Parking Capacity"]
[null,null,null,null,"Users",null,null,null,null,"Other Users","Work",null,null,"Service",null,null,"Private errand",null,null,"Other",null,null,"Average distance",null,"# passengers",null,null,"Public Transport","Factor","Distribution of reduction"]
["Building Category","Area [m2]","residents/ employees\n[#]","Res above 13y/ Other Users \n[#]","Work","Service","Private errand","Utside Service","Goods transport",null,"Walk/bike","Public transport","Car","Walk/bike","Public transport","Car","Walk/bike","Public transport","Car","Walk/bike","Public transport","Car","Public\nTransport","Car","Buss","Rail","Car","% using track","1-0","Walk/\nBike","Public\nTransport","Car sharing"]
["Residential individual housing",{"$f":"SUMIF(BuildingCategoryRange,A49,BuildingAreaRange)","v":18000},{"$f":"SUMIF(BuildingCategoryRange,A49,BuildingResidentsRange)","v":330},{"$f":"SUMIF(BuildingCategoryRange,A49,BuildingUserRange)","v":277.2},0.8,0.1,1,1.7,0.1,0,0.19,0.47,0.34,0.19,0.28999999999999998,0.52,0.42,0.21,0.37,0.43,0.26,0.31,13.8,16,19.399999999999999,15.7,1.3,0.6,{"$f":"NA()","v":{"$error":"#N/A"}},{"$f":"NA()","v":{"$error":"#N/A"}},{"$f":"NA()","v":{"$error":"#N/A"}},{"$f":"NA()","v":{"$error":"#N/A"}}]
["Residential apartment building",0,0,0,0.8,0.1,1,1.7,0.1,0,0.19,0.47,0.34,0.19,0.28999999999999998,0.52,0.42,0.21,0.37,0.43,0.26,0.31,13.8,16,19.399999999999999,15.7,1.3,0.6,{"$f":"NA()","v":{"$error":"#N/A"}},{"$f":"NA()","v":{"$error":"#N/A"}},{"$f":"NA()","v":{"$error":"#N/A"}},{"$f":"NA()","v":{"$error":"#N/A"}}]
["Office building",0,0,0,1.6,0.6,0.2,0.1,0.2,1.43,0.19,0.47,0.34,0.19,0.28999999999999998,0.52,0.42,0.21,0.37,0.43,0.26,0.31,13.8,16,19.399999999999999,15.7,1.3,0.6,1,0.15,0.75,0.1]
["Kindergarten",0,0,0,1.6,0.6,0.2,0.1,0.2,0.79,0.19,0.47,0.34,0.19,0.28999999999999998,0.52,0.42,0.21,0.37,0.43,0.26,0.31,13.8,16,19.399999999999999,15.7,1.3,0.6,1,0.15,0.75,0.1]
["School",3500,20,200,1.6,0.6,0.2,0.1,0.2,0.83,0.19,0.47,0.34,0.19,0.28999999999999998,0.52,0.42,0.21,0.37,0.43,0.26,0.31,13.8,16,19.399999999999999,15.7,1.3,0.6,1,0.15,0.75,0.1]
["University/Collage",0,0,0,1.6,0.6,0.2,0.1,0.2,0.83,0.19,0.47,0.34,0.19,0.28999999999999998,0.52,0.42,0.21,0.37,0.43,0.26,0.31,13.8,16,19.399999999999999,15.7,1.3,0.6,1,0.15,0.75,0.1]
["Hospital",0,0,0,1.6,0.6,0.2,0.1,0.2,2,0.19,0.47,0.34,0.19,0.28999999999999998,0.52,0.42,0.21,0.37,0.43,0.26,0.31,13.8,16,19.399999999999999,15.7,1.3,0.6,1,0.15,0.75,0.1]
["Nursing home",8000,200,150,1.6,0.6,0.2,0.1,0.2,2,0.19,0.47,0.34,0.19,0.28999999999999998,0.52,0.42,0.21,0.37,0.43,0.26,0.31,13.8,16,19.399999999999999,15.7,1.3,0.6,1,0.15,0.75,0.1]
["Hotel",0,0,0,1.6,0.6,0.2,0.1,0.2,2.4500000000000002,0.19,0.47,0.34,0.19,0.28999999999999998,0.52,0.42,0.21,0.37,0.43,0.26,0.31,13.8,16,19.399999999999999,15.7,1.3,0.6,1,0.15,0.75,0.1]
["Sports Facility",7000,6,200,1.6,0.6,0.2,0.1,0.2,0,0.19,0.47,0.34,0.19,0.28999999999999998,0.52,0.42,0.21,0.37,0.43,0.26,0.31,13.8,16,19.399999999999999,15.7,1.3,0.6,1,0.15,0.75,0.1]
["Comercial building",500,10,250,1.6,0.2,0.1,0.1,1,1.65,0.19,0.47,0.34,0.19,0.28999999999999998,0.52,0.42,0.21,0.37,0.43,0.26,0.31,13.8,16,19.399999999999999,15.7,1.3,0.6,1,0.15,0.75,0.1]
["Cultural building",0,0,0,1.6,0.6,0.2,0.1,0.2,1.65,0.19,0.47,0.34,0.19,0.28999999999999998,0.52,0.42,0.21,0.37,0.43,0.26,0.31,13.8,16,19.399999999999999,15.7,1.3,0.6,1,0.15,0.75,0.1]
["Industry/Workshop",0,0,0,1.6,0.2,0.1,0.1,1,0,0.19,0.47,0.34,0.19,0.28999999999999998,0.52,0.42,0.21,0.37,0.43,0.26,0.31,13.8,16,19.399999999999999,15.7,1.3,0.6,1,0.15,0.75,0.1]
[null,null,null,null,{"$error":"#N/A"},{"$error":"#N/A"},{"$error":"#N/A"},{"$error":"#N/A"},{"$error":"#N/A"},{"$error":"#N/A"}]
[null,"Energy intensity",null,"CO2 emission factors",null,"Share of travels"]
["Means of transport","Fossile \n[kwh/vkm]","Electric\n[kWh/vkm]","Fossile \n[g/vkm]","Electric\n[g/vkm]","% Electric",null,null,null,null,null,null,null,null,null,null,null,null,null,null,null,null,null,null,null,{"$f":"COUNTBLANK(TransportRailPassengersNumberRange)","v":0}]
["Buss",3.6910324074074068,1.28,1166.3662407407407,157.44,1,null,null,null,null,null,null,null,null,null,null,null,null,null,null,null,null,null,null,null,{"$f":"COUNT(TransportRailPassengersNumberRange)","v":13}]
["Rail",14.5,2.2000000000000002,4582.0000000000009,270.60000000000002,1]
["Car",0.62648611111111108,0.17,200.61538020833333,20.91,0.4]
["Truck",0.74831944444444431,0.6,236.46894444444445,73.8,0.2]
["Emission boundary:","Direct emissions and fuel production emissions"]
["Fossil rail method:","Diesel train"]
["Electric rail method in standard values:","Metro (Oslo)"]

{"sheet":"KPI 1","index":13,"n_rows":6,"n_cols":8,"rows_kept":6,"cut":false,"hidden":false,"merged":[]}
["CO2 emissions","Initial","Baseline","Scenario1","Scenario12","Scenario1r8","Scenario123","Goal"]
["Year",2018,2030,2030,2030,2030,2030,2030]
["Total",2218.773465792633,1237.5212664008193,931.74428394870256,931.74428394870256,931.74428394870256,931.74428394870256,866.26488648057352]
["Stationary Energy",1907.9961925294676,897.38883328798556,626.42810313137215,626.42810313137215,626.42810313137215,626.42810313137215]
["Mobility",310.7772732631654,340.13243311283372,305.31618081733041,305.31618081733041,305.31618081733041,305.31618081733041]
["Materials",0,0,0,0,0,0]

{"sheet":"KPI 2","index":14,"n_rows":6,"n_cols":8,"rows_kept":6,"cut":false,"hidden":false,"merged":[]}
["CO2 emissions","Initial","Baseline","Scenario1","Scenario12","Scenario1r8","Scenario123","Goal"]
["Year",2018,2030,2030,2030,2030,2030,2030]
["Total",7.6509429854918376E-2,3.3446520713535655E-2,2.5182277944559527E-2,2.5182277944559527E-2,2.5182277944559527E-2,2.5182277944559527E-2,2.0067912428121393E-2]
["Stationary Energy",6.5792972156188539E-2,2.4253752251026637E-2,1.6930489273820869E-2,1.6930489273820869E-2,1.6930489273820869E-2,1.6930489273820869E-2]
["Mobility",1.0716457698729842E-2,9.1927684625090194E-3,8.2517886707386603E-3,8.2517886707386603E-3,8.2517886707386603E-3,8.2517886707386603E-3]
["Materials",0,0,0,0,0,0]

{"sheet":"KPI 3","index":15,"n_rows":8,"n_cols":8,"rows_kept":8,"cut":false,"hidden":false,"merged":[]}
["Energy Use","Initial","Baseline","Scenario1","Scenario12","Scenario1r8","Scenario123","Goal"]
["Year",2018,2030,2030,2030,2030,2030,2030]
["Total",9665413.7322318964,11521268.135018937,7211393.6324887257,7211393.6324887257,7211393.6324887257,7211393.6324887257,7732330.9857855169]
["Residential buildings",3012527.4346745126,3012527.4346745126,3012527.4346745126,3012527.4346745126,3012527.4346745126,3012527.4346745126]
["Public buildings",5078400.4997012662,6723558.4051986206,2496884.3480521096,2496884.3480521096,2496884.3480521096,2496884.3480521096]
["Private buildings",180156.59790798044,180156.59790798044,180156.59790798044,180156.59790798044,180156.59790798044,180156.59790798044]
["Street Utilities",354356.98171388404,354356.98171388404,354356.98171388404,354356.98171388404,354356.98171388404,354356.98171388404]
["Transport",1039972.2182342511,1250668.7155239375,1167468.2701402381,1167468.2701402381,1167468.2701402381,1167468.2701402381]

{"sheet":"KPI 4","index":16,"n_rows":8,"n_cols":8,"rows_kept":8,"cut":false,"hidden":false,"merged":[]}
["Energy Use","Initial","Baseline","Scenario1","Scenario12","Scenario1r8","Scenario123","Goal"]
["Year",2018,2030,2030,2030,2030,2030,2030]
["Total",333.2901286976516,311.3856252707821,194.90253060780339,194.90253060780339,194.90253060780339,194.90253060780339,266.63210295812127]
["Residential buildings",103.88025636808663,81.41966039660845,81.41966039660845,81.41966039660845,81.41966039660845,81.41966039660845]
["Public buildings",175.11725861038849,181.71779473509787,67.483360758165119,67.483360758165119,67.483360758165119,67.483360758165119]
["Private buildings",6.2122964795855324,4.8690972407562283,4.8690972407562283,4.8690972407562283,4.8690972407562283,4.8690972407562283]
["Street Utilities",12.219206265996002,9.5772157219968665,9.5772157219968665,9.5772157219968665,9.5772157219968665,9.5772157219968665]
["Transport",35.861110973594869,33.801857176322635,31.553196490276704,31.553196490276704,31.553196490276704,31.553196490276704]